BEGIN:VCALENDAR
VERSION:2.0
PRODID:-//Efficiency First California - ECPv6.8.2.1//NONSGML v1.0//EN
CALSCALE:GREGORIAN
METHOD:PUBLISH
X-WR-CALNAME:Efficiency First California
X-ORIGINAL-URL:https://efficiencyfirstca.org
X-WR-CALDESC:Events for Efficiency First California
REFRESH-INTERVAL;VALUE=DURATION:PT1H
X-Robots-Tag:noindex
X-PUBLISHED-TTL:PT1H
BEGIN:VTIMEZONE
TZID:America/Los_Angeles
BEGIN:DAYLIGHT
TZOFFSETFROM:-0800
TZOFFSETTO:-0700
TZNAME:PDT
DTSTART:20250309T100000
END:DAYLIGHT
BEGIN:STANDARD
TZOFFSETFROM:-0700
TZOFFSETTO:-0800
TZNAME:PST
DTSTART:20251102T090000
END:STANDARD
END:VTIMEZONE
BEGIN:VEVENT
DTSTART;TZID=America/Los_Angeles:20250306T110000
DTEND;TZID=America/Los_Angeles:20250306T120000
DTSTAMP:20260420T033704
CREATED:20250222T045254Z
LAST-MODIFIED:20250222T045254Z
UID:65910-1741258800-1741262400@efficiencyfirstca.org
SUMMARY:Adding Solar & Storage to Existing NEM 1 & NEM 2 Systems
DESCRIPTION:As energy needs grow\, many homeowners with existing solar systems realize their current setup may no longer cover increased usage but don’t want to lose their NEM status. Whether you’re adding electric appliances or electric vehicle\, or looking to add a battery to protect against power shut-off event this webinar will help you navigate expanding your solar system and integrating battery storage while preserving or optimizing your Net Energy Metering (NEM) agreement. You’ll learn when keeping your current NEM benefits makes sense\, when switching could save you more\, and how to design an energy system that aligns with your long-term goals.\nKey Takeaways:\n✅ How adding solar or batteries impacts your NEM plan\n✅ How to add solar without losing your NEM status\n✅ How to size your system for increased demand\n✅ Which upgrade paths acheives key energy goals \nAbout the Instructor: Spencer Rosen is a home energy expert\, educator\, and founder of Home Energy Academy. With 1\,000+ home energy evaluations\, 100+ whole-home energy projects\, and oversight of 100\,000+ solar and storage system installations\, Spencer brings real-world expertise in energy efficiency\, solar\, storage\, and electrification. He has led 100+ homeowner and professional training sessions for California utilities\, helping participants confidently navigate solar and battery upgrades.
URL:https://efficiencyfirstca.org/event/adding-solar-storage-to-existing-nem-1-nem-2-systems/
LOCATION:Online
CATEGORIES:San Diego LEARN
END:VEVENT
END:VCALENDAR