BEGIN:VCALENDAR
VERSION:2.0
PRODID:-//Efficiency First California - ECPv6.8.2.1//NONSGML v1.0//EN
CALSCALE:GREGORIAN
METHOD:PUBLISH
X-WR-CALNAME:Efficiency First California
X-ORIGINAL-URL:https://efficiencyfirstca.org
X-WR-CALDESC:Events for Efficiency First California
REFRESH-INTERVAL;VALUE=DURATION:PT1H
X-Robots-Tag:noindex
X-PUBLISHED-TTL:PT1H
BEGIN:VTIMEZONE
TZID:America/Los_Angeles
BEGIN:DAYLIGHT
TZOFFSETFROM:-0800
TZOFFSETTO:-0700
TZNAME:PDT
DTSTART:20240310T100000
END:DAYLIGHT
BEGIN:STANDARD
TZOFFSETFROM:-0700
TZOFFSETTO:-0800
TZNAME:PST
DTSTART:20241103T090000
END:STANDARD
END:VTIMEZONE
BEGIN:VEVENT
DTSTART;TZID=America/Los_Angeles:20240912T140000
DTEND;TZID=America/Los_Angeles:20240912T160000
DTSTAMP:20260420T032650
CREATED:20240620T003239Z
LAST-MODIFIED:20240620T003239Z
UID:64082-1726149600-1726156800@efficiencyfirstca.org
SUMMARY:ALL-ELECTRIC ACCESSORY DWELLING UNITS (ADUS)
DESCRIPTION:Event Description \nAll-electric homes are becoming more and more common in California. Accessory Dwelling Units (ADUs) are also becoming a common way to house people in California. This program is a unique opportunity to tour a new 1-bedroom all-electric ADU built above an existing garage in Long Beach\, and to see the systems required to build all-electric: heat pumps\, heat pump water heaters\, induction ranges\, and heat pump clothes dryers. Plus\, this ADU was built using Structural Insulated Panel System (SIPS) and went up in 7 days; the ADU tested at Passivhaus airtightness as a result of the owner’s focus on the building envelope. Also incorporated into this ADU build is a Heat Recovery Ventilator and a 12-panel PV system. Nick Brown\, President of Build Smart Group\, is the owner and will speak about the need to electrify homes to meet California’s climate goals. \nLearning Objectives \n\nIdentify and describe the all-electric systems necessary to build all-electric ADUs\nVirtually tour the project and see first-hand the functionality of heat pump water heaters\, SIPs panels\, and Heat Recovery Ventilators.\nDefine the difference between Net Zero Energy and Net Zero Carbon\nDetail the energy-saving benefits of a high-performance all-electric ADU
URL:https://efficiencyfirstca.org/event/all-electric-accessory-dwelling-units-adus/
LOCATION:Online
CATEGORIES:3C-REN
END:VEVENT
END:VCALENDAR