BEGIN:VCALENDAR
VERSION:2.0
PRODID:-//Efficiency First California - ECPv6.8.2.1//NONSGML v1.0//EN
CALSCALE:GREGORIAN
METHOD:PUBLISH
X-WR-CALNAME:Efficiency First California
X-ORIGINAL-URL:https://efficiencyfirstca.org
X-WR-CALDESC:Events for Efficiency First California
REFRESH-INTERVAL;VALUE=DURATION:PT1H
X-Robots-Tag:noindex
X-PUBLISHED-TTL:PT1H
BEGIN:VTIMEZONE
TZID:America/Los_Angeles
BEGIN:DAYLIGHT
TZOFFSETFROM:-0800
TZOFFSETTO:-0700
TZNAME:PDT
DTSTART:20240310T100000
END:DAYLIGHT
BEGIN:STANDARD
TZOFFSETFROM:-0700
TZOFFSETTO:-0800
TZNAME:PST
DTSTART:20241103T090000
END:STANDARD
END:VTIMEZONE
BEGIN:VEVENT
DTSTART;VALUE=DATE:20240523
DTEND;VALUE=DATE:20240524
DTSTAMP:20260417T190129
CREATED:20240201T062127Z
LAST-MODIFIED:20240502T055528Z
UID:63182-1716422400-1716508799@efficiencyfirstca.org
SUMMARY:California Green Building Conference
DESCRIPTION:Welcome back to the California Green Building Conference \n\n\n\n(previously known as MyGBCE–and\, my\, how we’ve grown!) \nPresented by the U.S. Green Building Council – Los Angeles \nAs the largest and longest-running gathering of green building advocates in California\, this event has evolved into a statewide sustainability experience! \nThis year\, we are extending our reach to cover the entirety of California\, bringing together advocates and companies from across the state. Join us in uniting the entire region for a thorough exploration of green building and sustainability practices\, addressing a wide range of topics and issues that resonate throughout California. \nThis event is open to everyone! Kickstart or elevate your journey in the sustainability field! \nDon’t miss out on this exciting blend of education\, networking\, and celebration. Secure your spot at the California Conference on Green Building and Sustainability Expo and be a catalyst for positive change! \nBy attending the California Conference\, you’re not just participating in an event; you’re contributing to a sustainable future for California. \nMore info and our agenda will be coming soon. Stay tuned!
URL:https://efficiencyfirstca.org/event/california-green-building-conference/
LOCATION:The Beehive\, 1000 E 60th St\, Los Angeles\, California\, 90001
CATEGORIES:USGBC
END:VEVENT
END:VCALENDAR