BEGIN:VCALENDAR
VERSION:2.0
PRODID:-//Efficiency First California - ECPv6.8.2.1//NONSGML v1.0//EN
CALSCALE:GREGORIAN
METHOD:PUBLISH
X-WR-CALNAME:Efficiency First California
X-ORIGINAL-URL:https://efficiencyfirstca.org
X-WR-CALDESC:Events for Efficiency First California
REFRESH-INTERVAL;VALUE=DURATION:PT1H
X-Robots-Tag:noindex
X-PUBLISHED-TTL:PT1H
BEGIN:VTIMEZONE
TZID:America/Los_Angeles
BEGIN:DAYLIGHT
TZOFFSETFROM:-0800
TZOFFSETTO:-0700
TZNAME:PDT
DTSTART:20240310T100000
END:DAYLIGHT
BEGIN:STANDARD
TZOFFSETFROM:-0700
TZOFFSETTO:-0800
TZNAME:PST
DTSTART:20241103T090000
END:STANDARD
END:VTIMEZONE
BEGIN:VEVENT
DTSTART;TZID=America/Los_Angeles:20240626T120000
DTEND;TZID=America/Los_Angeles:20240626T130000
DTSTAMP:20260417T164456
CREATED:20240620T022940Z
LAST-MODIFIED:20240620T022940Z
UID:64090-1719403200-1719406800@efficiencyfirstca.org
SUMMARY:Choosing a low carbon\, high performing insulation
DESCRIPTION:Hempitecture CEO\, Matthew Mead\, provides an overview of the natural fiber insulation market that is rapidly developing to support low embodied carbon construction. Reviewing different products and strategies\, this session will discuss how to achieve the lowest total carbon footprint for a project after accounting for both embodied carbon and operational carbon in the building. \nLearning Objectives: \n\nDiscover low embodied carbon insulations.\nLearn about natural fiber insulation product forms (batt\, loose-fill\, board).\nUnderstand how to measure in-wall performance (R-value + thermal mass + air penetration + vapor permeability).\nDemonstrate installing to maximize reported performance.
URL:https://efficiencyfirstca.org/event/choosing-a-low-carbon-high-performing-insulation/
LOCATION:Online
CATEGORIES:EEBA
END:VEVENT
END:VCALENDAR