BEGIN:VCALENDAR
VERSION:2.0
PRODID:-//Efficiency First California - ECPv6.8.2.1//NONSGML v1.0//EN
CALSCALE:GREGORIAN
METHOD:PUBLISH
X-WR-CALNAME:Efficiency First California
X-ORIGINAL-URL:https://efficiencyfirstca.org
X-WR-CALDESC:Events for Efficiency First California
REFRESH-INTERVAL;VALUE=DURATION:PT1H
X-Robots-Tag:noindex
X-PUBLISHED-TTL:PT1H
BEGIN:VTIMEZONE
TZID:America/Los_Angeles
BEGIN:DAYLIGHT
TZOFFSETFROM:-0800
TZOFFSETTO:-0700
TZNAME:PDT
DTSTART:20240310T100000
END:DAYLIGHT
BEGIN:STANDARD
TZOFFSETFROM:-0700
TZOFFSETTO:-0800
TZNAME:PST
DTSTART:20241103T090000
END:STANDARD
END:VTIMEZONE
BEGIN:VEVENT
DTSTART;TZID=America/Los_Angeles:20240911T153000
DTEND;TZID=America/Los_Angeles:20240911T170000
DTSTAMP:20260420T032044
CREATED:20240824T050244Z
LAST-MODIFIED:20240824T050244Z
UID:64486-1726068600-1726074000@efficiencyfirstca.org
SUMMARY:Heat Pump Water Heater (HPWH) Installs for Plumbers & HVAC Technicians
DESCRIPTION:Event Description \nHeat pump water heaters are where California is headed\, and this workforce education aims to smooth that transition. Learn from experts how to install heat pump water heaters so they provide reliable and efficient hot water on your projects. Designed for plumbers and HVAC technicians with hands-on material\, this training will be useful to all audiences. \nLearning Objectives \n\nUnderstand why we need HPWHs\nDistinguish how HPWHs are different from typical water heaters\nAcquire practical skills through a hands-on demonstration on installing a HPWH in a closet\nUnderstand the importance of Air Flow\nExplore the do’s and don’ts of installation based on real-life examples
URL:https://efficiencyfirstca.org/event/heat-pump-water-heater-hpwh-installs-for-plumbers-hvac-technicians/
LOCATION:Online
CATEGORIES:3C-REN
END:VEVENT
END:VCALENDAR