BEGIN:VCALENDAR
VERSION:2.0
PRODID:-//Efficiency First California - ECPv6.8.2.1//NONSGML v1.0//EN
CALSCALE:GREGORIAN
METHOD:PUBLISH
X-WR-CALNAME:Efficiency First California
X-ORIGINAL-URL:https://efficiencyfirstca.org
X-WR-CALDESC:Events for Efficiency First California
REFRESH-INTERVAL;VALUE=DURATION:PT1H
X-Robots-Tag:noindex
X-PUBLISHED-TTL:PT1H
BEGIN:VTIMEZONE
TZID:America/Los_Angeles
BEGIN:DAYLIGHT
TZOFFSETFROM:-0800
TZOFFSETTO:-0700
TZNAME:PDT
DTSTART:20230312T100000
END:DAYLIGHT
BEGIN:STANDARD
TZOFFSETFROM:-0700
TZOFFSETTO:-0800
TZNAME:PST
DTSTART:20231105T090000
END:STANDARD
END:VTIMEZONE
BEGIN:VEVENT
DTSTART;TZID=America/Los_Angeles:20230829T090000
DTEND;TZID=America/Los_Angeles:20230829T103000
DTSTAMP:20260418T002651
CREATED:20230719T014157Z
LAST-MODIFIED:20230719T014157Z
UID:62160-1693299600-1693305000@efficiencyfirstca.org
SUMMARY:Home Electrification Planning – Class 2: Panel Optimization
DESCRIPTION:As California makes the transition to electrification\, careful planning will be crucial for existing buildings. This three-part series will cover the importance of electrification planning\, how to optimize existing electrical capacity to avoid costly and often unnecessary panel upgrades\, selecting the most efficient equipment that will keep homeowners comfortable and happy\, and putting together a comprehensive\, detailed\, and customized plan that will set homeowners and contractors up for success. Despite popular beliefs\, increasing panel capacity in order to electrify a home is not always necessary. Many homes can be fully electrified on existing panel capacity if the panel space is optimized. The second webinar of the series will focus on determining the existing load\, incorporating planned electrification upgrades\, and optimizing existing electrical panel capacity\, which will save homeowners from having to make costly upgrades\, and protect the grid from being overburdened and requiring major infrastructure upgrades.
URL:https://efficiencyfirstca.org/event/home-electrification-planning-class-2-panel-optimization/
CATEGORIES:3C-REN,Association for Energy Affordability,Energy Code Ace,Southern California Edison
END:VEVENT
END:VCALENDAR