BEGIN:VCALENDAR
VERSION:2.0
PRODID:-//Efficiency First California - ECPv6.8.2.1//NONSGML v1.0//EN
CALSCALE:GREGORIAN
METHOD:PUBLISH
X-WR-CALNAME:Efficiency First California
X-ORIGINAL-URL:https://efficiencyfirstca.org
X-WR-CALDESC:Events for Efficiency First California
REFRESH-INTERVAL;VALUE=DURATION:PT1H
X-Robots-Tag:noindex
X-PUBLISHED-TTL:PT1H
BEGIN:VTIMEZONE
TZID:America/Los_Angeles
BEGIN:DAYLIGHT
TZOFFSETFROM:-0800
TZOFFSETTO:-0700
TZNAME:PDT
DTSTART:20240310T100000
END:DAYLIGHT
BEGIN:STANDARD
TZOFFSETFROM:-0700
TZOFFSETTO:-0800
TZNAME:PST
DTSTART:20241103T090000
END:STANDARD
END:VTIMEZONE
BEGIN:VEVENT
DTSTART;TZID=America/Los_Angeles:20241121T090000
DTEND;TZID=America/Los_Angeles:20241121T103000
DTSTAMP:20260417T201858
CREATED:20241025T003935Z
LAST-MODIFIED:20241025T003935Z
UID:64986-1732179600-1732185000@efficiencyfirstca.org
SUMMARY:HRV and ERV Basics
DESCRIPTION:Event Description \nHRV and ERV Basics will provide introductory level information about HRVs and ERVs and how they are installed in today’s homes. Information will be provided to enable learners to achieve the following learning objectives: \n\nDescribe how HRVs and ERVs provide fresh air into a home.\nIdentify the components of HRV and ERV systems.\nRecognize and plan for climate and occupancy in system design.\nExplain the difference between HRVs and ERVs and accurately select the appropriate system.\nUnderstand energy savings that can be achieved through correct installation of an HRV.\nDevelop basic system design: understanding specifications\, system types and sizing\, placement\, airflows\, system types and configurations.\n\nLearning Units  \n1 AIA LU Pending for this course \nInstructor \nEric Fenno\, Small Planet Supply
URL:https://efficiencyfirstca.org/event/hrv-and-erv-basics/
LOCATION:Online
CATEGORIES:3C-REN
END:VEVENT
END:VCALENDAR