BEGIN:VCALENDAR
VERSION:2.0
PRODID:-//Efficiency First California - ECPv6.8.2.1//NONSGML v1.0//EN
CALSCALE:GREGORIAN
METHOD:PUBLISH
X-WR-CALNAME:Efficiency First California
X-ORIGINAL-URL:https://efficiencyfirstca.org
X-WR-CALDESC:Events for Efficiency First California
REFRESH-INTERVAL;VALUE=DURATION:PT1H
X-Robots-Tag:noindex
X-PUBLISHED-TTL:PT1H
BEGIN:VTIMEZONE
TZID:America/Los_Angeles
BEGIN:DAYLIGHT
TZOFFSETFROM:-0800
TZOFFSETTO:-0700
TZNAME:PDT
DTSTART:20250309T100000
END:DAYLIGHT
BEGIN:STANDARD
TZOFFSETFROM:-0700
TZOFFSETTO:-0800
TZNAME:PST
DTSTART:20251102T090000
END:STANDARD
END:VTIMEZONE
BEGIN:VEVENT
DTSTART;TZID=America/Los_Angeles:20250210T180000
DTEND;TZID=America/Los_Angeles:20250210T200000
DTSTAMP:20260419T064135
CREATED:20250204T042117Z
LAST-MODIFIED:20250204T042117Z
UID:65771-1739210400-1739217600@efficiencyfirstca.org
SUMMARY:IHACI - Electrical Module Part 3 (Virtual)
DESCRIPTION:This four-part series provides practical fundamentals and theory behind basic electricity\, as well as knowledge of electrical symbols\, components\, wiring diagrams\, electronics\, and electrical systems. Get the comprehensive skill sets you need to properly install\, commission\, maintain\, service and diagnose electrical systems. Learn how to verify when electrical systems are safe\, reliable\, and operate at the correct settings for the highest energy efficiency possible. \nPart 3 – Different Electrical Components Found in the HVAC/R Industry: \n\nQuality Maintenance of electrical systems as they apply to the California market (CAQM) including proper system maintenance after installation\, component replacements and field instruments used for measuring voltage\, amperage\, resistance\, capacitance\, and watts.
URL:https://efficiencyfirstca.org/event/ihaci-electrical-module-part-3-virtual/
LOCATION:Online
CATEGORIES:SoCalGas
ORGANIZER;CN="So Cal Gas":MAILTO:ERC@socalgas.com
END:VEVENT
END:VCALENDAR