BEGIN:VCALENDAR
VERSION:2.0
PRODID:-//Efficiency First California - ECPv6.8.2.1//NONSGML v1.0//EN
CALSCALE:GREGORIAN
METHOD:PUBLISH
X-WR-CALNAME:Efficiency First California
X-ORIGINAL-URL:https://efficiencyfirstca.org
X-WR-CALDESC:Events for Efficiency First California
REFRESH-INTERVAL;VALUE=DURATION:PT1H
X-Robots-Tag:noindex
X-PUBLISHED-TTL:PT1H
BEGIN:VTIMEZONE
TZID:America/Los_Angeles
BEGIN:DAYLIGHT
TZOFFSETFROM:-0800
TZOFFSETTO:-0700
TZNAME:PDT
DTSTART:20240310T100000
END:DAYLIGHT
BEGIN:STANDARD
TZOFFSETFROM:-0700
TZOFFSETTO:-0800
TZNAME:PST
DTSTART:20241103T090000
END:STANDARD
END:VTIMEZONE
BEGIN:VEVENT
DTSTART;TZID=America/Los_Angeles:20241121T160000
DTEND;TZID=America/Los_Angeles:20241121T173000
DTSTAMP:20260416T234423
CREATED:20241113T025533Z
LAST-MODIFIED:20241113T025533Z
UID:65124-1732204800-1732210200@efficiencyfirstca.org
SUMMARY:USGBC-CA Webinar: Delivering Building Decarbonization at Home
DESCRIPTION:In this info session\, we will share case studies around electrification\, including lessons learned around technology deployment and community engagement.\n\n\n\n\nJoin us to learn about some of our recent work on electrification and building decarbonization in low-income communities in Los Angeles through our Green Homes California Program. \nThis initiative drives innovative\, market-leading programs in communities on the frontlines of climate change. We engage with building owners\, managers\, and residents to drive cultural change and education that accelerates the decarbonization of existing single- and multifamily housing. We will explore several case studies around our deployment of heat pumps\, EV charging\, and more!
URL:https://efficiencyfirstca.org/event/usgbc-ca-webinar-delivering-building-decarbonization-at-home/
LOCATION:Online
CATEGORIES:San Diego Building Electrification Coalition
END:VEVENT
END:VCALENDAR