BEGIN:VCALENDAR
VERSION:2.0
PRODID:-//Efficiency First California - ECPv6.8.2.1//NONSGML v1.0//EN
CALSCALE:GREGORIAN
METHOD:PUBLISH
X-ORIGINAL-URL:https://efficiencyfirstca.org
X-WR-CALDESC:Events for Efficiency First California
REFRESH-INTERVAL;VALUE=DURATION:PT1H
X-Robots-Tag:noindex
X-PUBLISHED-TTL:PT1H
BEGIN:VTIMEZONE
TZID:America/Los_Angeles
BEGIN:DAYLIGHT
TZOFFSETFROM:-0800
TZOFFSETTO:-0700
TZNAME:PDT
DTSTART:20230312T100000
END:DAYLIGHT
BEGIN:STANDARD
TZOFFSETFROM:-0700
TZOFFSETTO:-0800
TZNAME:PST
DTSTART:20231105T090000
END:STANDARD
END:VTIMEZONE
BEGIN:VEVENT
DTSTART;TZID=America/Los_Angeles:20230802T113000
DTEND;TZID=America/Los_Angeles:20230802T123000
DTSTAMP:20260424T141218
CREATED:20230719T004158Z
LAST-MODIFIED:20230719T004158Z
UID:62128-1690975800-1690979400@efficiencyfirstca.org
SUMMARY:Electrification 101: Electrical Panel Optimization
DESCRIPTION:Whole-home electrification is possible with a 100-Amp electric panel. Home-owners can save thousands of dollars and\, in some cases\, months of time waiting for a new service line to be installed. In this webinar we will explore the electric code\, methods of electrifying without upsizing\, and important pitfalls to avoid. As motivated decarbonizers\, Tom Kabat and Josie Gaillard will share their techniques for code compliance\, project design\, equipment selection\, and electrification plans that save time and money.
URL:https://efficiencyfirstca.org/event/electrification-101-electrical-panel-optimization/
CATEGORIES:3C-REN,Association for Energy Affordability,Southern California Edison
END:VEVENT
END:VCALENDAR