BEGIN:VCALENDAR
VERSION:2.0
PRODID:-//Efficiency First California - ECPv6.8.2.1//NONSGML v1.0//EN
CALSCALE:GREGORIAN
METHOD:PUBLISH
X-ORIGINAL-URL:https://efficiencyfirstca.org
X-WR-CALDESC:Events for Efficiency First California
REFRESH-INTERVAL;VALUE=DURATION:PT1H
X-Robots-Tag:noindex
X-PUBLISHED-TTL:PT1H
BEGIN:VTIMEZONE
TZID:America/Los_Angeles
BEGIN:DAYLIGHT
TZOFFSETFROM:-0800
TZOFFSETTO:-0700
TZNAME:PDT
DTSTART:20230312T100000
END:DAYLIGHT
BEGIN:STANDARD
TZOFFSETFROM:-0700
TZOFFSETTO:-0800
TZNAME:PST
DTSTART:20231105T090000
END:STANDARD
END:VTIMEZONE
BEGIN:VEVENT
DTSTART;TZID=America/Los_Angeles:20230809T090000
DTEND;TZID=America/Los_Angeles:20230809T103000
DTSTAMP:20260423T102603
CREATED:20230719T015402Z
LAST-MODIFIED:20230719T015402Z
UID:62168-1691571600-1691577000@efficiencyfirstca.org
SUMMARY:BayREN C&S Training: How the Energy Code Treats Electrification
DESCRIPTION:The 2022 Energy Code supports electrification to reduce greenhouse gas emissions. Electric appliances such as heat pump water heaters\, heat pump space conditioners\, and induction cooktops are impacted by different aspects of the building code as well as planning and zoning. With increased incentives and reach codes driving toward electrification\, the projects submitted for permits may vary from previous business as usual upgrades. This class will focus on the energy and green building codes for residential as it relates to different electrification technologies. Topics Covered: Discuss the current electrification landscape\, learn about common technologies under an all -electric design\, understand the opportunities to reduce emissions and how the 2022 Energy Code and other codes applies to all electric buildings.
URL:https://efficiencyfirstca.org/event/bayren-cs-training-how-the-energy-code-treats-electrification/
CATEGORIES:3C-REN,Association for Energy Affordability,Energy Code Ace,Southern California Edison
END:VEVENT
BEGIN:VEVENT
DTSTART;TZID=America/Los_Angeles:20230809T140000
DTEND;TZID=America/Los_Angeles:20230809T160000
DTSTAMP:20260423T102603
CREATED:20230719T013610Z
LAST-MODIFIED:20230719T013610Z
UID:62156-1691589600-1691596800@efficiencyfirstca.org
SUMMARY:Breaking Barriers - Energy Friendly Permitting
DESCRIPTION:Energy efficiency and electrification projects have become a focus across the state. Permitting is a necessary step to ensure we are meeting our goals\, but is also a significant barrier.  In this virtual forum\, we will have speakers share best practices and strategies for permitting processes\, which may include transitioning to online permitting\, virtual inspection\, energy friendly permit programs\, and more. Speakers will also address common challenges to permitting for electrification\, e.g. setbacks\, noise levels\, panel sizing/utility pushback.  Join 3C-REN in identifying obstacles\, solutions\, and resources for our region through facilitated discussion. 
URL:https://efficiencyfirstca.org/event/breaking-barriers-energy-friendly-permitting/
CATEGORIES:3C-REN,Association for Energy Affordability,Southern California Edison
END:VEVENT
END:VCALENDAR