BEGIN:VCALENDAR
VERSION:2.0
PRODID:-//Efficiency First California - ECPv6.8.2.1//NONSGML v1.0//EN
CALSCALE:GREGORIAN
METHOD:PUBLISH
X-WR-CALNAME:Efficiency First California
X-ORIGINAL-URL:https://efficiencyfirstca.org
X-WR-CALDESC:Events for Efficiency First California
REFRESH-INTERVAL;VALUE=DURATION:PT1H
X-Robots-Tag:noindex
X-PUBLISHED-TTL:PT1H
BEGIN:VTIMEZONE
TZID:America/Los_Angeles
BEGIN:DAYLIGHT
TZOFFSETFROM:-0800
TZOFFSETTO:-0700
TZNAME:PDT
DTSTART:20230312T100000
END:DAYLIGHT
BEGIN:STANDARD
TZOFFSETFROM:-0700
TZOFFSETTO:-0800
TZNAME:PST
DTSTART:20231105T090000
END:STANDARD
END:VTIMEZONE
BEGIN:VEVENT
DTSTART;TZID=America/Los_Angeles:20230920T090000
DTEND;TZID=America/Los_Angeles:20230920T110000
DTSTAMP:20260422T110053
CREATED:20230719T012409Z
LAST-MODIFIED:20230719T012409Z
UID:62152-1695200400-1695207600@efficiencyfirstca.org
SUMMARY:Residential Heat Pump Water Heater Technology\, Sales and Installation Challenges Part 2
DESCRIPTION:This course establishes a clear value proposition for residential heat pump water heater scenarios\, while addressing key barriers to their adoption. It also provides targeted sales training to identify customers and opportunities for client-facing staff and stakeholders while delving into key installation considerations including space limitations\, noise\, condensate management\, sizing\, operational modes\, and error codes.
URL:https://efficiencyfirstca.org/event/residential-heat-pump-water-heater-technology-sales-and-installation-challenges-part-2-2/
CATEGORIES:3C-REN,Association for Energy Affordability,Energy Code Ace,Southern California Edison
END:VEVENT
BEGIN:VEVENT
DTSTART;TZID=America/Los_Angeles:20230920T090000
DTEND;TZID=America/Los_Angeles:20230920T120000
DTSTAMP:20260422T110053
CREATED:20230816T003341Z
LAST-MODIFIED:20230816T003341Z
UID:62328-1695200400-1695211200@efficiencyfirstca.org
SUMMARY:Building Resilience: Keeping the Lights on in an All-Electric Future
DESCRIPTION:State and local policies are pushing our built environment toward all-electric buildings in order to save energy and reduce climate impacts\, and at the same time we are experiencing challenges such as wildfires\, heat events\, and brownouts.  Join us to hear about building and community scale solutions that can help create a resilient built environment for everyone\, including energy efficiency\, load shifting\, demand response strategies\, and more. This Forum is free and open to all\, and will be in a hybrid format with options to attend in person or virtually. \nYerba Buena Room (Bay Area Metro Center)\n375 Beale Street\nSan Francisco\, CA 94105
URL:https://efficiencyfirstca.org/event/building-resilience-keeping-the-lights-on-in-an-all-electric-future/
LOCATION:Yerba Buena Room (Bay Area Metro Center)\, 375 Beale Street\, San Francisco\, CA\, 94105\, United States
CATEGORIES:Association for Energy Affordability,Southern California Edison
END:VEVENT
BEGIN:VEVENT
DTSTART;TZID=America/Los_Angeles:20230920T120000
DTEND;TZID=America/Los_Angeles:20230920T133000
DTSTAMP:20260422T110053
CREATED:20230718T060635Z
LAST-MODIFIED:20230718T060635Z
UID:62124-1695211200-1695216600@efficiencyfirstca.org
SUMMARY:Scaling Heat Pump Adoption: BlocPower’s Electrification Journey
DESCRIPTION:BlocPower is a national climate technology company partnered with municipalities and utilities to deliver end-to-end decarbonization retrofits at scale. In this webinar\, you’ll hear BlocPower’s approach to stakeholder alignment\, community engagement and building long-term\, high-value contractor partnerships. Head of Project Operations Leia Sims will walk you through BlocPower’s toolkit for driving decarbonization projects for customers of all income levels and at every stage of the electrification journey—including for buildings that require remediation. You’ll also virtually tour a featured BlocPower electrification project in PG&E service territory.
URL:https://efficiencyfirstca.org/event/scaling-heat-pump-adoption-blocpowers-electrification-journey/
CATEGORIES:3C-REN,Association for Energy Affordability,Southern California Edison
END:VEVENT
END:VCALENDAR