BEGIN:VCALENDAR
VERSION:2.0
PRODID:-//Efficiency First California - ECPv6.8.2.1//NONSGML v1.0//EN
CALSCALE:GREGORIAN
METHOD:PUBLISH
X-WR-CALNAME:Efficiency First California
X-ORIGINAL-URL:https://efficiencyfirstca.org
X-WR-CALDESC:Events for Efficiency First California
REFRESH-INTERVAL;VALUE=DURATION:PT1H
X-Robots-Tag:noindex
X-PUBLISHED-TTL:PT1H
BEGIN:VTIMEZONE
TZID:America/Los_Angeles
BEGIN:DAYLIGHT
TZOFFSETFROM:-0800
TZOFFSETTO:-0700
TZNAME:PDT
DTSTART:20230312T100000
END:DAYLIGHT
BEGIN:STANDARD
TZOFFSETFROM:-0700
TZOFFSETTO:-0800
TZNAME:PST
DTSTART:20231105T090000
END:STANDARD
END:VTIMEZONE
BEGIN:VEVENT
DTSTART;TZID=America/Los_Angeles:20231030T120000
DTEND;TZID=America/Los_Angeles:20231030T133000
DTSTAMP:20260422T110242
CREATED:20230923T031422Z
LAST-MODIFIED:20230923T031422Z
UID:62764-1698667200-1698672600@efficiencyfirstca.org
SUMMARY:Electrify Efficiently: Staging Home Electrification Projects
DESCRIPTION:Part 2 of 5 – October 30\, 2023 (12pm – 1:30pm) \nLong-term planning is essential when it comes to most whole-home electrification journeys. By taking into consideration a customer’s long-term needs alongside their immediate needs\, you can help customers avoid costly mistakes. In this webinar\, participants will hear insights and recommendations on optimal order of operations of electrification installs. These insights come from Electrify My Home’s deep experience on hundreds of real-world electrification projects. Come prepared with questions about your electrification projects.
URL:https://efficiencyfirstca.org/event/electrify-efficiently-staging-home-electrification-projects/
CATEGORIES:3C-REN,Association for Energy Affordability,Southern California Edison
END:VEVENT
END:VCALENDAR