BEGIN:VCALENDAR
VERSION:2.0
PRODID:-//Efficiency First California - ECPv6.8.2.1//NONSGML v1.0//EN
CALSCALE:GREGORIAN
METHOD:PUBLISH
X-ORIGINAL-URL:https://efficiencyfirstca.org
X-WR-CALDESC:Events for Efficiency First California
REFRESH-INTERVAL;VALUE=DURATION:PT1H
X-Robots-Tag:noindex
X-PUBLISHED-TTL:PT1H
BEGIN:VTIMEZONE
TZID:UTC
BEGIN:STANDARD
TZOFFSETFROM:+0000
TZOFFSETTO:+0000
TZNAME:UTC
DTSTART:20230101T000000
END:STANDARD
TZID:America/Los_Angeles
BEGIN:DAYLIGHT
TZOFFSETFROM:-0800
TZOFFSETTO:-0700
TZNAME:PDT
DTSTART:20230312T100000
END:DAYLIGHT
BEGIN:STANDARD
TZOFFSETFROM:-0700
TZOFFSETTO:-0800
TZNAME:PST
DTSTART:20231105T090000
END:STANDARD
END:VTIMEZONE
BEGIN:VEVENT
DTSTART;VALUE=DATE:20231201
DTEND;VALUE=DATE:20240101
DTSTAMP:20260424T065210
CREATED:20231219T092849Z
LAST-MODIFIED:20231219T092849Z
UID:63093-1701388800-1704067199@efficiencyfirstca.org
SUMMARY:Electrification and Green Building
DESCRIPTION:View a free course with an overview of electrification.\n\n\nEach month in 2023\, USGBC will share a handpicked education course or two about a specific aspect of green building that will be free for that month only. For the month of December\, take advantage of a free course sharing an overview of the benefits of electrification for green builders. \nElectrification and Green Building \nBasic level | 1 CE credit | Created by USGBC and Triple Green Building Group\, LLC | Presentation format \nBeneficial electrification is a growing strategy for buildings to achieve low operational carbon emissions. Green building professionals are working to achieve energy optimization through electrification. Hear from an experienced green building professional and learn about the benefits of electrification\, related technologies and strategies\, and examples of what leading cities are doing. \n\nThis is an on-demand course\, but offered for free for the month of Dec\, and worth 1 CE credit.
URL:https://efficiencyfirstca.org/event/electrification-and-green-building/
CATEGORIES:Association for Energy Affordability,Energy Code Ace,Southern California Edison
END:VEVENT
BEGIN:VEVENT
DTSTART;TZID=America/Los_Angeles:20231211T070000
DTEND;TZID=America/Los_Angeles:20231211T090000
DTSTAMP:20260424T065210
CREATED:20231129T080337Z
LAST-MODIFIED:20231130T020925Z
UID:62961-1702278000-1702285200@efficiencyfirstca.org
SUMMARY:TECH & ESMAC HEAT PUMP WATER HEATER EDUCATION
DESCRIPTION:Manufacturers Heat Pump Water Heating (HPWH) Education session focused on technology features and benefits\, appropriate applications\, energy efficiency compared to other water heater types\, installation techniques\, and best practices\, service support and warranty\, proper maintenance\, troubleshooting\, and selling strategies.
URL:https://efficiencyfirstca.org/event/behind-the-scenes-at-the-switch-is-on/
LOCATION:Online
CATEGORIES:Association for Energy Affordability,Southern California Edison
END:VEVENT
BEGIN:VEVENT
DTSTART;TZID=UTC:20231211T090000
DTEND;TZID=UTC:20231211T120000
DTSTAMP:20260424T065210
CREATED:20231212T044420Z
LAST-MODIFIED:20231212T044420Z
UID:63018-1702285200-1702296000@efficiencyfirstca.org
SUMMARY:Building Electrification: Lessons from the Field Part 2
DESCRIPTION:California is going through one of its most seismic shifts in building energy policy and design. The move towards full decarbonization of the building stock has started and the policy\, technical and financial implications are being developed under our feet. We will share how heat pumps and other forms of electric heating can displace our long-time carbon sources of heat. These systems are already available and many are cost effective today. Come discuss this shift and how it will impact your building or construction project with one of the industry’s leading experts. \nThis webinar series will include details of how heat pump systems work and how to design residential and commercial buildings to take advantage of currently available heat pump systems. We will include case studies of heat pump systems and how they can fit into low energy buildings. We will also cover how to recognize opportunities for integrating heat pump systems into both new construction and existing building projects. \nThis webinar is courtesy of Pacific Gas & Electric. \nCourse Objectives: \n\nIdentify heat pump components and system types\nRecognize appropriate heat pump applications in both new construction and existing building projects\nAcknowledge how heat pump applications in buildings are beneficial in the California regulatory context\nApply lessons learned from recently completed decarbonized projects that leverage heat pumps and other forms of electric heating\n\nLearning Level: Beginner
URL:https://efficiencyfirstca.org/event/building-electrification-lessons-from-the-field-part-2/
LOCATION:Online
CATEGORIES:Association for Energy Affordability,Energy Code Ace,Southern California Edison,Switch is On
END:VEVENT
BEGIN:VEVENT
DTSTART;TZID=America/Los_Angeles:20231211T100000
DTEND;TZID=America/Los_Angeles:20231211T111500
DTSTAMP:20260424T065210
CREATED:20231212T022001Z
LAST-MODIFIED:20231212T022001Z
UID:63008-1702288800-1702293300@efficiencyfirstca.org
SUMMARY:Batteries: Options And Implementation For Building’s Energy Storage System
DESCRIPTION:Whether you’re interested in resiliency and cost savings for a home or simply meeting energy codes for new construction\, understanding battery storage is increasingly important for the building industry. In this course\, we’ll go over battery types\, what’s currently available and what’s on the horizon\, how to size a battery for code compliance or other goals\, and what to look for in implementation. \nLearning objectives: \n\nUnderstand different battery types and their applications for buildings\nKnow the process for sizing batteries and when they are required\nReview cost implications for battery use when paired with on-site renewable energy\nUnderstand practical integration of batteries into project design and construction\n\nInstructors: Jennifer Rennick and Grant Murphy\, In Balance Green Consulting
URL:https://efficiencyfirstca.org/event/batteries-options-and-implementation-for-buildings-energy-storage-system/
LOCATION:Online
CATEGORIES:3C-REN,Pacific Gas & Electric
END:VEVENT
END:VCALENDAR