BEGIN:VCALENDAR
VERSION:2.0
PRODID:-//Efficiency First California - ECPv6.8.2.1//NONSGML v1.0//EN
CALSCALE:GREGORIAN
METHOD:PUBLISH
X-WR-CALNAME:Efficiency First California
X-ORIGINAL-URL:https://efficiencyfirstca.org
X-WR-CALDESC:Events for Efficiency First California
REFRESH-INTERVAL;VALUE=DURATION:PT1H
X-Robots-Tag:noindex
X-PUBLISHED-TTL:PT1H
BEGIN:VTIMEZONE
TZID:America/Los_Angeles
BEGIN:DAYLIGHT
TZOFFSETFROM:-0800
TZOFFSETTO:-0700
TZNAME:PDT
DTSTART:20240310T100000
END:DAYLIGHT
BEGIN:STANDARD
TZOFFSETFROM:-0700
TZOFFSETTO:-0800
TZNAME:PST
DTSTART:20241103T090000
END:STANDARD
TZID:UTC
BEGIN:STANDARD
TZOFFSETFROM:+0000
TZOFFSETTO:+0000
TZNAME:UTC
DTSTART:20240101T000000
END:STANDARD
END:VTIMEZONE
BEGIN:VEVENT
DTSTART;TZID=America/Los_Angeles:20240214T130000
DTEND;TZID=America/Los_Angeles:20240315T163000
DTSTAMP:20260422T090548
CREATED:20240110T035724Z
LAST-MODIFIED:20240110T035724Z
UID:63117-1707915600-1710520200@efficiencyfirstca.org
SUMMARY:2022 Title 24\, Part 6 Essentials — Single-family Standards: Introduction to the Performance Approach
DESCRIPTION:Use the 2022 Multifamily Energy Inspection Checklist to practice streamlined inspection of installation scenarios while also targeting top categories of high-value energy savings and impact on compliance. Effective building energy efficiency enforcement is reviewed and practiced as a comprehensive process — from initial consult of building features listed in permitted documentation to review of what contractors document as installed to visual confirmation of these features on-site. This highly interactive online live course is designed to provide Building Inspectors with the essential knowledge and skills they need to more quickly and effectively enforce California’s 2022 Multifamily Building Energy Efficiency Standards (Title 24\, Part 6 or the Energy Code). This course is delivered in two half-day sessions held on two consecutive days. Participants must attend both sessions to complete the course.
URL:https://efficiencyfirstca.org/event/2022-title-24-part-6-essentials-single-family-standards-introduction-to-the-performance-approach/
LOCATION:Online
CATEGORIES:Association for Energy Affordability,Energy Code Ace,Southern California Edison
END:VEVENT
BEGIN:VEVENT
DTSTART;TZID=America/Los_Angeles:20240215T150000
DTEND;TZID=America/Los_Angeles:20240321T183000
DTSTAMP:20260422T090548
CREATED:20240118T064639Z
LAST-MODIFIED:20240118T065020Z
UID:63135-1708009200-1711045800@efficiencyfirstca.org
SUMMARY:Bay Area E-Contractor Academy
DESCRIPTION:Emerald Cities Collaborative (ECC) Bay Area is pleased to invite you to apply to our Spring 2024 E-Contractor Academy\, a FREE in-person workshop series focused on building technical\, economic and operational capacity with small\, minority/BIPOC\, women\, veteran-owned and/or disadvantaged local construction businesses (MWVDBEs) to successfully do business in climate-critical decarbonization fields such as building electrification\, energy efficiency\, renewable energy\, and more. \nECC provides services for tailored entrepreneurial support throughout and beyond this academy via its E-Contractor network and community partners\, including but not limited to: \n\nCohort-based multiweek training and education program\nClean energy/building decarbonization workshops\nResources for continued education\nOne-on-one business and construction topic advising (strategic plans\, project delivery\, bidding\, HR\, etc)\nPeer learning opportunities\nNetworking\nFree and reduced-cost access to professional services\nConnection to project opportunities\nConnection to financing opportunities including loans and grants. While access to capital is not guaranteed ECC does have connections with lenders that specialize in funding construction companies and MWVDBEs.\n\n\n\nThis FREE six week series will be held Thursdays 3-6:30 PM from February 15 to March 21 2024 at the SFPUC’s Contractors Assistance Center in San Francisco\, CA. Free light meal provided. \nVisit our website for more info. Complete this form by 11:59 PM Sunday Jan 28\, 2024 to apply. Takes approximately 5-10 minutes.
URL:https://efficiencyfirstca.org/event/bay-area-e-contractor-academy/
LOCATION:SFPUC Contractors Assistance Center\, 150 Executive Park Blvd #1300\, San Francisco\, CA\, 94134\, United States
CATEGORIES:Association for Energy Affordability,Energy Code Ace,Southern California Edison
END:VEVENT
BEGIN:VEVENT
DTSTART;TZID=UTC:20240305T080000
DTEND;TZID=UTC:20240307T170000
DTSTAMP:20260422T090548
CREATED:20231212T054704Z
LAST-MODIFIED:20240403T054012Z
UID:63022-1709625600-1709830800@efficiencyfirstca.org
SUMMARY:High-Performance HVAC Design and Redesign for Electrification - Sacramento
DESCRIPTION:In this three-day educational experience\, TECH Clean CA-approved contractors will learn to accurately complete four stages of system design using NCI principles and Air Conditioning Contractors of America (ACCA) Manuals J\, S\, D\, and T using Elite RHVAC Software package for new and existing homes. \nThis FREE training is open to contractors and technicians in the state of California who are enrolled in TECH Clean California.  Not enrolled yet? Click here (opens in new window) to learn more about the program and enroll.
URL:https://efficiencyfirstca.org/event/high-performance-hvac-design-and-redesign-for-electrification-sacramento/
LOCATION:Ferguson Sacramento\, 5005 Raley Blvd Ste A\, Sacramento\, CA\, 95838\, United States
CATEGORIES:TECH Clean California
END:VEVENT
BEGIN:VEVENT
DTSTART;TZID=America/Los_Angeles:20240307T090000
DTEND;TZID=America/Los_Angeles:20240307T130000
DTSTAMP:20260422T090548
CREATED:20240224T064035Z
LAST-MODIFIED:20240403T053837Z
UID:63347-1709802000-1709816400@efficiencyfirstca.org
SUMMARY:Retrofitting Homes for Electrification and Decarbonization
DESCRIPTION:From alignment with California’s decarbonization goals and local ordinances prohibiting new gas installs\, Dan Perunko of Balance Point Home Performance will outline the necessary steps to electrify an existing single-family home and how to manage whole house strategies for successful electrification retrofits. Case studies demonstrating successful electrification projects will highlight the opportunities to overcome challenges presented by existing infrastructure and planning for backup power during PSPS events.
URL:https://efficiencyfirstca.org/event/retrofitting-homes-for-electrification-and-decarbonization/
LOCATION:Online
CATEGORIES:Pacific Gas & Electric
END:VEVENT
BEGIN:VEVENT
DTSTART;TZID=America/Los_Angeles:20240307T150000
DTEND;TZID=America/Los_Angeles:20240307T170000
DTSTAMP:20260422T090548
CREATED:20240210T062722Z
LAST-MODIFIED:20240403T053813Z
UID:63207-1709823600-1709830800@efficiencyfirstca.org
SUMMARY:High Performance Buildings & Careers – Class 1: High Performance Fundamentals Series
DESCRIPTION:This is class 1 of 6 in 3C-REN’s High Performance Fundamentals Certificate series. Earn a 3C-REN certificate of completion after finishing the series and passing short quizzes at the end of each class. \n  \nCode compliance is a minimum standard for building performance; by contrast\, “high performance” refers to buildings that are designed\, built\, and commissioned to exceed the performance of conventional buildings in energy efficiency\, durability\, comfort\, safety\, and indoor air quality. The magnitude of the opportunity to fill this gap cannot be over-emphasized. For example\, field research found that a single-day high-performance retrofit can improve HVAC system performance in new homes by an average of 25%. While the mainstream building industry strives for code compliance\, a small fraction of those in the industry adopt high-performance practices and produce homes and commercial facilities with lower energy use\, greater resilience\, exceptional durability\, outstanding comfort\, and low to zero onsite emissions. These individuals are consistently in demand\, command higher wages\, win awards\, and have the satisfaction of building a better world for themselves\, their families\, and communities. The secret sauce? Setting quantitative goals\, measuring performance\, and marketing the superior outcomes. \n  \nThis class – the first of six in 3C-REN’s High Performance Fundamentals Program – is an introduction to the opportunities presented by working in the realm of high-performance buildings\, and how to create a place for yourself within that realm. \nLearning Objectives \nAfter attending this class\, participants will be able to: \n\nExplain the concept of high performance building and the roles of ‘building as a system\,’ building science\, and quantitative assessment in achieving high performance\nUnderstand the connections between high performance building\, human health\, resiliency\, climate change mitigation\, and State energy and climate regulatory trends\nEnumerate the benefits of high-performance building design\, construction\, and commissioning\, including providing quantitative examples of improvements that can be achieved by adopting a high-performance approach\nBegin transitioning to high-performance building practices\n\n  \n1.5 AIA|HSW LU’s available for this course \nInstructors: \n\nAnn Edminster\, Design AVEnues LLC
URL:https://efficiencyfirstca.org/event/high-performance-buildings-careers-class-1-high-performance-fundamentals-series-3/
LOCATION:Online
CATEGORIES:3C-REN
END:VEVENT
END:VCALENDAR