BEGIN:VCALENDAR
VERSION:2.0
PRODID:-//Efficiency First California - ECPv6.8.2.1//NONSGML v1.0//EN
CALSCALE:GREGORIAN
METHOD:PUBLISH
X-ORIGINAL-URL:https://efficiencyfirstca.org
X-WR-CALDESC:Events for Efficiency First California
REFRESH-INTERVAL;VALUE=DURATION:PT1H
X-Robots-Tag:noindex
X-PUBLISHED-TTL:PT1H
BEGIN:VTIMEZONE
TZID:America/Los_Angeles
BEGIN:DAYLIGHT
TZOFFSETFROM:-0800
TZOFFSETTO:-0700
TZNAME:PDT
DTSTART:20240310T100000
END:DAYLIGHT
BEGIN:STANDARD
TZOFFSETFROM:-0700
TZOFFSETTO:-0800
TZNAME:PST
DTSTART:20241103T090000
END:STANDARD
TZID:UTC
BEGIN:STANDARD
TZOFFSETFROM:+0000
TZOFFSETTO:+0000
TZNAME:UTC
DTSTART:20240101T000000
END:STANDARD
END:VTIMEZONE
BEGIN:VEVENT
DTSTART;TZID=America/Los_Angeles:20240326T080000
DTEND;TZID=America/Los_Angeles:20240328T170000
DTSTAMP:20260424T005508
CREATED:20240316T013025Z
LAST-MODIFIED:20240403T053150Z
UID:63450-1711440000-1711645200@efficiencyfirstca.org
SUMMARY:High-Performance HVAC Design and Redesign for Electrification
DESCRIPTION:In this three-day educational experience\, TECH Clean CA-approved contractors will learn to accurately complete four stages of system design using NCI principles and Air Conditioning Contractors of America (ACCA) Manuals J\, S\, D\, and T using Elite RHVAC Software package for new and existing homes. \nThis class is for engineers\, sales professionals\, and in-house designers who own or plan to purchase Elite RHVAC software.  \nThis FREE training is open to contractors and technicians in the state of California who are enrolled in TECH Clean California.  Not enrolled yet? Click here (opens in new window) to learn more about the program and enroll.
URL:https://efficiencyfirstca.org/event/high-performance-hvac-design-and-redesign-for-electrification-5/
LOCATION:NCI – Anaheim\, 2050 S Santa Cruz St.\, Ste 1000\,\, Anaheim\, California
CATEGORIES:National Comfort Institute
END:VEVENT
BEGIN:VEVENT
DTSTART;TZID=UTC:20240328T090000
DTEND;TZID=UTC:20240328T110000
DTSTAMP:20260424T005508
CREATED:20240302T023924Z
LAST-MODIFIED:20240403T053015Z
UID:63356-1711616400-1711623600@efficiencyfirstca.org
SUMMARY:MULTI-FAMILY DOMESTIC HOT WATER
DESCRIPTION:Moving from fossil-fuel boilers to other forms of domestic hot water heating can be challenging\, but it’s definitely doable.  This training offers experience and strategies for providing DHW in multifamily projects. As a result of this training\, learners will be able to: \n\nIdentify the design considerations which should be included in a new or retrofit DHW system design\nDemonstrate understanding of the differences in capacity design between a boiler based and heat pump DHW system\nUtilize information from lessons learned in the field with new system designs to make confident decisions in design direction\n\nInstructors: Albert Rook and Eva Rooks\, Small Planet Supply
URL:https://efficiencyfirstca.org/event/multi-family-domestic-hot-water/
LOCATION:Online
CATEGORIES:3C-REN
END:VEVENT
END:VCALENDAR