BEGIN:VCALENDAR
VERSION:2.0
PRODID:-//Efficiency First California - ECPv6.8.2.1//NONSGML v1.0//EN
CALSCALE:GREGORIAN
METHOD:PUBLISH
X-WR-CALNAME:Efficiency First California
X-ORIGINAL-URL:https://efficiencyfirstca.org
X-WR-CALDESC:Events for Efficiency First California
REFRESH-INTERVAL;VALUE=DURATION:PT1H
X-Robots-Tag:noindex
X-PUBLISHED-TTL:PT1H
BEGIN:VTIMEZONE
TZID:America/Los_Angeles
BEGIN:DAYLIGHT
TZOFFSETFROM:-0800
TZOFFSETTO:-0700
TZNAME:PDT
DTSTART:20240310T100000
END:DAYLIGHT
BEGIN:STANDARD
TZOFFSETFROM:-0700
TZOFFSETTO:-0800
TZNAME:PST
DTSTART:20241103T090000
END:STANDARD
END:VTIMEZONE
BEGIN:VEVENT
DTSTART;TZID=America/Los_Angeles:20240402T080000
DTEND;TZID=America/Los_Angeles:20240404T163000
DTSTAMP:20260422T135953
CREATED:20240326T005134Z
LAST-MODIFIED:20240403T052948Z
UID:63538-1712044800-1712248200@efficiencyfirstca.org
SUMMARY:Residential HVAC System Performance & Electrification
DESCRIPTION:This National Comfort Institute training package includes a two-day advanced certification in Residential System Performance and a special half-day training focused on applying your knowledge and skills to residential HVAC electrification. This training program provides the keys to delivering true system performance with real-world lessons and hands-on training. \nLearn to apply ASHRAE 221-compliant testing to heat pump systems and qualify for Enhanced TECH Incentives. This National Comfort Institute training package includes a two-day advanced certification in Residential System Performance and a special half-day training focused on applying your knowledge and skills to residential HVAC electrification. This training program provides the keys to delivering true system performance with real-world lessons and hands-on training. \nThis FREE training is open to contractors and technicians in the state of California who are enrolled in TECH Clean California.  Not enrolled yet? Click here (opens in new window) to learn more about the program and enroll.
URL:https://efficiencyfirstca.org/event/national-comfort-institute-training-residential-hvac-system-performance-electrification/
LOCATION:Ferguson Enterprises\, 26999 Industrial Blvd\, Hayward\, California
CATEGORIES:National Comfort Institute
END:VEVENT
BEGIN:VEVENT
DTSTART;TZID=America/Los_Angeles:20240402T090000
DTEND;TZID=America/Los_Angeles:20240402T120000
DTSTAMP:20260422T135953
CREATED:20240224T061528Z
LAST-MODIFIED:20240403T052818Z
UID:63345-1712048400-1712059200@efficiencyfirstca.org
SUMMARY:Optimizing Residential Forced-Air HVAC Systems: Efficiency\, Comfort and Low Loss Duct Systems
DESCRIPTION:Improved design\, installation and commissioning practices lead to a dramatic improvement in building energy consumption\, indoor air quality\, and comfort. There are six performance factors that can be applied to HVAC design\, installation and/or commissioning. In the Optimizing Residential Forced-Air series\, we will review how each factor can be specified at design\, implemented during installation\, and tested/adjusted during commissioning. We will also look at how we can redesign our approach to high performance HVAC systems to support CA climate goals\, help manage the peak electrical load on the grid as well as the owners operating cost under the time-of-use billing structure. \nThe Optimizing Residential Forced-Air series is informed through commissioned systems\, where real examples from completed projects are used to support class content. We have designed\, built\, and commissioned both retrofit and new construction projects that exemplify the concepts covered in class. Course content will include design examples\, photos installations\, and test results from commissioning. \nThe HVAC equipment\, materials and knowledge required to dramatically improve the performance of HVAC systems is readily available. This class will assist the designer\, installer\, and rater in their efforts to improve the HVAC systems we build.
URL:https://efficiencyfirstca.org/event/optimizing-residential-forced-air-hvac-systems-efficiency-comfort-and-low-loss-duct-systems-2/
LOCATION:Online
CATEGORIES:Pacific Gas & Electric
END:VEVENT
BEGIN:VEVENT
DTSTART;TZID=America/Los_Angeles:20240402T153000
DTEND;TZID=America/Los_Angeles:20240402T173000
DTSTAMP:20260422T135953
CREATED:20240326T010849Z
LAST-MODIFIED:20240403T052752Z
UID:63544-1712071800-1712079000@efficiencyfirstca.org
SUMMARY:Heat Pump Water Heater for Plumbing Contractors
DESCRIPTION:Join us for a practical training session tailored for plumbing contractors looking to expand their expertise to include Heat Pump Water Heaters (HPWHs). Whether you’re working on multifamily or single-family projects\, this event provides essential knowledge and hands-on experience to excel in this growing field. \nTopics will include: \n\nUnderstanding multifamily (central and in-unit) and single-family applications\nDifferentiating between 120v and 240v applications\nStrategic application: Learn when not to install\, identify optimal placements\, and address noise considerations\nInstallation essentials: Learn power supply requirements\, air volume considerations\, and more\nEffective servicing techniques for long-term performance\nExplore incentive programs such as BAMBE\, TECH\, IRA and others\nDemonstration of physical HPWHs\nTraining delivered by experienced representatives with AO Smith\nPresentation followed by technical Q&A and networking opportunities
URL:https://efficiencyfirstca.org/event/bayren-heat-pump-water-heater-in-person-training-for-plumbing-contractors/
LOCATION:1537 WEBSTER ST\, 1537 Webster Street\, Oakland\, California
CATEGORIES:BAYREN
END:VEVENT
END:VCALENDAR