BEGIN:VCALENDAR
VERSION:2.0
PRODID:-//Efficiency First California - ECPv6.8.2.1//NONSGML v1.0//EN
CALSCALE:GREGORIAN
METHOD:PUBLISH
X-WR-CALNAME:Efficiency First California
X-ORIGINAL-URL:https://efficiencyfirstca.org
X-WR-CALDESC:Events for Efficiency First California
REFRESH-INTERVAL;VALUE=DURATION:PT1H
X-Robots-Tag:noindex
X-PUBLISHED-TTL:PT1H
BEGIN:VTIMEZONE
TZID:America/Los_Angeles
BEGIN:DAYLIGHT
TZOFFSETFROM:-0800
TZOFFSETTO:-0700
TZNAME:PDT
DTSTART:20260308T100000
END:DAYLIGHT
BEGIN:STANDARD
TZOFFSETFROM:-0700
TZOFFSETTO:-0800
TZNAME:PST
DTSTART:20261101T090000
END:STANDARD
END:VTIMEZONE
BEGIN:VEVENT
DTSTART;VALUE=DATE:20260413
DTEND;VALUE=DATE:20260417
DTSTAMP:20260422T024520
CREATED:20260326T180222Z
LAST-MODIFIED:20260326T180222Z
UID:69334-1776038400-1776383999@efficiencyfirstca.org
SUMMARY:2026 National Home Performance Conference & Trade Show
DESCRIPTION:For four decades\, the National Home Performance Conference has been a launching pad for ideas\, partnerships\, and real progress in home performance\, weatherization\, and healthy housing. This milestone year is about more than looking back—it’s about building on the momentum we’ve created together and shaping the future. \nJoin us in Columbus in 2026 as thousands of contractors\, weatherization professionals\, healthy homes experts\, trainers\, program administrators\, energy auditors\, and others in residential energy efficiency gather for the latest industry education and networking.
URL:https://efficiencyfirstca.org/event/2026-national-home-performance-conference-trade-show/
LOCATION:Greater Columbus Convention Center\, 400 N High St.\, Columbus\, OH\, 43215\, United States
CATEGORIES:Building Performance Association
END:VEVENT
BEGIN:VEVENT
DTSTART;TZID=America/Los_Angeles:20260413T080000
DTEND;TZID=America/Los_Angeles:20260416T170000
DTSTAMP:20260422T024520
CREATED:20260326T153624Z
LAST-MODIFIED:20260326T153624Z
UID:69324-1776067200-1776358800@efficiencyfirstca.org
SUMMARY:National Home Performance Conference & Trade Show
DESCRIPTION:For four decades\, the National Home Performance Conference has been a launching pad for ideas\, partnerships\, and real progress in home performance\, weatherization\, and healthy housing. This milestone year is about more than looking back—it’s about building on the momentum we’ve created together and shaping the future. \nJoin us in Columbus in 2026 as thousands of contractors\, weatherization professionals\, healthy homes experts\, trainers\, program administrators\, energy auditors\, and others in residential energy efficiency gather for the latest industry education and networking.
URL:https://efficiencyfirstca.org/event/national-home-performance-conference-trade-show-3/
LOCATION:Greater Columbus Convention Center\, 400 N High St.\, Columbus\, OH\, 43215\, United States
END:VEVENT
BEGIN:VEVENT
DTSTART;TZID=America/Los_Angeles:20260416T090000
DTEND;TZID=America/Los_Angeles:20260416T110000
DTSTAMP:20260422T024520
CREATED:20260325T170557Z
LAST-MODIFIED:20260325T170557Z
UID:69260-1776330000-1776337200@efficiencyfirstca.org
SUMMARY:Air Sealing and Insulating for Electrification Projects: Addressing Common Hazards During Energy Upgrades(Part 2 of 3)
DESCRIPTION:Course description:\n\n\n\n\n\nUpgrading the thermal and air leakage performance of existing homes exposes a variety of hazards that many professionals either do not know how to address or how to communicate the importance of the issue to the customer. Estimators and installers\, including DIY homeowners\, take on additional liability when they fail to identify and remediate existing hazards during upgrade projects. In this two hour class\, instructor Dan Perunko of Balance Point Home Performance will cover the most common hazards that are regularly uncovered during energy upgrades and provide some practical strategies for resolving those issues. \nAgenda: \n\nIntroduction and safety message\nWhat hazards are exposed in typical efficiency upgrades\nWhat is the risk management plan for addressing these hazards\nAsbestos insulation\nElectrical system faults\nCombustion appliance vents and clearance to combustible materials\nCombustion appliance vents that do not effectively remove pollutants from the building\nNon-IC rated recessed fixtures\nVents that re-entrain gases or moisture in the building\nBiological growth on building surfaces\nImpact of realigning the air barrier or thermal boundary\n\nThe objective of this course is that at the conclusion\, participants will be able to: \n\nIdentify three or more common hazards that may be uncovered during energy upgrades\nList two or more repairs to mitigate common electrical hazards that are uncovered during energy upgrades\nIdentify the difference between fixtures which can be safely sealed with conventional air sealing material\, and those that require high temperature sealant or treatments\nLearn one or more key differences between combustion appliances that have single wall metal\, double wall metal and plastic vent systems\nIdentify how targeted air sealing strategies enhance building envelope performance\, reduce energy loads\, and enable the successful implementation of electrification
URL:https://efficiencyfirstca.org/event/air-sealing-and-insulating-for-electrification-projects-addressing-common-hazards-during-energy-upgradespart-2-of-3/
CATEGORIES:Pacific Gas & Electric
END:VEVENT
END:VCALENDAR