BEGIN:VCALENDAR
VERSION:2.0
PRODID:-//Efficiency First California - ECPv6.8.2.1//NONSGML v1.0//EN
CALSCALE:GREGORIAN
METHOD:PUBLISH
X-WR-CALNAME:Efficiency First California
X-ORIGINAL-URL:https://efficiencyfirstca.org
X-WR-CALDESC:Events for Efficiency First California
REFRESH-INTERVAL;VALUE=DURATION:PT1H
X-Robots-Tag:noindex
X-PUBLISHED-TTL:PT1H
BEGIN:VTIMEZONE
TZID:America/Los_Angeles
BEGIN:DAYLIGHT
TZOFFSETFROM:-0800
TZOFFSETTO:-0700
TZNAME:PDT
DTSTART:20260308T100000
END:DAYLIGHT
BEGIN:STANDARD
TZOFFSETFROM:-0700
TZOFFSETTO:-0800
TZNAME:PST
DTSTART:20261101T090000
END:STANDARD
END:VTIMEZONE
BEGIN:VEVENT
DTSTART;TZID=America/Los_Angeles:20260423T090000
DTEND;TZID=America/Los_Angeles:20260423T110000
DTSTAMP:20260423T013511
CREATED:20260325T171018Z
LAST-MODIFIED:20260325T171018Z
UID:69262-1776934800-1776942000@efficiencyfirstca.org
SUMMARY:Air Sealing and Insulating for Electrification Projects: Developing a Work Scope for Attic Efficiency Upgrades (Part 3 of 3)
DESCRIPTION:Course description:\n\n\n\n\n\nEffective work scopes help contractors and customers achieve specific performance goals in a home’s attic efficiency upgrade. Developing a comprehensive\, goal oriented work scope can help contractors sell more jobs\, differentiate their work from other contractors bidding on the job\, and enables customers to prioritize their home upgrades within their budget\, allowing for the possibility of future improvements. In this session\, Dan Perunko of Balance Point Home Performance will draw upon his contractor experience to discuss how he approaches attic efficiency work scopes\, from demolition\, material selection and installation\, to commissioning. \nAgenda: \n\nIntroduction and safety message\nHow is high performance a different business model\nSetting your company standards\nHow to define cost effective\nIdentify the outcomes the customer would like to achieve\nDefining outcomes in the work scope\nDeveloping costs for specific outcomes\nUsing options to define good\, better\, best\nUsing notes to clarify limits of what work accomplishes\nNegotiating the outcomes in the work scope\n\nThe objective of this course is that at the conclusion\, participants will be able to: \n\nSpecify at least three or more performance outcomes the work scope helps define\nExplain one or more ways that a high performance work scope is different from an industry standard sale process\nSynthesize the home performance outcomes the customer would like to achieve\nDescribe one or more examples of how to itemize the work scope to facilitate a better understanding of cost segregation\nIdentify how targeted air sealing strategies enhance building envelope performance\, reduce energy loads\, and enable the successful implementation of electrification
URL:https://efficiencyfirstca.org/event/air-sealing-and-insulating-for-electrification-projects-developing-a-work-scope-for-attic-efficiency-upgrades-part-3-of-3/
CATEGORIES:Pacific Gas & Electric
END:VEVENT
END:VCALENDAR