BEGIN:VCALENDAR
VERSION:2.0
PRODID:-//Efficiency First California - ECPv6.8.2.1//NONSGML v1.0//EN
CALSCALE:GREGORIAN
METHOD:PUBLISH
X-ORIGINAL-URL:https://efficiencyfirstca.org
X-WR-CALDESC:Events for Efficiency First California
REFRESH-INTERVAL;VALUE=DURATION:PT1H
X-Robots-Tag:noindex
X-PUBLISHED-TTL:PT1H
BEGIN:VTIMEZONE
TZID:America/Los_Angeles
BEGIN:DAYLIGHT
TZOFFSETFROM:-0800
TZOFFSETTO:-0700
TZNAME:PDT
DTSTART:20240310T100000
END:DAYLIGHT
BEGIN:STANDARD
TZOFFSETFROM:-0700
TZOFFSETTO:-0800
TZNAME:PST
DTSTART:20241103T090000
END:STANDARD
END:VTIMEZONE
BEGIN:VEVENT
DTSTART;VALUE=DATE:20240423
DTEND;VALUE=DATE:20240426
DTSTAMP:20260422T192540
CREATED:20240309T071954Z
LAST-MODIFIED:20240403T052430Z
UID:63410-1713830400-1714089599@efficiencyfirstca.org
SUMMARY:Residential Space Conditioning and Water Heating (Single Family)
DESCRIPTION:Electrify My Home provides training based on real-world experience with residential electrification. With hundreds of high-performance projects completed to date\, Electrify My Home shares its experience with others in a fast-paced training program that will benefit all parts of your company. We share principals of “Install Small” and “Good Electrification” processes that will keep your customers satisfied while simultaneously optimizing future grid reliability. \nOnly enrolled TECH Clean California Participating Contractor company staff may take this course. Course registration will be verified to ensure Participating Contractor company has completed a Trade Professional Participation Agreement (TPPA). Registration may be cancelled if a TPPA has not been completed prior to course start date. \nInstructor: \nLarry has 40 years HVAC trade experience in service\, installation\, sales\, and management. His specialization is house-as-a-system electrification and has coined the process and practices “Good Electrification” and “Install small” right sizing for climate and comfort. \nLarry spent the first ten years of his career working on Industrial and Commercial systems and later transitioned to residential HVAC. As a service technician and sales professional\, Larry has sold more than 20 million dollars of HVAC product. In 2011\, Larry obtained his BPI-certified Building Analyst certification and has concentrated on home performance ever since. Beginning in 2014\, Larry began focusing on replacing gas furnaces with high-efficiency heat pumps. He has since designed and installed over 400 electrification projects in the greater Bay Area of California. \nLarry started his all-electric gas conversion company\, Electrify My Home\, in 2019. Larry is an advisory board member of the Building Decarbonization Coalition and is still active as a Leading Light representative. Electrify My Home is a recognized trainer on residential home-electrification sales\, system-design\, and installation for the State of California’s TECH Initiative.
URL:https://efficiencyfirstca.org/event/residential-space-conditioning-and-water-heating-single-family-2/
LOCATION:Live Classroom\, Indio\, California
CATEGORIES:Association for Energy Affordability
END:VEVENT
BEGIN:VEVENT
DTSTART;TZID=America/Los_Angeles:20240424T090000
DTEND;TZID=America/Los_Angeles:20240424T120000
DTSTAMP:20260422T192540
CREATED:20240210T063330Z
LAST-MODIFIED:20240403T052259Z
UID:63209-1713949200-1713960000@efficiencyfirstca.org
SUMMARY:Multifamily Electrification: Retrofit Applications and Electrical Assessments
DESCRIPTION:Course Overview \nAs we start turning our attention to the existing building stock\, electrification retrofits are becoming increasingly important to achieve our emission goals and have healthier homes. Come explore how to approach an electrification retrofit\, what the constraints and opportunities are for multifamily buildings with different configurations\, and how it is shaped by electrical infrastructure and available technology. Gain an understanding of what an electrification retrofit looks like by working through example project(s) in class.
URL:https://efficiencyfirstca.org/event/multifamily-electrification-retrofit-applications-and-electrical-assessments-2/
LOCATION:Online
CATEGORIES:Association for Energy Affordability
END:VEVENT
END:VCALENDAR