BEGIN:VCALENDAR
VERSION:2.0
PRODID:-//Efficiency First California - ECPv6.8.2.1//NONSGML v1.0//EN
CALSCALE:GREGORIAN
METHOD:PUBLISH
X-ORIGINAL-URL:https://efficiencyfirstca.org
X-WR-CALDESC:Events for Efficiency First California
REFRESH-INTERVAL;VALUE=DURATION:PT1H
X-Robots-Tag:noindex
X-PUBLISHED-TTL:PT1H
BEGIN:VTIMEZONE
TZID:America/Los_Angeles
BEGIN:DAYLIGHT
TZOFFSETFROM:-0800
TZOFFSETTO:-0700
TZNAME:PDT
DTSTART:20240310T100000
END:DAYLIGHT
BEGIN:STANDARD
TZOFFSETFROM:-0700
TZOFFSETTO:-0800
TZNAME:PST
DTSTART:20241103T090000
END:STANDARD
END:VTIMEZONE
BEGIN:VEVENT
DTSTART;TZID=America/Los_Angeles:20240805T070000
DTEND;TZID=America/Los_Angeles:20240805T090000
DTSTAMP:20260422T120912
CREATED:20240801T232501Z
LAST-MODIFIED:20240801T232501Z
UID:64384-1722841200-1722848400@efficiencyfirstca.org
SUMMARY:TECH & ESMAC Heat Pump Water Heater Education
DESCRIPTION:Overview \nThe TECH & ESMAC (ENERGY STAR Heat Pump Water Heater Manufacturer Action Council) Heat Pump Water Heater Education includes a TECH overview\, ENERGY STAR® overview\, and a manufacturers heat pump water heater(HPWH) education session focused on technology features and benefits\, appropriate applications\, energy efficiency comparison to other water heater types\, installation techniques and best practices\, service support and warranty\, proper maintenance\, troubleshooting\, and selling strategies. \nAttending the TECH & ESMAC training is required for upcoming HPWH funds.  \n\nFor onboarding purposes\, at least one individual from your organization must attend and complete the post-training survey.\nAll installers working on a project submitted to the program must also take either this training\, or a program approved manufacturer training.
URL:https://efficiencyfirstca.org/event/tech-esmac-heat-pump-water-heater-education-17/
LOCATION:Online
CATEGORIES:Association for Energy Affordability,TECH Clean California
END:VEVENT
BEGIN:VEVENT
DTSTART;TZID=America/Los_Angeles:20240815T090000
DTEND;TZID=America/Los_Angeles:20240815T120000
DTSTAMP:20260422T120912
CREATED:20240801T232906Z
LAST-MODIFIED:20240801T232906Z
UID:64388-1723712400-1723723200@efficiencyfirstca.org
SUMMARY:Central Heat Pump Water Heater Advanced Design and Installation
DESCRIPTION:The heat pump market in the US is evolving and new technologies are being brought in to expand options and applications. Come take a deeper dive into some existing water heating systems\, sizing calculations\, design options and load shifting. \nThis training will take a deeper dive into CHPWH systems\, design\, sizing\, and installation.  Targeting contractors\, MEPs and installers\, the training will cover the content outlined below. The class will include hot water demand calculations to support system sizing and energy consumption modeling to support photovoltaic system sizing to offset usage. Learn about emerging technologies\, new applications of existing technologies and controls to support all-electric water heating in multifamily buildings. Participants will work through an exercise using tools to size a system and consider equipment selection. \n•             CHPWH piping \n•             Design Considerations \n•             Factors that impact sizing \n•             Sizing system and sizing considerations \n•             Load shifting \n•             Equipment selection \n•             Installation Best practices \n•             Operation and maintenance \n•             Energy consumption\, modeling\, and photovoltaic panels \n•             Practice Exercise \nTraining Objectives: \n•            Learn about different systems and the considerations for design and sizing and system selection based on site conditions \n•            Understand Sizing calculation methodologies and approaches \n•            Understand equipment selection based on sizing results and site considerations \n•            Understand how to incorporate PV systems to reduce operational costs \n•            Understand start up process and maintenance considerations for system type
URL:https://efficiencyfirstca.org/event/central-heat-pump-water-heater-advanced-design-and-installation/
LOCATION:Online
CATEGORIES:Association for Energy Affordability
END:VEVENT
BEGIN:VEVENT
DTSTART;TZID=America/Los_Angeles:20240821T070000
DTEND;TZID=America/Los_Angeles:20240821T090000
DTSTAMP:20260422T120912
CREATED:20240801T232656Z
LAST-MODIFIED:20240801T232656Z
UID:64386-1724223600-1724230800@efficiencyfirstca.org
SUMMARY:TECH & ESMAC Heat Pump Water Heater Education
DESCRIPTION:Overview \nThe TECH & ESMAC (ENERGY STAR Heat Pump Water Heater Manufacturer Action Council) Heat Pump Water Heater Education includes a TECH overview\, ENERGY STAR® overview\, and a manufacturers heat pump water heater (HPWH) education session focused on technology features and benefits\, appropriate applications\, energy efficiency comparison to other water heater types\, installation techniques and best practices\, service support and warranty\, proper maintenance\, troubleshooting\, and selling strategies. \nAttending the TECH & ESMAC training is required for upcoming HPWH funds. \n• For onboarding purposes\, at least one individual from your organization must attend and complete the post-training survey. \n• All installers working on a project submitted to the program must also take either this training\, or a program approved manufacturer training. \n\n  \n\nTopics Covered: \n• Key differences between standard gas and electric water heaters and heat pump water heaters \n• Benefits and value propositions of HPWHs \n• Installation best practices \n• Location options\, space needs and considerations \n• How to size appropriately \n• Programming/operating modes \n• Time-of-use and demand response capabilities \n• Electrical requirements\, electric panel considerations \n• Condensate management and drainage \n• Thermostatic mixing valves\, recirculation pumps \n• Noise/vibration considerations \n• Guidance and best practices for warranty\, service support\, and maintenance \n• Customer education – how to use\, what to expect\, addressing common concerns \n• How to get further regional training and support \n\nLearning Objectives: \n\n• Identify the key difference between standard water heaters and heat pump water heaters \n• Explain the features and benefits of heat pump water heaters \n• Identify dwelling and customer types that benefit the most from HPWH \n• Calculate appropriate tank size based on dwelling and occupancy \n• Describe installation best practices \n• Describe service and maintenance best practices \n• Demonstrate selling techniques and overcoming customer objections
URL:https://efficiencyfirstca.org/event/tech-esmac-heat-pump-water-heater-education-18/
LOCATION:Online
CATEGORIES:Association for Energy Affordability,TECH Clean California
END:VEVENT
END:VCALENDAR