BEGIN:VCALENDAR
VERSION:2.0
PRODID:-//Efficiency First California - ECPv6.8.2.1//NONSGML v1.0//EN
CALSCALE:GREGORIAN
METHOD:PUBLISH
X-ORIGINAL-URL:https://efficiencyfirstca.org
X-WR-CALDESC:Events for Efficiency First California
REFRESH-INTERVAL;VALUE=DURATION:PT1H
X-Robots-Tag:noindex
X-PUBLISHED-TTL:PT1H
BEGIN:VTIMEZONE
TZID:America/Los_Angeles
BEGIN:DAYLIGHT
TZOFFSETFROM:-0800
TZOFFSETTO:-0700
TZNAME:PDT
DTSTART:20250309T100000
END:DAYLIGHT
BEGIN:STANDARD
TZOFFSETFROM:-0700
TZOFFSETTO:-0800
TZNAME:PST
DTSTART:20251102T090000
END:STANDARD
END:VTIMEZONE
BEGIN:VEVENT
DTSTART;TZID=America/Los_Angeles:20250210T070000
DTEND;TZID=America/Los_Angeles:20250210T090000
DTSTAMP:20260418T043543
CREATED:20250204T043224Z
LAST-MODIFIED:20250204T043224Z
UID:65786-1739170800-1739178000@efficiencyfirstca.org
SUMMARY:TECH & ESMAC Heat Pump Water Heater Education
DESCRIPTION:Overview \nThe TECH & ESMAC (ENERGY STAR Heat Pump Water Heater Manufacturer Action Council) Heat Pump Water Heater Education includes a TECH overview\, ENERGY STAR® overview\, and a manufacturers heat pump water heater (HPWH) education session focused on technology features and benefits\, appropriate applications\, energy efficiency comparison to other water heater types\, installation techniques and best practices\, service support and warranty\, proper maintenance\, troubleshooting\, and selling strategies. \nAttending the TECH & ESMAC training is required for upcoming HPWH funds. \n• For onboarding purposes\, at least one individual from your organization must attend and complete the post-training survey. \n• All installers working on a project submitted to the program must also take either this training\, or a program approved manufacturer training. \n\n\nTopics Covered: \n• Key differences between standard gas and electric water heaters and heat pump water heaters \n• Benefits and value propositions of HPWHs \n• Installation best practices \n• Location options\, space needs and considerations \n• How to size appropriately \n• Programming/operating modes \n• Time-of-use and demand response capabilities \n• Electrical requirements\, electric panel considerations \n• Condensate management and drainage \n• Thermostatic mixing valves\, recirculation pumps \n• Noise/vibration considerations \n• Guidance and best practices for warranty\, service support\, and maintenance \n• Customer education – how to use\, what to expect\, addressing common concerns \n• How to get further regional training and support \n\n\nLearning Objectives: \n• Identify the key difference between standard water heaters and heat pump water heaters \n• Explain the features and benefits of heat pump water heaters \n• Identify dwelling and customer types that benefit the most from HPWH \n• Calculate appropriate tank size based on dwelling and occupancy \n• Describe installation best practices \n• Describe service and maintenance best practices \n• Demonstrate selling techniques and overcoming customer objections
URL:https://efficiencyfirstca.org/event/tech-esmac-heat-pump-water-heater-education-24/
LOCATION:Online
CATEGORIES:Association for Energy Affordability
END:VEVENT
BEGIN:VEVENT
DTSTART;TZID=America/Los_Angeles:20250221T070000
DTEND;TZID=America/Los_Angeles:20250221T090000
DTSTAMP:20260418T043543
CREATED:20250222T041512Z
LAST-MODIFIED:20250222T041512Z
UID:65896-1740121200-1740128400@efficiencyfirstca.org
SUMMARY:TECH & ESMAC Heat Pump Water Heater Educatio
DESCRIPTION:Overview \nThe TECH & ESMAC (ENERGY STAR Heat Pump Water Heater Manufacturer Action Council) Heat Pump Water Heater Education includes a TECH overview\, ENERGY STAR® overview\, and a manufacturers heat pump water heater(HPWH) education session focused on technology features and benefits\, appropriate applications\, energy efficiency comparison to other water heater types\, installation techniques and best practices\, service support and warranty\, proper maintenance\, troubleshooting\, and selling strategies. \nAttending the TECH & ESMAC training is required for upcoming HPWH funds.  \n\nFor onboarding purposes\, at least one individual from your organization must attend and complete the post-training survey.\nAll installers working on a project submitted to the program must also take either this training\, or a program approved manufacturer training.
URL:https://efficiencyfirstca.org/event/tech-esmac-heat-pump-water-heater-educatio/
LOCATION:Online
CATEGORIES:Association for Energy Affordability
END:VEVENT
BEGIN:VEVENT
DTSTART;TZID=America/Los_Angeles:20250226T080000
DTEND;TZID=America/Los_Angeles:20250226T170000
DTSTAMP:20260418T043543
CREATED:20250204T043327Z
LAST-MODIFIED:20250204T043327Z
UID:65788-1740556800-1740589200@efficiencyfirstca.org
SUMMARY:TECH & ESMAC Heat Pump Water Heater Education
DESCRIPTION:Overview \nThe TECH & ESMAC (ENERGY STAR Heat Pump Water Heater Manufacturer Action Council) Heat Pump Water Heater Education includes a TECH overview\, ENERGY STAR® overview\, and a manufacturers heat pump water heater (HPWH) education session focused on technology features and benefits\, appropriate applications\, energy efficiency comparison to other water heater types\, installation techniques and best practices\, service support and warranty\, proper maintenance\, troubleshooting\, and selling strategies. \nAttending the TECH & ESMAC training is required for upcoming HPWH funds. \n• For onboarding purposes\, at least one individual from your organization must attend and complete the post-training survey. \n• All installers working on a project submitted to the program must also take either this training\, or a program approved manufacturer training. \n\n  \n\nTopics Covered: \n• Key differences between standard gas and electric water heaters and heat pump water heaters \n• Benefits and value propositions of HPWHs \n• Installation best practices \n• Location options\, space needs and considerations \n• How to size appropriately \n• Programming/operating modes \n• Time-of-use and demand response capabilities \n• Electrical requirements\, electric panel considerations \n• Condensate management and drainage \n• Thermostatic mixing valves\, recirculation pumps \n• Noise/vibration considerations \n• Guidance and best practices for warranty\, service support\, and maintenance \n• Customer education – how to use\, what to expect\, addressing common concerns \n• How to get further regional training and support \n\n  \n\nLearning Objectives: \n• Identify the key difference between standard water heaters and heat pump water heaters \n• Explain the features and benefits of heat pump water heaters \n• Identify dwelling and customer types that benefit the most from HPWH \n• Calculate appropriate tank size based on dwelling and occupancy \n• Describe installation best practices \n• Describe service and maintenance best practices \n• Demonstrate selling techniques and overcoming customer objections
URL:https://efficiencyfirstca.org/event/tech-esmac-heat-pump-water-heater-education-25/
LOCATION:Online
CATEGORIES:Association for Energy Affordability
END:VEVENT
BEGIN:VEVENT
DTSTART;TZID=America/Los_Angeles:20250226T090000
DTEND;TZID=America/Los_Angeles:20250226T110000
DTSTAMP:20260418T043543
CREATED:20250204T043039Z
LAST-MODIFIED:20250204T043039Z
UID:65784-1740560400-1740567600@efficiencyfirstca.org
SUMMARY:Multifamily Electrification: Retrofit Applications and Electrical
DESCRIPTION:Course Overview \nAs we start turning our attention to the existing building stock\, electrification retrofits are becoming increasingly important to achieve our emission goals and have healthier homes. Come explore how to approach an electrification retrofit\, what the constraints and opportunities are for multifamily buildings with different configurations\, and how it is shaped by electrical infrastructure and available technology. Gain an understanding of what an electrification retrofit looks like by working through example project(s) in class. \nInstructors: \nAmy Dryden is Director of Strategic Innovations at the Association for Energy Affordability\, Inc. specializing in strategic initiatives\, codes and standards\, program design\, training\, and research and development projects. She brings more than 20 years of experience in residential green building design and construction\, consulting\, and planning\, and works to advance the industry to deliver sustainable and healthy housing. Amy has developed training and delivered in-person\, in field\, and distance learning trainings to design professional\, consultants\, contractors\, builders\, building inspectors\, and plan reviewers. She has contributed to national\, state\, and local auditing and green building standards\, for DOE\, California Low Income Housing Tax Credit Programs\, GreenPoint Rated and Building Performance Institute. Amy works with diverse set of stakeholders to provide healthy affordable housing in a decarbonized future. On the side she has the pleasure of driving an all-electric 1946 Ford pick-up. \nJack Aitchison has been at AEA since 2017 and is dedicated to reducing energy\, carbon and hazardous indoor air quality issues in existing multifamily buildings. As a technical assistance (TA) provider for the Bay Area Multifamily Building Enhancement (BAMBE) program\, Jack project manages energy upgrades across numerous multifamily buildings. Jack continues to manage the development of tools to support new technical aspects of energy efficiency programs AEA administers\, including: energy savings\, equipment sizing\, eligibility\, and rebate calculations for new or updated program elements. Jack also has also been instrumental in assisting companies bringing new technologies to the CA market such as retrofit heat pump HVAC systems and load shedding/sharing systems to make electrification projects more feasible. Jack holds a Bachelor of Science in Environmental Resources Engineering from Humboldt State University. Jack is a certified Engineer in Training (EIT)\, BPI Building Analyst (BA)\, and Certified Passive House Consultant (NAPHN).
URL:https://efficiencyfirstca.org/event/multifamily-electrification-retrofit-applications-and-electrical/
LOCATION:Online
CATEGORIES:Association for Energy Affordability
END:VEVENT
END:VCALENDAR