BEGIN:VCALENDAR
VERSION:2.0
PRODID:-//Efficiency First California - ECPv6.8.2.1//NONSGML v1.0//EN
CALSCALE:GREGORIAN
METHOD:PUBLISH
X-WR-CALNAME:Efficiency First California
X-ORIGINAL-URL:https://efficiencyfirstca.org
X-WR-CALDESC:Events for Efficiency First California
REFRESH-INTERVAL;VALUE=DURATION:PT1H
X-Robots-Tag:noindex
X-PUBLISHED-TTL:PT1H
BEGIN:VTIMEZONE
TZID:America/Los_Angeles
BEGIN:DAYLIGHT
TZOFFSETFROM:-0800
TZOFFSETTO:-0700
TZNAME:PDT
DTSTART:20250309T100000
END:DAYLIGHT
BEGIN:STANDARD
TZOFFSETFROM:-0700
TZOFFSETTO:-0800
TZNAME:PST
DTSTART:20251102T090000
END:STANDARD
END:VTIMEZONE
BEGIN:VEVENT
DTSTART;TZID=America/Los_Angeles:20250321T090000
DTEND;TZID=America/Los_Angeles:20250321T120000
DTSTAMP:20260421T225335
CREATED:20250204T043512Z
LAST-MODIFIED:20250204T043512Z
UID:65790-1742547600-1742558400@efficiencyfirstca.org
SUMMARY:Central Heat Pump Water Heater – Advanced Design and Installation (Multifamily)
DESCRIPTION:Overview \nThis training will take a deeper dive into CHPWH systems\, design\, sizing\, and installation. Targeting contractors\, MEPs and installers\, the training will cover the content outlined below. The class will include hot water demand calculations to support system sizing and energy consumption modeling to support photovoltaic system sizing to offset usage. Learn about emerging technologies\, new applications of existing technologies and controls to support all-electric water heating in multifamily buildings. Participants will work through an exercise using tools to size a system and consider equipment selection. \n• CHPWH piping\n• Design Considerations\n• Design Considerations\n• Factors that impact sizing\n• Sizing system and sizing considerations\n• Load shifting\n• Equipment selection\n• Installation Best practices\n• Operation and maintenance\n• Energy consumption\, modeling\, and photovoltaic panels\n• Practice Exercise\nTraining Objective \n• Learn about different systems and the considerations for design and sizing and system selection based on site conditions.\n• Understand sizing calculation methodologies and approaches\n• Understand equipment selection based on sizing results and site considerations\n• Understand how to incorporate PV system to reduce operational costs\n• Understand start up process and maintenance considerations for system type\nInstructor(s): \nAsit Patel\, Senior Director\, Training and Technical Services. Asit delivers technical education in multifamily energy auditing\, retro-commissioning\, energy efficient building operations for contractors\, energy professionals\, and building management and operations staff. Asit’s 24 years of energy efficiency engineering experience include 15 years as senior energy engineer and director of training at AEA\, where he coordinated and conducted instrumented energy audits of a wide range of building sizes\, and also trained and mentored many other audit staff. While at AEA\, Asit served as the lead in developing new building and professional certifications in energy efficiency practices\, including Multifamily Building Analyst\, Multifamily Building Energy Efficient Building Operators\, and Hydronic Heating System Designers. Asit has provided hundreds of audits and has designed and developed specifications for state-of-the-art improvements to enhance efficiency of the existing system in buildings of all sizes. He specializes in testing and diagnosing large steam and hydronic heating systems and DHW systems. He also performs maintenance master planning and commissioning. \nJack Aitchison has been at AEA since 2017 and is dedicated to reducing energy\, carbon and hazardous indoor air quality issues in existing multifamily buildings. As a technical assistance (TA) provider for the Bay Area Multifamily Building Enhancement (BAMBE) program\, Jack project manages energy upgrades across numerous multifamily buildings. Jack continues to manage the development of tools to support new technical aspects of energy efficiency programs AEA administers\, including: energy savings\, equipment sizing\, eligibility\, and rebate calculations for new or updated program elements. Jack also has also been instrumental in assisting companies bringing new technologies to the CA market such as retrofit heat pump HVAC systems and load shedding/sharing systems to make electrification projects more feasible. Jack holds a Bachelor of Science in Environmental Resources Engineering from Humboldt State University. Jack is a certified Engineer in Training (EIT)\, BPI Building Analyst (BA)\, and Certified Passive House Consultant (NAPHN).
URL:https://efficiencyfirstca.org/event/central-heat-pump-water-heater-advanced-design-and-installation-multifamily-2/
LOCATION:Online
CATEGORIES:Association for Energy Affordability
END:VEVENT
BEGIN:VEVENT
DTSTART;TZID=America/Los_Angeles:20250326T090000
DTEND;TZID=America/Los_Angeles:20250326T110000
DTSTAMP:20260421T225335
CREATED:20250204T042904Z
LAST-MODIFIED:20250204T042904Z
UID:65782-1742979600-1742986800@efficiencyfirstca.org
SUMMARY:Installing Individual Heat Pump Water Heaters
DESCRIPTION:Course Overview \nThere are several design considerations for individual heat pump water heaters. In addition\, heat pump water heaters can be an effective strategy to reduce grid peak loads. This course will provide an overview of heat pump water heaters and associated code requirements. The course will take a deep dive into design considerations discussing sizing\, venting configurations\, load shifting\, and installation best practices. This course draws from experience of working through hundreds of heat pump water heater retrofits with design teams\, contractors\, and research projects. \nInstructors: \n\n\nAmy Dryden\nDirector\, Strategic Innovations\n\nAmy Dryden is Director of Strategic Innovations at the Association for Energy Affordability\, Inc. specializing in strategic initiatives\, codes and standards\, program design\, training\, and research and development projects. She brings more than 20 years of experience in residential green building design and construction\, consulting\, and planning\, and works to advance the industry to deliver sustainable and healthy housing. Amy has developed training and delivered in-person\, in field\, and distance learning trainings to design professional\, consultants\, contractors\, builders\, building inspectors\, and plan reviewers. She has contributed to national\, state\, and local auditing and green building standards\, for DOE\, California Low Income Housing Tax Credit Programs\, GreenPoint Rated and Building Performance Institute. Amy works with diverse set of stakeholders to provide healthy affordable housing in a decarbonized future. On the side she has the pleasure of driving an all-electric 1946 Ford pick-up. \n\n\nJack Aitchison has been at AEA since 2017 and is dedicated to reducing energy\, carbon and hazardous indoor air quality issues in existing multifamily buildings. As a technical assistance (TA) provider for the Bay Area Multifamily Building Enhancement (BAMBE) program\, Jack project manages energy upgrades across numerous multifamily buildings. Jack continues to manage the development of tools to support new technical aspects of energy efficiency programs AEA administers\, including: energy savings\, equipment sizing\, eligibility\, and rebate calculations for new or updated program elements. Jack also has also been instrumental in assisting companies bringing new technologies to the CA market such as retrofit heat pump HVAC systems and load shedding/sharing systems to make electrification projects more feasible. Jack holds a Bachelor of Science in Environmental Resources Engineering from Humboldt State University. Jack is a certified Engineer in Training (EIT)\, BPI Building Analyst (BA)\, and Certified Passive House Consultant (NAPHN).
URL:https://efficiencyfirstca.org/event/installing-individual-heat-pump-water-heaters-2/
LOCATION:Online
CATEGORIES:Association for Energy Affordability
END:VEVENT
END:VCALENDAR