BEGIN:VCALENDAR
VERSION:2.0
PRODID:-//Efficiency First California - ECPv6.8.2.1//NONSGML v1.0//EN
CALSCALE:GREGORIAN
METHOD:PUBLISH
X-WR-CALNAME:Efficiency First California
X-ORIGINAL-URL:https://efficiencyfirstca.org
X-WR-CALDESC:Events for Efficiency First California
REFRESH-INTERVAL;VALUE=DURATION:PT1H
X-Robots-Tag:noindex
X-PUBLISHED-TTL:PT1H
BEGIN:VTIMEZONE
TZID:America/Los_Angeles
BEGIN:DAYLIGHT
TZOFFSETFROM:-0800
TZOFFSETTO:-0700
TZNAME:PDT
DTSTART:20240310T100000
END:DAYLIGHT
BEGIN:STANDARD
TZOFFSETFROM:-0700
TZOFFSETTO:-0800
TZNAME:PST
DTSTART:20241103T090000
END:STANDARD
END:VTIMEZONE
BEGIN:VEVENT
DTSTART;TZID=America/Los_Angeles:20241107T093000
DTEND;TZID=America/Los_Angeles:20241107T103000
DTSTAMP:20260422T004751
CREATED:20241025T004431Z
LAST-MODIFIED:20241025T004431Z
UID:64991-1730971800-1730975400@efficiencyfirstca.org
SUMMARY:Heat Pump Water Heaters for Building Departments
DESCRIPTION:Heat pump water heaters (HPWHs) are an increasingly popular technology that are a highly efficient means of providing hot water to houses. This training will describe HPWHs\, code requirements for HPWHs\, resources for permitting and compliance\, and best practices for enforcement. Topics Covered: Overview of water heater technologies and trends\, identifying HPWHs in the field\, Energy Code requirements for HPWH installations and replacements\, Energy Code compliance forms\, and requirements specific to HPWHs.
URL:https://efficiencyfirstca.org/event/heat-pump-water-heaters-for-building-departments/
LOCATION:Online
CATEGORIES:BAYREN
END:VEVENT
END:VCALENDAR