BEGIN:VCALENDAR
VERSION:2.0
PRODID:-//Efficiency First California - ECPv6.8.2.1//NONSGML v1.0//EN
CALSCALE:GREGORIAN
METHOD:PUBLISH
X-WR-CALNAME:Efficiency First California
X-ORIGINAL-URL:https://efficiencyfirstca.org
X-WR-CALDESC:Events for Efficiency First California
REFRESH-INTERVAL;VALUE=DURATION:PT1H
X-Robots-Tag:noindex
X-PUBLISHED-TTL:PT1H
BEGIN:VTIMEZONE
TZID:America/Los_Angeles
BEGIN:DAYLIGHT
TZOFFSETFROM:-0800
TZOFFSETTO:-0700
TZNAME:PDT
DTSTART:20230312T100000
END:DAYLIGHT
BEGIN:STANDARD
TZOFFSETFROM:-0700
TZOFFSETTO:-0800
TZNAME:PST
DTSTART:20231105T090000
END:STANDARD
END:VTIMEZONE
BEGIN:VEVENT
DTSTART;TZID=America/Los_Angeles:20230906T150000
DTEND;TZID=America/Los_Angeles:20230906T170000
DTSTAMP:20260422T104408
CREATED:20230802T044721Z
LAST-MODIFIED:20230802T044721Z
UID:62212-1694012400-1694019600@efficiencyfirstca.org
SUMMARY:High Performance Buildings & Careers – Class 1: High Performance Fundamentals Series
DESCRIPTION:This is class 1 of 6 in 3C-REN’s High Performance Fundamentals Certificate series. Earn a 3C-REN certificate of completion after finishing the series and passing short quizzes at the end of each class. \nCode compliance is a minimum standard for building performance; by contrast\, “high performance” refers to buildings that are designed\, built\, and commissioned to exceed the performance of conventional buildings in energy efficiency\, durability\, comfort\, safety\, and indoor air quality. The magnitude of the opportunity to fill this gap cannot be over-emphasized. For example\, field research found that a single-day high-performance retrofit can improve HVAC system performance in new homes by an average of 25%. While the mainstream building industry strives for code compliance\, a small fraction of those in the industry adopt high-performance practices and produce homes and commercial facilities with lower energy use\, greater resilience\, exceptional durability\, outstanding comfort\, and low to zero onsite emissions. These individuals are consistently in demand\, command higher wages\, win awards\, and have the satisfaction of building a better world for themselves\, their families\, and communities. The secret sauce? Setting quantitative goals\, measuring performance\, and marketing the superior outcomes. \nThis class – the first of six in 3C-REN’s High Performance Fundamentals Program – is an introduction to the opportunities presented by working in the realm of high-performance buildings\, and how to create a place for yourself within that realm.
URL:https://efficiencyfirstca.org/event/high-performance-buildings-careers-class-1-high-performance-fundamentals-series/
CATEGORIES:3C-REN,Building Decarbonization Coalition,National Comfort Institute,Southern California Edison
END:VEVENT
BEGIN:VEVENT
DTSTART;TZID=America/Los_Angeles:20230914T090000
DTEND;TZID=America/Los_Angeles:20230914T130000
DTSTAMP:20260422T104408
CREATED:20230718T060247Z
LAST-MODIFIED:20230718T060247Z
UID:62122-1694682000-1694696400@efficiencyfirstca.org
SUMMARY:Electric Heat Pumps for Space Heating and Cooling
DESCRIPTION:As our electricity supply becomes cleaner due to increased use of renewable’s for generation along with a growing number of local ordinances prohibiting installs in new homes\, electricity becomes an attractive fuel source to designers and builders interested in reducing residential greenhouse gas emissions and creating zero net energy buildings. Dan Perunko of Balance Point Home Performance will present on efficiency gains and emissions reductions from electric heat pumps in new and existing buildings and will cover the advantages and limitations of these systems\, the available technology and refrigerant types. Discussion will touch on interactions with indoor air quality issues and building enclosure considerations.
URL:https://efficiencyfirstca.org/event/electric-heat-pumps-for-space-heating-and-cooling/
CATEGORIES:3C-REN,Association for Energy Affordability,Building Decarbonization Coalition,Energy Code Ace
END:VEVENT
BEGIN:VEVENT
DTSTART;TZID=America/Los_Angeles:20230914T150000
DTEND;TZID=America/Los_Angeles:20230914T170000
DTSTAMP:20260422T104408
CREATED:20230802T045246Z
LAST-MODIFIED:20230802T045246Z
UID:62216-1694703600-1694710800@efficiencyfirstca.org
SUMMARY:Using Building Science to Design and Build High Performance Homes – Class 2: High Performance Fundamentals Series
DESCRIPTION:This is class 2 of 6 in 3C-REN’s High Performance Fundamentals Certificate series. Earn a 3C-REN certificate of completion after finishing the series and passing short quizzes at the end of each class. \nDescription: Most of us either have or would like to forget our high school biology\, chemistry\, and physical science. But believe it or not\, it’s spot on to translate that science into how buildings actually work. This course applies essential building science principles to the design and construction of climate-tuned\, resilient\, top-value homes that are better for owners\, better for the environment\, and better for your work as building professionals. \nWhat’s “better value” for owners\, the environment\, and you? Using science to integrate energy efficiency\, thermal comfort\, moisture management\, durability\, and resilience.
URL:https://efficiencyfirstca.org/event/using-building-science-to-design-and-build-high-performance-homes-class-2-high-performance-fundamentals-series/
CATEGORIES:3C-REN,Association for Energy Affordability,Building Decarbonization Coalition,National Comfort Institute,Southern California Edison
END:VEVENT
END:VCALENDAR