BEGIN:VCALENDAR
VERSION:2.0
PRODID:-//Efficiency First California - ECPv6.8.2.1//NONSGML v1.0//EN
CALSCALE:GREGORIAN
METHOD:PUBLISH
X-WR-CALNAME:Efficiency First California
X-ORIGINAL-URL:https://efficiencyfirstca.org
X-WR-CALDESC:Events for Efficiency First California
REFRESH-INTERVAL;VALUE=DURATION:PT1H
X-Robots-Tag:noindex
X-PUBLISHED-TTL:PT1H
BEGIN:VTIMEZONE
TZID:America/Los_Angeles
BEGIN:DAYLIGHT
TZOFFSETFROM:-0800
TZOFFSETTO:-0700
TZNAME:PDT
DTSTART:20230312T100000
END:DAYLIGHT
BEGIN:STANDARD
TZOFFSETFROM:-0700
TZOFFSETTO:-0800
TZNAME:PST
DTSTART:20231105T090000
END:STANDARD
BEGIN:DAYLIGHT
TZOFFSETFROM:-0800
TZOFFSETTO:-0700
TZNAME:PDT
DTSTART:20240310T100000
END:DAYLIGHT
BEGIN:STANDARD
TZOFFSETFROM:-0700
TZOFFSETTO:-0800
TZNAME:PST
DTSTART:20241103T090000
END:STANDARD
END:VTIMEZONE
BEGIN:VEVENT
DTSTART;TZID=America/Los_Angeles:20230914T150000
DTEND;TZID=America/Los_Angeles:20230914T170000
DTSTAMP:20260423T042406
CREATED:20230802T045246Z
LAST-MODIFIED:20230802T045246Z
UID:62216-1694703600-1694710800@efficiencyfirstca.org
SUMMARY:Using Building Science to Design and Build High Performance Homes – Class 2: High Performance Fundamentals Series
DESCRIPTION:This is class 2 of 6 in 3C-REN’s High Performance Fundamentals Certificate series. Earn a 3C-REN certificate of completion after finishing the series and passing short quizzes at the end of each class. \nDescription: Most of us either have or would like to forget our high school biology\, chemistry\, and physical science. But believe it or not\, it’s spot on to translate that science into how buildings actually work. This course applies essential building science principles to the design and construction of climate-tuned\, resilient\, top-value homes that are better for owners\, better for the environment\, and better for your work as building professionals. \nWhat’s “better value” for owners\, the environment\, and you? Using science to integrate energy efficiency\, thermal comfort\, moisture management\, durability\, and resilience.
URL:https://efficiencyfirstca.org/event/using-building-science-to-design-and-build-high-performance-homes-class-2-high-performance-fundamentals-series/
CATEGORIES:3C-REN,Association for Energy Affordability,Building Decarbonization Coalition,National Comfort Institute,Southern California Edison
END:VEVENT
BEGIN:VEVENT
DTSTART;VALUE=DATE:20231016
DTEND;VALUE=DATE:20231019
DTSTAMP:20260423T042406
CREATED:20230321T231220Z
LAST-MODIFIED:20230531T233346Z
UID:60445-1697414400-1697673599@efficiencyfirstca.org
SUMMARY:ACEEE: Energy Efficiency as a Resource
DESCRIPTION:Utility energy efficiency programs have a strong record of saving customers energy and money. But today’s urgent challenges—from climate change to inequitable energy burdens—demand that we ramp up these efficiency efforts and reimagine what these programs are capable of\, building on the strong foundations in place. Join us at the Energy Efficiency as Resource (EER) conference in Philadelphia\, October 16–18\, 2023\, to explore how efficiency efforts can expand and evolve amid a transforming utility industry.
URL:https://efficiencyfirstca.org/event/aceee-energy-efficiency-as-a-resource/
LOCATION:DoubleTree by Hilton\, Philadelphia\, PA\, United States
CATEGORIES:3C-REN,Association for Energy Affordability,BAYREN,Building Decarbonization Coalition,Building Performance Association,Energy Code Ace,Home Performance with Energy Star,National Comfort Institute,Pacific Gas & Electric,Southern California Edison,Switch is On,TECH Clean California
END:VEVENT
BEGIN:VEVENT
DTSTART;TZID=America/Los_Angeles:20231115T083000
DTEND;TZID=America/Los_Angeles:20231115T123000
DTSTAMP:20260423T042406
CREATED:20231108T034250Z
LAST-MODIFIED:20231108T034250Z
UID:62892-1700037000-1700051400@efficiencyfirstca.org
SUMMARY:Course: BOC 1005 Part 1 Indoor Environmental Quality
DESCRIPTION:Course Description: \nParticipants will learn about the causes of indoor environmental quality (IEQ) problems and the relationships between cause\, control\, occupant sensitivity\, and ventilation to develop a reliable method of diagnosis and remediation. \nInstructor Information: \nMike Smith \nAgenda: \n\nIndoor Environmental Quality Overview\nFundamentals of Indoor Environmental Quality\nPreventing IEQ Problems\nEffective Communication\nCourse Project\n\nLearning Outcomes: \nAt the completion of Indoor Environmental Quality\, a participant will be able to: \n\nDescribe the key factors that determine indoor environmental quality in commercial buildings.\nIdentify basic air handling equipment and implications for thermal comfort and indoor air quality.\nList the elements of a basic indoor environmental quality program and assist in creating one.\nDescribe the relationship between moisture\, mold\, and ventilation.\nList the procedures to effectively manage indoor air quality concerns and complaints.\nCommunicate effectively with occupants about IEQ issues.\nIdentify a minimum of two information resources for managing IEQ.\n\nTarget Audience: \n\nCommercial building operators and maintenance staff\nEnergy managers\, resources conservation managers\, facility managers\n\nPrerequisite(s): \n\nN/A\n\nLearning Units: \n\n1.0 BOC Credit\n\nLearning Units: \n\nN/A\n\nLearning Level: \nIntermediate Class: Content is appropriate for individuals who possess a fundamental understanding of the topic and have familiarity with basic terminology and methodology of the subject matter. Attendees should have the capacity to participate in instructor-led exercises requiring synthesis and application of concepts. \nSpecial Instructions: \nThis is a Zoom class and internet access is required. \nClick here to register online: Click Here
URL:https://efficiencyfirstca.org/event/course-boc-1005-part-1-indoor-environmental-quality/
LOCATION:Online
CATEGORIES:Building Decarbonization Coalition
END:VEVENT
BEGIN:VEVENT
DTSTART;TZID=America/Los_Angeles:20231116T083000
DTEND;TZID=America/Los_Angeles:20231116T123000
DTSTAMP:20260423T042406
CREATED:20231108T034641Z
LAST-MODIFIED:20231108T034641Z
UID:62894-1700123400-1700137800@efficiencyfirstca.org
SUMMARY:Course: BOC 1005 Part 2 Indoor Environmental Quality
DESCRIPTION:Course Description: \nParticipants will learn about the causes of indoor environmental quality (IEQ) problems and the relationships between cause\, control\, occupant sensitivity\, and ventilation to develop a reliable method of diagnosis and remediation. \nInstructor Information: \nMike Smith \nAgenda: \n\nIndoor Environmental Quality Overview\nFundamentals of Indoor Environmental Quality\nPreventing IEQ Problems\nEffective Communication\nCourse Project\n\nLearning Outcomes: \nAt the completion of Indoor Environmental Quality\, a participant will be able to: \n\nDescribe the key factors that determine indoor environmental quality in commercial buildings.\nIdentify basic air handling equipment and implications for thermal comfort and indoor air quality.\nList the elements of a basic indoor environmental quality program and assist in creating one.\nDescribe the relationship between moisture\, mold\, and ventilation.\nList the procedures to effectively manage indoor air quality concerns and complaints.\nCommunicate effectively with occupants about IEQ issues.\nIdentify a minimum of two information resources for managing IEQ.\n\nTarget Audience: \n\nCommercial building operators and maintenance staff\nEnergy managers\, resources conservation managers\, facility managers\n\nPrerequisite(s): \n\nN/A\n\nLearning Units: \n\n1.0 BOC Credit\n\nLearning Units: \n\nN/A\n\nLearning Level: \nIntermediate Class: Content is appropriate for individuals who possess a fundamental understanding of the topic and have familiarity with basic terminology and methodology of the subject matter. Attendees should have the capacity to participate in instructor-led exercises requiring synthesis and application of concepts. \nSpecial Instructions: \nThis is a Zoom class and internet access is required. \nClick here to register online: Click Here
URL:https://efficiencyfirstca.org/event/course-boc-1005-part-2-indoor-environmental-quality/
LOCATION:Online
CATEGORIES:Building Decarbonization Coalition
END:VEVENT
BEGIN:VEVENT
DTSTART;TZID=America/Los_Angeles:20240530T100000
DTEND;TZID=America/Los_Angeles:20240530T113000
DTSTAMP:20260423T042406
CREATED:20240529T000902Z
LAST-MODIFIED:20240529T000902Z
UID:63919-1717063200-1717068600@efficiencyfirstca.org
SUMMARY:National Open Data for Electrification
DESCRIPTION:The National Open Data for Electrification (NODE) Collective is a nonprofit alliance creating the most comprehensive and up-to-date open data repository of every residential electrification incentive program in the nation\, with plans to make the resource open and accessible to all. Join this webinar to hear from NODE’s founding organizations – Eli Technologies\, Building Decarbonization Coalition (BDC)\, Rewiring America\, North Carolina Clean Energy Technology Center\, and RMI – about the progress to date\, the NODE Collective roadmap\, and how this initiative can spur market innovation and make residential electrification more affordable for consumers.
URL:https://efficiencyfirstca.org/event/national-open-data-for-electrification/
LOCATION:Online
CATEGORIES:Building Decarbonization Coalition
END:VEVENT
BEGIN:VEVENT
DTSTART;TZID=America/Los_Angeles:20240716T100000
DTEND;TZID=America/Los_Angeles:20240716T110000
DTSTAMP:20260423T042406
CREATED:20240713T040636Z
LAST-MODIFIED:20240713T040636Z
UID:64183-1721124000-1721127600@efficiencyfirstca.org
SUMMARY:California Policy Call!
DESCRIPTION:Join the CA Team as we dive into California Policy Updates!
URL:https://efficiencyfirstca.org/event/california-policy-call/
LOCATION:Online
CATEGORIES:Building Decarbonization Coalition
END:VEVENT
BEGIN:VEVENT
DTSTART;TZID=America/Los_Angeles:20240717T110000
DTEND;TZID=America/Los_Angeles:20240717T120000
DTSTAMP:20260423T042406
CREATED:20240713T040809Z
LAST-MODIFIED:20240713T040840Z
UID:64185-1721214000-1721217600@efficiencyfirstca.org
SUMMARY:Extreme Weather Events and Building Resilience in Home Electrification and Decarbonization
DESCRIPTION:Climate change is driving a rise in the frequency and intensity of extreme weather events\, such as heatwaves\, cold snaps\, floods\, hurricanes\, etc.\, significantly impacting the stability and reliability of buildings’ energy systems and infrastructure. This seminar will delve into the intersection of extreme weather events and resilience strategies associated with reducing emissions from homes. Key topics include identifying the vulnerabilities of current home electrification systems to extreme weather events and highlighting the critical need for home resilient design and technologies. The seminar will present innovative solutions and best practices to enhance the durability and adaptability of home energy systems\, during and after severe weather events. Through expert presentations and case studies\, attendees will acquire a comprehensive understanding of the challenges and opportunities in building resilient home electrification systems capable of withstanding extreme weather events. \n  \nSpeakers: Heather Rosenberg (ARUP) Max Wei (LBNL) Josh Quinnell (CEE)
URL:https://efficiencyfirstca.org/event/extreme-weather-events-and-building-resilience-in-home-electrification-and-decarbonization/
LOCATION:Online
CATEGORIES:Building Decarbonization Coalition
END:VEVENT
BEGIN:VEVENT
DTSTART;TZID=America/Los_Angeles:20240718T100000
DTEND;TZID=America/Los_Angeles:20240718T110000
DTSTAMP:20260423T042406
CREATED:20240713T042301Z
LAST-MODIFIED:20240713T042301Z
UID:64194-1721296800-1721300400@efficiencyfirstca.org
SUMMARY:The Multi-State Plan to Power a Surge in Heat Pump Adoption
DESCRIPTION:Earlier this year\, nine states plus Washington\, DC\, signed an agreement to meet ambitious heat pump targets and reduce emissions from buildings. Hear from Emily Levin of the Northeast States for Coordinated Air Use Management (NESCAUM)\, who drafted the agreement\, on how it came to be and what the states are now doing to meet the commitment. Also hear from Zach Berzolla of the Maryland Department of the Environment about the specific steps his state is taking to accelerate heat pump deployment and decarbonize buildings.
URL:https://efficiencyfirstca.org/event/the-multi-state-plan-to-power-a-surge-in-heat-pump-adoption/
LOCATION:Online
CATEGORIES:Building Decarbonization Coalition
END:VEVENT
END:VCALENDAR