BEGIN:VCALENDAR
VERSION:2.0
PRODID:-//Efficiency First California - ECPv6.8.2.1//NONSGML v1.0//EN
CALSCALE:GREGORIAN
METHOD:PUBLISH
X-WR-CALNAME:Efficiency First California
X-ORIGINAL-URL:https://efficiencyfirstca.org
X-WR-CALDESC:Events for Efficiency First California
REFRESH-INTERVAL;VALUE=DURATION:PT1H
X-Robots-Tag:noindex
X-PUBLISHED-TTL:PT1H
BEGIN:VTIMEZONE
TZID:UTC
BEGIN:STANDARD
TZOFFSETFROM:+0000
TZOFFSETTO:+0000
TZNAME:UTC
DTSTART:20230101T000000
END:STANDARD
TZID:America/Los_Angeles
BEGIN:DAYLIGHT
TZOFFSETFROM:-0800
TZOFFSETTO:-0700
TZNAME:PDT
DTSTART:20230312T100000
END:DAYLIGHT
BEGIN:STANDARD
TZOFFSETFROM:-0700
TZOFFSETTO:-0800
TZNAME:PST
DTSTART:20231105T090000
END:STANDARD
END:VTIMEZONE
BEGIN:VEVENT
DTSTART;VALUE=DATE:20230913
DTEND;VALUE=DATE:20230915
DTSTAMP:20260422T235926
CREATED:20230531T232654Z
LAST-MODIFIED:20230531T232654Z
UID:61783-1694563200-1694735999@efficiencyfirstca.org
SUMMARY:10th Annual Net Zero Conference
DESCRIPTION:World-Class Education Sessions\nFeaturing content on: Agriculture\, Biophilia\, Buildings\, Energy\, Fashion\, Food & Beverage\, Health & Wellness\, Materials\, Personal Care\, Technology\, Transit\, Waste\, Water \nInspiring Keynotes\nWorld-class speakers from multidisciplinary backgrounds have held our conference stage. Previous Keynote speakers from XPRIZE\, Edison International\, NASA\, Seventh Generation\, Zero Hour\, the U.S. Green Building Council (USGBC)\, and more. \nNetworking Across Industriesi\n1\,500 attendees from 53 countries and 45 U.S. states spanning all industries
URL:https://efficiencyfirstca.org/event/10th-annual-net-zero-conference/
LOCATION:Los Angeles Convention Center\, 1201 S Figueroa St\, Los Angeles\, CA\, 90015\, United States
CATEGORIES:3C-REN,Association for Energy Affordability,Building Performance Association,Southern California Edison
END:VEVENT
BEGIN:VEVENT
DTSTART;TZID=America/Los_Angeles:20230916T140000
DTEND;TZID=America/Los_Angeles:20230916T210000
DTSTAMP:20260422T235926
CREATED:20230728T001852Z
LAST-MODIFIED:20230728T001852Z
UID:62196-1694872800-1694898000@efficiencyfirstca.org
SUMMARY:The Green Summit - San Diego (In Person & Online)
DESCRIPTION:The Green Summit is an afternoon of TED talk style presentations and panels featuring leaders in business\, tech\, and finance\, sharing their vision for a sustainable future\, along with networking opportunities\, raffles worth thousands of dollars of prizes\, and ending with a rooftop happy hour.\nSpeaking Schedule\n3:00-3:15pm – Dylan Welch – CEO of Green.org\n3:15-3:30pm – Ellen Spooner – Communications Specialist at NOAA\n3:30-3:45pm – Karin Burns – CEO of San Diego Community Power\n3:45-4:00pm – Juan Pablo Alcon – Environmental Lawyer\n4:00-4:15pm – Natalia King Quick – SD Brew Cycle\n4:15-4:30pm – Greg Reid – NY Times Best Selling Author\n4:30-4:40pm – Intermission\n4:40-5:00pm – Panel – San Diego Community Leaders\n5:00-5:15pm – Christina Chang – Head of Sustainability at Adore Me\n5:15-5:30pm – Hap Klopp – Founder of North Face\n5:30-5:45pm – Don Owens – CEO of Black Carbon Coalition\n5:45-6:00pm – Sharon Vidal – Head of Sustainability at Illumina\n6:00-6:15pm – Yi Gi – CEO of Renology\n6:15-7:00pm – VIP Happy Hour\n7:00-9:00pm – General Admission Happy Hour – The Nolan
URL:https://efficiencyfirstca.org/event/the-green-summit-san-diego-in-person-online/
LOCATION:San Diego State University\, 5500 Campanile Drive\, San Diego\, CA\, 92182\, United States
CATEGORIES:3C-REN,Association for Energy Affordability,Building Performance Association,Energy Code Ace,Southern California Edison
END:VEVENT
END:VCALENDAR