BEGIN:VCALENDAR
VERSION:2.0
PRODID:-//Efficiency First California - ECPv6.8.2.1//NONSGML v1.0//EN
CALSCALE:GREGORIAN
METHOD:PUBLISH
X-WR-CALNAME:Efficiency First California
X-ORIGINAL-URL:https://efficiencyfirstca.org
X-WR-CALDESC:Events for Efficiency First California
REFRESH-INTERVAL;VALUE=DURATION:PT1H
X-Robots-Tag:noindex
X-PUBLISHED-TTL:PT1H
BEGIN:VTIMEZONE
TZID:UTC
BEGIN:STANDARD
TZOFFSETFROM:+0000
TZOFFSETTO:+0000
TZNAME:UTC
DTSTART:20230101T000000
END:STANDARD
TZID:America/Los_Angeles
BEGIN:DAYLIGHT
TZOFFSETFROM:-0800
TZOFFSETTO:-0700
TZNAME:PDT
DTSTART:20230312T100000
END:DAYLIGHT
BEGIN:STANDARD
TZOFFSETFROM:-0700
TZOFFSETTO:-0800
TZNAME:PST
DTSTART:20231105T090000
END:STANDARD
END:VTIMEZONE
BEGIN:VEVENT
DTSTART;VALUE=DATE:20231010
DTEND;VALUE=DATE:20231014
DTSTAMP:20260422T220453
CREATED:20230531T233027Z
LAST-MODIFIED:20230531T233027Z
UID:61786-1696896000-1697241599@efficiencyfirstca.org
SUMMARY:EEBA High Performance Home Builder Summit
DESCRIPTION:EEBA’s High Performance Home BuilderSummit will focus on providing the tools and networking that builders\, raters\, analysts\, and architects need to take high performance\, healthy\, resilient homes to new heights. Our annual High Performance Home BuilderSummit showcases cutting edge research and best practices of high performance housing. The time to dramatically accelerate the creation of high performance homes is now. EEBA can no longer be satisfied with (only) the dissemination of building science information. Through this Summit\, EEBA will educate building professionals\, with the goal that they leave our events inspired to effectively build and sell high performance homes at a far greater pace.
URL:https://efficiencyfirstca.org/event/eeba-high-performance-home-builder-summit/
LOCATION:Salt Palace Convention Center\, 90 South West Temple\, Salt Lake City\, UT\, 84101\, United States
CATEGORIES:3C-REN,Association for Energy Affordability,Building Performance Association,National Comfort Institute,Southern California Edison
END:VEVENT
BEGIN:VEVENT
DTSTART;VALUE=DATE:20231016
DTEND;VALUE=DATE:20231019
DTSTAMP:20260422T220453
CREATED:20230321T231220Z
LAST-MODIFIED:20230531T233346Z
UID:60445-1697414400-1697673599@efficiencyfirstca.org
SUMMARY:ACEEE: Energy Efficiency as a Resource
DESCRIPTION:Utility energy efficiency programs have a strong record of saving customers energy and money. But today’s urgent challenges—from climate change to inequitable energy burdens—demand that we ramp up these efficiency efforts and reimagine what these programs are capable of\, building on the strong foundations in place. Join us at the Energy Efficiency as Resource (EER) conference in Philadelphia\, October 16–18\, 2023\, to explore how efficiency efforts can expand and evolve amid a transforming utility industry.
URL:https://efficiencyfirstca.org/event/aceee-energy-efficiency-as-a-resource/
LOCATION:DoubleTree by Hilton\, Philadelphia\, PA\, United States
CATEGORIES:3C-REN,Association for Energy Affordability,BAYREN,Building Decarbonization Coalition,Building Performance Association,Energy Code Ace,Home Performance with Energy Star,National Comfort Institute,Pacific Gas & Electric,Southern California Edison,Switch is On,TECH Clean California
END:VEVENT
BEGIN:VEVENT
DTSTART;VALUE=DATE:20231027
DTEND;VALUE=DATE:20231028
DTSTAMP:20260422T220453
CREATED:20230926T000402Z
LAST-MODIFIED:20230926T000402Z
UID:62776-1698364800-1698451199@efficiencyfirstca.org
SUMMARY:2023 San Diego Green Building Conference & Expo
DESCRIPTION:BUILDING POSITIVE: CULTIVATING A REGENERATIVE FUTURE\nWe are pleased to bring you the 9th annual San Diego Green Building Conference & Expo (SDGBCE23) on Friday\, October 27\, 2023 at UC San Diego Park & Market. This is San Diego’s premier event for green building professionals from all fields of expertise to come together to share ideas\, inspiration and connection. This year we are partnering with the World Woman Foundation’s Sustainability Forum taking place on Thursday\, October 26th at UC San Diego Park & Market. Join both days of this exciting collaboration to hear from visionary leaders\, activists\, entrepreneurs\, academics\, artists and policymakers.
URL:https://efficiencyfirstca.org/event/2023-san-diego-green-building-conference-expo/
LOCATION:OH
CATEGORIES:3C-REN,Association for Energy Affordability,Building Performance Association,Southern California Edison
END:VEVENT
END:VCALENDAR