BEGIN:VCALENDAR
VERSION:2.0
PRODID:-//Efficiency First California - ECPv6.8.2.1//NONSGML v1.0//EN
CALSCALE:GREGORIAN
METHOD:PUBLISH
X-ORIGINAL-URL:https://efficiencyfirstca.org
X-WR-CALDESC:Events for Efficiency First California
REFRESH-INTERVAL;VALUE=DURATION:PT1H
X-Robots-Tag:noindex
X-PUBLISHED-TTL:PT1H
BEGIN:VTIMEZONE
TZID:America/Los_Angeles
BEGIN:DAYLIGHT
TZOFFSETFROM:-0800
TZOFFSETTO:-0700
TZNAME:PDT
DTSTART:20240310T100000
END:DAYLIGHT
BEGIN:STANDARD
TZOFFSETFROM:-0700
TZOFFSETTO:-0800
TZNAME:PST
DTSTART:20241103T090000
END:STANDARD
END:VTIMEZONE
BEGIN:VEVENT
DTSTART;TZID=America/Los_Angeles:20241126T150000
DTEND;TZID=America/Los_Angeles:20241126T160000
DTSTAMP:20260421T133342
CREATED:20241113T030903Z
LAST-MODIFIED:20241113T030903Z
UID:65131-1732633200-1732636800@efficiencyfirstca.org
SUMMARY:Maintenance Agreements for Profit
DESCRIPTION:Do you have an HVAC line of business? Don’t forget to offer maintenance agreements!  These ongoing contracts can turn on cash flow for the rest of the company like nothing else. \nIn this session we will cover the reasons why you need a solid maintenance agreement program\, what it should include\, and how to get the most out of it. Then\, we will cover 3 Key Performance Indicators and how to calculate each when it comes to your technician’s performance while doing maintenance work. \nAttend this session with Bill Kinnard\, President of Grandy & Associates\, to get your maintenance agreement program humming on all cylinders. \nLearning Objectives \nName the benefits and features of a good maintenance agreement program\nList 3 KPIs to measure your program\nDescribe how to implement the KPIs with your service techs
URL:https://efficiencyfirstca.org/event/maintenance-agreements-for-profit/
LOCATION:Online
CATEGORIES:Building Performance Institute
END:VEVENT
END:VCALENDAR