BEGIN:VCALENDAR
VERSION:2.0
PRODID:-//Efficiency First California - ECPv6.8.2.1//NONSGML v1.0//EN
CALSCALE:GREGORIAN
METHOD:PUBLISH
X-WR-CALNAME:Efficiency First California
X-ORIGINAL-URL:https://efficiencyfirstca.org
X-WR-CALDESC:Events for Efficiency First California
REFRESH-INTERVAL;VALUE=DURATION:PT1H
X-Robots-Tag:noindex
X-PUBLISHED-TTL:PT1H
BEGIN:VTIMEZONE
TZID:America/Los_Angeles
BEGIN:DAYLIGHT
TZOFFSETFROM:-0800
TZOFFSETTO:-0700
TZNAME:PDT
DTSTART:20250309T100000
END:DAYLIGHT
BEGIN:STANDARD
TZOFFSETFROM:-0700
TZOFFSETTO:-0800
TZNAME:PST
DTSTART:20251102T090000
END:STANDARD
END:VTIMEZONE
BEGIN:VEVENT
DTSTART;TZID=America/Los_Angeles:20250211T120000
DTEND;TZID=America/Los_Angeles:20250211T130000
DTSTAMP:20260421T095921
CREATED:20250204T040934Z
LAST-MODIFIED:20250204T045500Z
UID:65759-1739275200-1739278800@efficiencyfirstca.org
SUMMARY:Managing Multicultural Teams
DESCRIPTION:Understand how cultural differences within your team can affect their needs and impact the bottom line! At this seminar you’ll learn how to adapt your managerial style to the needs of your diverse group. Discover how to communicate\, motivate\, and manage conflict across cultural boundaries. Get proven techniques to help you function as a true team so that your differences are opportunities for increased creativity and productivity. \nThis course is a don’t-miss for managers that oversee employees of diverse cultural backgrounds and want to leverage the strengths of a multicultural workforce to maximize performance. \nLearning Objectives \nAfter attending this session learners will be able to: \n\nName strategies to build trust and unity within a diverse team\nDescribe how culture influences everyday business interactions\nList 10 ways to improve rapport with employees who are culturally different from you\nGive examples of how leadership\, conflict\, and authority may be perceived differently based on cultural background.
URL:https://efficiencyfirstca.org/event/managing-multicultural-teams/
LOCATION:Online
CATEGORIES:Building Performance Institute
END:VEVENT
END:VCALENDAR