BEGIN:VCALENDAR
VERSION:2.0
PRODID:-//Efficiency First California - ECPv6.8.2.1//NONSGML v1.0//EN
CALSCALE:GREGORIAN
METHOD:PUBLISH
X-ORIGINAL-URL:https://efficiencyfirstca.org
X-WR-CALDESC:Events for Efficiency First California
REFRESH-INTERVAL;VALUE=DURATION:PT1H
X-Robots-Tag:noindex
X-PUBLISHED-TTL:PT1H
BEGIN:VTIMEZONE
TZID:America/Los_Angeles
BEGIN:DAYLIGHT
TZOFFSETFROM:-0800
TZOFFSETTO:-0700
TZNAME:PDT
DTSTART:20230312T100000
END:DAYLIGHT
BEGIN:STANDARD
TZOFFSETFROM:-0700
TZOFFSETTO:-0800
TZNAME:PST
DTSTART:20231105T090000
END:STANDARD
END:VTIMEZONE
BEGIN:VEVENT
DTSTART;TZID=America/Los_Angeles:20230424T100000
DTEND;TZID=America/Los_Angeles:20230424T110000
DTSTAMP:20260423T070946
CREATED:20230321T231152Z
LAST-MODIFIED:20230502T024900Z
UID:60438-1682330400-1682334000@efficiencyfirstca.org
SUMMARY:VIRTUAL | Green Marketing Roundtable | BayREN
DESCRIPTION:Green Marketing Roundtable: Session 1 Monday\, April 24th | 10:00 am – 11:00 am \n“Green Eileen” will host a series of Green Real Estate Marketing Roundtables\, with surprise energy efficiency guests joining for some sessions. She will guide Real Estate Professionals through various proven marketing techniques and tips she has used successfully in her own Green Real Estate Business over the years\, to help attendees develop and enhance their green real estate marketing practices. In this fun and fast-paced program\, Eileen will be answering the question\, “I have my NAR Green Designation. Now what?” \nDig into the Green Resources website to see the resources available. \nLearn how to incorporate these resources into your business. \nSee how to set up your profile. \nReview the links in the student manual. \nCollaborate on how this information can be best utilized.
URL:https://efficiencyfirstca.org/event/virtual-green-marketing-roundtable-bayren/
LOCATION:California
CATEGORIES:National Comfort Institute,Southern California Edison
END:VEVENT
END:VCALENDAR