BEGIN:VCALENDAR
VERSION:2.0
PRODID:-//Efficiency First California - ECPv6.8.2.1//NONSGML v1.0//EN
CALSCALE:GREGORIAN
METHOD:PUBLISH
X-ORIGINAL-URL:https://efficiencyfirstca.org
X-WR-CALDESC:Events for Efficiency First California
REFRESH-INTERVAL;VALUE=DURATION:PT1H
X-Robots-Tag:noindex
X-PUBLISHED-TTL:PT1H
BEGIN:VTIMEZONE
TZID:America/Los_Angeles
BEGIN:DAYLIGHT
TZOFFSETFROM:-0800
TZOFFSETTO:-0700
TZNAME:PDT
DTSTART:20240310T100000
END:DAYLIGHT
BEGIN:STANDARD
TZOFFSETFROM:-0700
TZOFFSETTO:-0800
TZNAME:PST
DTSTART:20241103T090000
END:STANDARD
END:VTIMEZONE
BEGIN:VEVENT
DTSTART;TZID=America/Los_Angeles:20240309T083000
DTEND;TZID=America/Los_Angeles:20240309T130000
DTSTAMP:20260421T110722
CREATED:20240221T012231Z
LAST-MODIFIED:20240403T053742Z
UID:63218-1709973000-1709989200@efficiencyfirstca.org
SUMMARY:Heat Pump Workshop for Space and Water Heating
DESCRIPTION:RCEA is holding two expert presentations on heat pump space and water heating. Learn how heat pumps work\, what the benefits are\, about ducted and ductless systems\, what various kinds of systems are\, and what’s involved in installing and maintaining them. There will be plenty of time for Q&A and a chance to talk with local heat pump contractors. Attendees will learn about general federal\, state\, and local rebates and incentives that are available.  \nSchedule for the day:  \n\n8:30 Meet local heat pump contractors & enjoy refreshments\n9:00-10:30 Presentation 1 – Heat Pump Space Heaters & Q&A\n10:30-11:00 Refreshments and time with local contractors\, our expert instructor Dan Perunko\, and RCEA staff\n11:00-12:15 Presentation 2 – Heat Pump Water Heaters & Q&A\n12:15-1:00 More time with local contractors\, instructor Dan Perunko\, and RCEA staff\n\nRSVPs are encouraged but not required by emailing info@RedwoodEnergy.org. \n\n\nRCEA Rebates and Resources\nRCEA Contractor & Vendor Network
URL:https://efficiencyfirstca.org/event/heat-pump-workshop-for-space-and-water-heating/
LOCATION:D Street Neighborhood Center\, 1301 D Street\, Arcata
CATEGORIES:Reedwood Coast Energy Center
END:VEVENT
END:VCALENDAR