BEGIN:VCALENDAR
VERSION:2.0
PRODID:-//Efficiency First California - ECPv6.8.2.1//NONSGML v1.0//EN
CALSCALE:GREGORIAN
METHOD:PUBLISH
X-ORIGINAL-URL:https://efficiencyfirstca.org
X-WR-CALDESC:Events for Efficiency First California
REFRESH-INTERVAL;VALUE=DURATION:PT1H
X-Robots-Tag:noindex
X-PUBLISHED-TTL:PT1H
BEGIN:VTIMEZONE
TZID:America/Los_Angeles
BEGIN:DAYLIGHT
TZOFFSETFROM:-0800
TZOFFSETTO:-0700
TZNAME:PDT
DTSTART:20240310T100000
END:DAYLIGHT
BEGIN:STANDARD
TZOFFSETFROM:-0700
TZOFFSETTO:-0800
TZNAME:PST
DTSTART:20241103T090000
END:STANDARD
END:VTIMEZONE
BEGIN:VEVENT
DTSTART;TZID=America/Los_Angeles:20240522T100000
DTEND;TZID=America/Los_Angeles:20240522T110000
DTSTAMP:20260421T043607
CREATED:20240514T045146Z
LAST-MODIFIED:20240514T045146Z
UID:63792-1716372000-1716375600@efficiencyfirstca.org
SUMMARY:Combi Heat Pump Webinar
DESCRIPTION:This webinar will delve into combination space and water heating systems\, also known as combi systems. While these systems seem promising\, they present a level of complexity that raises questions about their practicality. The current market boasts standalone heat pump water heaters and space conditioning heat pump systems. This webinar will explore whether it is possible to merge them into a singular device and not sacrifice efficiency and cost. \n\n\n\nField research is underway\, examining various configurations of space and water heating combined systems. In Europe and Asia there are many more market available combi heat pump and heat pump water heating technologies. Products available in the U.S. market are in early commercialization stages and appear tailored for single-family residential use. Some systems offer cooling as an add-on system while others have cooling offered by default. \nJoin us for this event to learn about ongoing advancements in combi systems and the need for further exploration to optimize efficiency\, affordability\, and suitability in order to successfully combine heat pumps for space and water heating. \nPanelists include:\nEdward Louie\nEdward is a Building Energy Efficiency Research Engineer with Pacific Northwest National Laboratory. He loves all things related to building science\, energy efficiency\, and sustainability. His focus is on residential homes. For retrofitting millions of existing homes\, his overarching solution is to implement low-cost\, relatively easy-to-execute envelope improvements to reduce air leakage\, increase insulation and then meet the thermal loads with very energy efficient heat pumps for space conditioning and domestic hot water. \nPierre Delforge\nPierre is co-founder and head of Product and Operations at Harvest Thermal\, where he is leading product design\, development\, and deployment. Before Harvest\, Pierre spent 20 years in the computer industry\, and 12 at NRDC where he led building decarbonization policy advocacy. Pierre is passionate about making home decarbonization cost-effective and accessible to all. \nModerator:\nJoe Wachunas\, Program Manager\, New Buildings Institute
URL:https://efficiencyfirstca.org/event/combi-heat-pump-webinar/
LOCATION:Online
CATEGORIES:NBI,San Diego LEARN
END:VEVENT
END:VCALENDAR