BEGIN:VCALENDAR
VERSION:2.0
PRODID:-//Efficiency First California - ECPv6.8.2.1//NONSGML v1.0//EN
CALSCALE:GREGORIAN
METHOD:PUBLISH
X-ORIGINAL-URL:https://efficiencyfirstca.org
X-WR-CALDESC:Events for Efficiency First California
REFRESH-INTERVAL;VALUE=DURATION:PT1H
X-Robots-Tag:noindex
X-PUBLISHED-TTL:PT1H
BEGIN:VTIMEZONE
TZID:America/Los_Angeles
BEGIN:DAYLIGHT
TZOFFSETFROM:-0800
TZOFFSETTO:-0700
TZNAME:PDT
DTSTART:20240310T100000
END:DAYLIGHT
BEGIN:STANDARD
TZOFFSETFROM:-0700
TZOFFSETTO:-0800
TZNAME:PST
DTSTART:20241103T090000
END:STANDARD
END:VTIMEZONE
BEGIN:VEVENT
DTSTART;TZID=America/Los_Angeles:20240815T100000
DTEND;TZID=America/Los_Angeles:20240815T110000
DTSTAMP:20260421T030610
CREATED:20240807T001317Z
LAST-MODIFIED:20240807T001317Z
UID:64414-1723716000-1723719600@efficiencyfirstca.org
SUMMARY:A Guide to HERS Testing and the Responsibilities of a Contractor
DESCRIPTION:Live webinar covering the basics of the California Energy Code\, required compliance documentation and contractor/installer responsibilities. \nHave questions? Stay for a live Q&A following the webinar! \nIf you have any questions regarding the webinar or have problems signing up\, please send an email to Training@ConSol.org for assistance.
URL:https://efficiencyfirstca.org/event/a-guide-to-hers-testing-and-the-responsibilities-of-a-contractor/
LOCATION:Online
CATEGORIES:San Diego LEARN
END:VEVENT
END:VCALENDAR