BEGIN:VCALENDAR
VERSION:2.0
PRODID:-//Efficiency First California - ECPv6.8.2.1//NONSGML v1.0//EN
CALSCALE:GREGORIAN
METHOD:PUBLISH
X-WR-CALNAME:Efficiency First California
X-ORIGINAL-URL:https://efficiencyfirstca.org
X-WR-CALDESC:Events for Efficiency First California
REFRESH-INTERVAL;VALUE=DURATION:PT1H
X-Robots-Tag:noindex
X-PUBLISHED-TTL:PT1H
BEGIN:VTIMEZONE
TZID:America/Los_Angeles
BEGIN:DAYLIGHT
TZOFFSETFROM:-0800
TZOFFSETTO:-0700
TZNAME:PDT
DTSTART:20250309T100000
END:DAYLIGHT
BEGIN:STANDARD
TZOFFSETFROM:-0700
TZOFFSETTO:-0800
TZNAME:PST
DTSTART:20251102T090000
END:STANDARD
END:VTIMEZONE
BEGIN:VEVENT
DTSTART;TZID=America/Los_Angeles:20250310T180000
DTEND;TZID=America/Los_Angeles:20250310T210000
DTSTAMP:20260418T184517
CREATED:20250204T041203Z
LAST-MODIFIED:20250204T041748Z
UID:65761-1741629600-1741640400@efficiencyfirstca.org
SUMMARY:IHACI - AC/HP Refrigeration Module Part 1 (In-Person)
DESCRIPTION:This four-part seminar starts with the practical fundamentals and theory behind basic air conditioning and heat pump systems and systematically moves through the process involved for Quality Installation (QI)\, Quality Maintenance (QM) and Quality Service (QS) of residential and light commercial air conditioning and heat pump systems as they apply to the California market. This evening series provides comprehensive skills required to properly install\, commission\, maintain\, service\, diagnose and verify that the air conditioning and heat pump systems they are working on are safe\, reliable and operate at the highest capacity and energy efficiency possible. \nPart 1 – Practical Fundamentals and Theory of the Refrigeration Circuit \n\nBasic physical properties of air conditioning\, common definitions used in the trade\, psychometrics\, the comfort index\, indoor air quality\, refrigerant properties.\nPractical fundamentals and theories used in all air conditioning and heat pump systems.
URL:https://efficiencyfirstca.org/event/ihaci-ac-hp-refrigeration-module-part-1-in-person/
LOCATION:Energy Resource Center\, 9240 Firestone Blvd.\, Downey\, CA\, 90241-5388\, United States
CATEGORIES:SoCalGas
ORGANIZER;CN="So Cal Gas":MAILTO:ERC@socalgas.com
END:VEVENT
BEGIN:VEVENT
DTSTART;TZID=America/Los_Angeles:20250311T180000
DTEND;TZID=America/Los_Angeles:20250311T210000
DTSTAMP:20260418T184517
CREATED:20250204T041317Z
LAST-MODIFIED:20250204T041317Z
UID:65763-1741716000-1741726800@efficiencyfirstca.org
SUMMARY:IHACI - AC/HP Refrigeration Module Part 2 (In-Person)
DESCRIPTION:This four-part seminar starts with the practical fundamentals and theory behind basic air conditioning and heat pump systems\, and systematically moves through the process involved for Quality Installation (QI)\, Quality Maintenance (QM) and Quality Service (QS) of residential and light commercial air conditioning and heat pump systems as they apply to the California market. This evening series provides comprehensive skills required to properly install\, commission\, maintain\, service\, diagnose and verify that the air conditioning and heat pump systems they are working on are safe\, reliable and operate at the highest capacity and energy efficiency possible. \n\nPart 2 – CAQI of Air Conditioning and Heat Pump Systems \n\nQuality Installation of air conditioning and heat pump systems as they apply to the California market (CAQI).\nProper selection methodology\, basic system components\, system accessories\, proper field installation techniques\, basic zone systems\, air filtration\, humidification\, and ventilation.
URL:https://efficiencyfirstca.org/event/ihaci-ac-hp-refrigeration-module-part-2-in-person/
LOCATION:Energy Resource Center\, 9240 Firestone Blvd.\, Downey\, CA\, 90241-5388\, United States
CATEGORIES:SoCalGas
ORGANIZER;CN="So Cal Gas":MAILTO:ERC@socalgas.com
END:VEVENT
BEGIN:VEVENT
DTSTART;TZID=America/Los_Angeles:20250331T180000
DTEND;TZID=America/Los_Angeles:20250331T210000
DTSTAMP:20260418T184517
CREATED:20250204T041420Z
LAST-MODIFIED:20250204T041420Z
UID:65765-1743444000-1743454800@efficiencyfirstca.org
SUMMARY:IHACI - AC/HP Refrigeration Module Part 3 (In-Person)
DESCRIPTION:This four-part seminar starts with the practical fundamentals and theory behind basic air conditioning and heat pump systems\, and systematically moves through the process involved for Quality Installation (QI)\, Quality Maintenance (QM) and Quality Service (QS) of residential and light commercial air conditioning and heat pump systems as they apply to the California market. This evening series provides comprehensive skills required to properly install\, commission\, maintain\, service\, diagnose and verify that the air conditioning and heat pump systems they are working on are safe\, reliable and operate at the highest capacity and energy efficiency possible. \n\n\n\nPart 3 – CAQM of Air Conditioning and Heat Pump Systems \n\nQuality Maintenance of air conditioning and heat pump systems as they apply to the California market (CAQM).\nProper system commissioning after installation and major component replacements\, field instruments used for measuring refrigerant pressures and temperatures\, condenser air temperatures\, and conditioned temperatures\, humidity\, pressure\, filtration\, velocity and volume\, proper field measuring techniques\, system airflow adjustment and planned preventative maintenance.
URL:https://efficiencyfirstca.org/event/ihaci-ac-hp-refrigeration-module-part-3-in-person/
LOCATION:Energy Resource Center\, 9240 Firestone Blvd.\, Downey\, CA\, 90241-5388\, United States
CATEGORIES:SoCalGas
ORGANIZER;CN="So Cal Gas":MAILTO:ERC@socalgas.com
END:VEVENT
END:VCALENDAR