BEGIN:VCALENDAR
VERSION:2.0
PRODID:-//Efficiency First California - ECPv6.8.2.1//NONSGML v1.0//EN
CALSCALE:GREGORIAN
METHOD:PUBLISH
X-WR-CALNAME:Efficiency First California
X-ORIGINAL-URL:https://efficiencyfirstca.org
X-WR-CALDESC:Events for Efficiency First California
REFRESH-INTERVAL;VALUE=DURATION:PT1H
X-Robots-Tag:noindex
X-PUBLISHED-TTL:PT1H
BEGIN:VTIMEZONE
TZID:America/Los_Angeles
BEGIN:DAYLIGHT
TZOFFSETFROM:-0800
TZOFFSETTO:-0700
TZNAME:PDT
DTSTART:20250309T100000
END:DAYLIGHT
BEGIN:STANDARD
TZOFFSETFROM:-0700
TZOFFSETTO:-0800
TZNAME:PST
DTSTART:20251102T090000
END:STANDARD
END:VTIMEZONE
BEGIN:VEVENT
DTSTART;TZID=America/Los_Angeles:20250325T110000
DTEND;TZID=America/Los_Angeles:20250325T130000
DTSTAMP:20260422T030345
CREATED:20250222T040012Z
LAST-MODIFIED:20250222T040012Z
UID:65887-1742900400-1742907600@efficiencyfirstca.org
SUMMARY:Avoiding Main Panel Upgrades - Part 1: Demystifying & Calculating Loads on Your Main Panel
DESCRIPTION:Description: \nThis is part 1 of a 2 part class. \nUnderstanding your main electrical panel is essential for the transition to an electrified home. This session simplifies the components of the main electrical panel in a home. It will explain prescriptive and performance-based load calculations to determine whether a main panel upgrade is necessary. It also covers load management techniques and how power-efficient appliances can reduce demand on the electrical panel. \nLearning Outcomes: \nAs a result of attending this class you can expect to learn the following \n\nDifferences between prescriptive ‘bottom-up’ and performance-based ‘actual measured’ load calculations\nHow to assess the need for a panel upgrade based on load calculations\nTechniques for managing electrical loads using power-efficient devices to avoid unnecessary upgrades\nHow to calculate and understand the electrical capacity of your main panel
URL:https://efficiencyfirstca.org/event/avoiding-main-panel-upgrades-part-1-demystifying-calculating-loads-on-your-main-panel/
LOCATION:Online
CATEGORIES:Southern California Edison
END:VEVENT
BEGIN:VEVENT
DTSTART;TZID=America/Los_Angeles:20250326T110000
DTEND;TZID=America/Los_Angeles:20250326T130000
DTSTAMP:20260422T030345
CREATED:20250222T040846Z
LAST-MODIFIED:20250222T040846Z
UID:65890-1742986800-1742994000@efficiencyfirstca.org
SUMMARY:Avoiding Main Panel Upgrades - Part 2: Advanced Solutions & Technologies to Maximize Panel Capacity
DESCRIPTION:Description:\nThis is part 2 of a 2 part class. \nWith increasing demand for electrification\, strategically avoiding main panel upgrades offers significant advantages. This class covers innovative solutions to maximize panel capacity including 120-volt appliances\, smart panels\, load management systems and power control technologies. Participants will learn how to calculate and manage back-feed from solar and storage systems and the use of digital solutions to safely extend the capabilities of their existing electrical infrastructure. \nLearning Outcomes: \nAs a result of attending this class you can expect to learn the following \n\nHow to implement smart electrical panels and load management systems to maximize panel capacity\nStrategies for using 120-volt appliances to reduce demand\nTechniques for calculating and managing back-feed from solar and storage systems\nApplications of advanced digital solutions to extend existing panel capacity.
URL:https://efficiencyfirstca.org/event/avoiding-main-panel-upgrades-part-2-advanced-solutions-technologies-to-maximize-panel-capacity/
LOCATION:Online
CATEGORIES:Southern California Edison
END:VEVENT
END:VCALENDAR