BEGIN:VCALENDAR
VERSION:2.0
PRODID:-//Efficiency First California - ECPv6.8.2.1//NONSGML v1.0//EN
CALSCALE:GREGORIAN
METHOD:PUBLISH
X-ORIGINAL-URL:https://efficiencyfirstca.org
X-WR-CALDESC:Events for Efficiency First California
REFRESH-INTERVAL;VALUE=DURATION:PT1H
X-Robots-Tag:noindex
X-PUBLISHED-TTL:PT1H
BEGIN:VTIMEZONE
TZID:America/Los_Angeles
BEGIN:DAYLIGHT
TZOFFSETFROM:-0800
TZOFFSETTO:-0700
TZNAME:PDT
DTSTART:20250309T100000
END:DAYLIGHT
BEGIN:STANDARD
TZOFFSETFROM:-0700
TZOFFSETTO:-0800
TZNAME:PST
DTSTART:20251102T090000
END:STANDARD
END:VTIMEZONE
BEGIN:VEVENT
DTSTART;TZID=America/Los_Angeles:20250709T100000
DTEND;TZID=America/Los_Angeles:20250709T120000
DTSTAMP:20260421T190338
CREATED:20250627T011104Z
LAST-MODIFIED:20250627T011104Z
UID:67873-1752055200-1752062400@efficiencyfirstca.org
SUMMARY:Electrification & Home Performance Series: 4 - All About Quality Insulation Installation
DESCRIPTION:Description:\nBuilding electrification replaces fossil fuel systems with electric alternatives. As California shifts to all-electric homes\, understanding home performance is essential. Key factors like energy efficiency\, air-sealing\, and insulation reduce energy use\, improve air quality\, and increase comfort. High performance homes use less energy\, making electrification smoother and more sustainable. \nThis class is the fourth in a series on Electrification & Home Performance and covers the requirements and concepts behind QII testing. \nEnhance your knowledge with a single class or complete the series for a thorough understanding of the relationship between home performance and electrification. \nLearning Outcomes: \nAs a result of attending this class you can expect to learn the following \n\nThe principles of 6-sided insulation installation\nHow gaps\, voids and compression impact home performance\nAn understanding of thermal by-pass and air barrier placement
URL:https://efficiencyfirstca.org/event/electrification-home-performance-series-4-all-about-quality-insulation-installation/
LOCATION:Online
CATEGORIES:Southern California Edison
END:VEVENT
BEGIN:VEVENT
DTSTART;TZID=America/Los_Angeles:20250718T110000
DTEND;TZID=America/Los_Angeles:20250718T130000
DTSTAMP:20260421T190338
CREATED:20250627T010718Z
LAST-MODIFIED:20250627T010718Z
UID:67871-1752836400-1752843600@efficiencyfirstca.org
SUMMARY:Career Pathways for Home Energy Professionals
DESCRIPTION:Description: \nThe home energy industry is rapidly expanding\, offering numerous career opportunities in energy efficiency\, solar energy\, green building performance\, and electrification. Whether you are a newcomer\, a student\, or an experienced professional\, understanding available careers is crucial. \nThis class provides an overview of diverse roles\, from entry-level to advanced positions. It focuses on essential certifications\, skills\, and responsibilities for each role. Participants will learn about key tools and technologies like energy auditing\, solar installation\, HVAC systems\, and building performance analysis. \nThe course also highlights industry trends and growth areas\, helping participants align their skills with market demands. With guidance on certification and practical tools\, participants can create a personalized career plan that meets their professional goals and industry needs. \nLearning Outcomes: \nAs a result of attending this class you can expect to learn the following \n\nDetails of career pathways in the home energy industry and the skills and certifications needed for each\nMethods for identifying which certifications align with skills and responsibilities needed for different roles\nThe essential tools and technologies available to enhance your performance in these roles\nHow to develop a career plan within the home energy industry
URL:https://efficiencyfirstca.org/event/career-pathways-for-home-energy-professionals/
LOCATION:Online
CATEGORIES:Southern California Edison
END:VEVENT
BEGIN:VEVENT
DTSTART;TZID=America/Los_Angeles:20250723T100000
DTEND;TZID=America/Los_Angeles:20250723T120000
DTSTAMP:20260421T190338
CREATED:20250717T040539Z
LAST-MODIFIED:20250717T040539Z
UID:67948-1753264800-1753272000@efficiencyfirstca.org
SUMMARY:Electrification & Home Performance Series: 5 - How Tight is Too Tight? (Webinar)
DESCRIPTION:Description:\nBuilding electrification replaces fossil fuel systems with electric alternatives. As California shifts to all-electric homes\, understanding home performance is essential. Key factors like energy efficiency\, air-sealing\, and insulation reduce energy use\, improve air quality\, and increase comfort. High performance homes use less energy\, making electrification smoother and more sustainable. \nThis class is the fifth in a series on Electrification & Home Performance and covers the relationship between leaky buildings and energy efficiency. \nEnhance your knowledge with a single class or complete the series for a thorough understanding of the relationship between home performance and electrification.
URL:https://efficiencyfirstca.org/event/electrification-home-performance-series-5-how-tight-is-too-tight-webinar/
LOCATION:Online
CATEGORIES:Southern California Edison
END:VEVENT
BEGIN:VEVENT
DTSTART;TZID=America/Los_Angeles:20250724T110000
DTEND;TZID=America/Los_Angeles:20250724T130000
DTSTAMP:20260421T190338
CREATED:20250627T010553Z
LAST-MODIFIED:20250627T010553Z
UID:67869-1753354800-1753362000@efficiencyfirstca.org
SUMMARY:The Business Opportunity of Electrification
DESCRIPTION:Description:\nThe accelerating electrification market is creating new opportunities for companies in the residential energy sector. As homeowners transition from fossil fuel powered systems to electric alternatives\, the need for knowledgeable professionals to assist them is increasing. This course aims to provide consultants and contractors with the insights and strategies needed to succeed in this expanding market. \nParticipants will examine the drivers of electrification including policy changes\, consumer preferences\, and technological advancements. This class will address how to effectively present electrification services as a value-added proposition to clients along with exploring various approaches and business models. \nBy understanding the range of opportunities offered by home electrification\, participants will be able to build a more robust business model\, all while proving an impactful offering to homeowners. \nLearning Outcomes: \nAs a result of attending this class you can expect to learn the following \n\nHow to identify and leverage rebates and incentives available for electrification projects\nStrategies for integrating multiple home energy upgrades into a cohesive electrification offering\nMethods for calculating the energy bill impact of electrification upgrades to provide clients with a comprehensive understanding of potential savings and ROI\nHow to position your business strategically within the electrification industry\, adopt new business models and arm yourself with the tools to capture emerging opportunities and stay ahead of market trends.\n\n 
URL:https://efficiencyfirstca.org/event/the-business-opportunity-of-electrification/
LOCATION:Online
CATEGORIES:Southern California Edison
END:VEVENT
END:VCALENDAR