BEGIN:VCALENDAR
VERSION:2.0
PRODID:-//Efficiency First California - ECPv6.8.2.1//NONSGML v1.0//EN
CALSCALE:GREGORIAN
METHOD:PUBLISH
X-WR-CALNAME:Efficiency First California
X-ORIGINAL-URL:https://efficiencyfirstca.org
X-WR-CALDESC:Events for Efficiency First California
REFRESH-INTERVAL;VALUE=DURATION:PT1H
X-Robots-Tag:noindex
X-PUBLISHED-TTL:PT1H
BEGIN:VTIMEZONE
TZID:America/Los_Angeles
BEGIN:DAYLIGHT
TZOFFSETFROM:-0800
TZOFFSETTO:-0700
TZNAME:PDT
DTSTART:20250309T100000
END:DAYLIGHT
BEGIN:STANDARD
TZOFFSETFROM:-0700
TZOFFSETTO:-0800
TZNAME:PST
DTSTART:20251102T090000
END:STANDARD
TZID:UTC
BEGIN:STANDARD
TZOFFSETFROM:+0000
TZOFFSETTO:+0000
TZNAME:UTC
DTSTART:20250101T000000
END:STANDARD
END:VTIMEZONE
BEGIN:VEVENT
DTSTART;TZID=America/Los_Angeles:20250903T100000
DTEND;TZID=America/Los_Angeles:20250903T120000
DTSTAMP:20260421T152119
CREATED:20250717T040721Z
LAST-MODIFIED:20250717T040721Z
UID:67952-1756893600-1756900800@efficiencyfirstca.org
SUMMARY:Electrification & Home Performance Series: 8 - Water Conservation & Home Performance (Webinar)
DESCRIPTION:Description:\nBuilding electrification replaces fossil fuel systems with electric alternatives. As California shifts to all-electric homes\, understanding home performance is essential. Key factors like energy efficiency\, air-sealing\, and insulation reduce energy use\, improve air quality\, and increase comfort. High performance homes use less energy\, making electrification smoother and more sustainable. \nThis class is the eighth in a series on Electrification & Home Performance and covers the methods and products for water conservation and how these benefit home owners as they move towards heat pump water heaters. \nEnhance your knowledge with a single class or complete the series for a thorough understanding of the relationship between home performance and electrification.
URL:https://efficiencyfirstca.org/event/electrification-home-performance-series-8-water-conservation-home-performance-webinar/
LOCATION:Online
CATEGORIES:Southern California Edison
END:VEVENT
BEGIN:VEVENT
DTSTART;VALUE=DATE:20250908
DTEND;VALUE=DATE:20250911
DTSTAMP:20260421T152119
CREATED:20250814T044519Z
LAST-MODIFIED:20250814T044519Z
UID:68022-1757289600-1757548799@efficiencyfirstca.org
SUMMARY:Contractor Demand Building Program
DESCRIPTION:Program description\nThe Contractor Demand Building Program is a hands-on training initiative designed to support California’s skilled trade workforce in the proper installation of Heat Pump Water Heaters (HPWH). Open to all California licensed contractors and their affiliated installers or technicians\, the program offers in-person training sessions held throughout Southern California Edison (SCE) territory. There is no limit to the number of team members a contractor can send. Upon successful completion of the course\, each participant receives one HPWH unit to install within SCE’s service area. This program helps accelerate the adoption of energy-efficient technologies while supporting California’s decarbonization goals. Please visit www.on.sce.com/hpwh to register
URL:https://efficiencyfirstca.org/event/contractor-demand-building-program/
LOCATION:Ferguson Facility\, 2750 Towne Ave.\, Pomona
CATEGORIES:Southern California Edison
END:VEVENT
BEGIN:VEVENT
DTSTART;TZID=America/Los_Angeles:20250910T110000
DTEND;TZID=America/Los_Angeles:20250910T130000
DTSTAMP:20260421T152120
CREATED:20250820T063932Z
LAST-MODIFIED:20250820T063932Z
UID:68069-1757502000-1757509200@efficiencyfirstca.org
SUMMARY:The Business Opportunity of Electrification
DESCRIPTION:Description:\nThe accelerating electrification market is creating unprecedented opportunities for companies in the residential energy sector. As homeowners seek to convert their homes from fossil fuel powered systems to electric alternatives\, the demand for knowledgeable professionals to guide them through this process is increasing. This course is designed to equip consultants and contractors with the insights and strategies needed to thrive in this expanding market. \nParticipants will explore the drivers of electrification including policy changes\, consumer preferences\, and technological advancements. This class will cover how to effectively position electrification services as a value-added proposition to clients and the approaches and business models to consider. \nBy understanding the full scope of opportunities presented by home electrification\, participants will be able to build a more robust business model\, all while proving an impactful offering to homeowners. \nLearning Outcomes: \nAs a result of attending this class you can expect to learn the following \n\nHow to identify and leverage rebates and incentives available for electrification projects\nStrategies for integrating multiple home energy upgrades into a cohesive electrification offering\nMethods for calculating the energy bill impact of electrification upgrades to provide clients with a comprehensive understanding of potential savings and ROI\nHow to position your business strategically within the electrification industry\, adopt new business models and arm yourself with the tools to capture emerging opportunities and stay ahead of market trends.
URL:https://efficiencyfirstca.org/event/the-business-opportunity-of-electrification-2/
LOCATION:Online
CATEGORIES:Southern California Edison
END:VEVENT
BEGIN:VEVENT
DTSTART;TZID=America/Los_Angeles:20250917T100000
DTEND;TZID=America/Los_Angeles:20250917T120000
DTSTAMP:20260421T152120
CREATED:20250820T064059Z
LAST-MODIFIED:20250820T064059Z
UID:68071-1758103200-1758110400@efficiencyfirstca.org
SUMMARY:Residential Electrification - 5Ws and 1H (Webinar)
DESCRIPTION:Description:\nResidential Electrification is coming to newly constructed homes in California. Step by step\, communities and codes are promoting the transition from combustion fuels to electricity as the fuel of choice in homes to reduce impacts on climate change and improve the health and safety of their occupants. \nThis class focuses on basic questions that designers\, builders\, homeowners and other tradespeople may have and identifies the Who\, What\, When\, Where\, Why\, and How of residential electrification. \nLearning Outcomes: \nAs a result of attending this class you can expect to learn the following \n\nA basic understanding of the electrification process\nWhat technologies are available for this transition\nThe benefits electrification has on home performance and home comfort
URL:https://efficiencyfirstca.org/event/residential-electrification-5ws-and-1h-webinar/
LOCATION:Online
CATEGORIES:Southern California Edison
END:VEVENT
BEGIN:VEVENT
DTSTART;TZID=America/Los_Angeles:20250924T110000
DTEND;TZID=America/Los_Angeles:20250924T130000
DTSTAMP:20260421T152120
CREATED:20250820T064245Z
LAST-MODIFIED:20250820T233858Z
UID:68076-1758711600-1758718800@efficiencyfirstca.org
SUMMARY:Avoiding Main Panel Upgrades - Part 2: Advanced Solutions & Technologies to Maximize Panel Capacity (Webinar)
DESCRIPTION:Description:\nThis is part 2 of a 2 part class. \nWith increasing demand for electrification\, strategically avoiding main panel upgrades offers significant advantages. This class covers innovative solutions to maximize panel capacity including 120-volt appliances\, smart panels\, load management systems and power control technologies. Participants will learn how to calculate and manage back-feed from solar and storage systems and the use of digital solutions to safely extend the capabilities of their existing electrical infrastructure. \nLearning Outcomes: \nAs a result of attending this class you can expect to learn the following \n\nHow to implement smart electrical panels and load management systems to maximize panel capacity\nStrategies for using 120-volt appliances to reduce demand\nTechniques for calculating and managing back-feed from solar and storage systems\nApplications of advanced digital solutions to extend existing panel capacity.
URL:https://efficiencyfirstca.org/event/avoiding-main-panel-upgrades-part-2-advanced-solutions-technologies-to-maximize-panel-capacity-webinar/
LOCATION:Online
CATEGORIES:Southern California Edison
END:VEVENT
BEGIN:VEVENT
DTSTART;TZID=America/Los_Angeles:20250926T090000
DTEND;TZID=America/Los_Angeles:20250926T113000
DTSTAMP:20260421T152120
CREATED:20250820T064359Z
LAST-MODIFIED:20250820T064359Z
UID:68078-1758877200-1758886200@efficiencyfirstca.org
SUMMARY:Debunking Electrification Myths – Addressing Misconceptions about BE (Webinar)
DESCRIPTION:Course Description: \nDo many of your clients often have the same questions about electrification\, and you’re not sure how to respond? This session will address common misconceptions surrounding building and transportation electrification. We will explore life cycle costs associated with transitioning to electrified buildings\, discuss the evolving electric grid\, highlight efficient technologies such as heat pumps and electric vehicles\, and evaluate environmental impacts relative to fossil-based technologies. Through interactive discussions and evidence-based insights\, participants will gain a deeper understanding of the benefits associated with building electrification\, enabling them to make better informed choices that promote a sustainable and efficient future. \nInstructor: Dave Intner – Licensed Architect\, LEED AP and Certified Energy Manager within Southern California Edison’s Codes & Standards team as well as serving on the statewide AIA Committee on the Environment. Dave is a Past President of the AIA Ventura County\, a four-year member of the LEED Energy and Atmosphere Technical Advisory Group (EA-TAG)\, and member of the board of directors of USGBC Los Angeles. \nLearning Outcomes: \n\nIdentify the key clean energy technologies enabling a zero-net carbon future\nAddress common misconceptions regarding the performance of heat pumps and other electric technologies\, their impact on grid infrastructure\, and their affordability\nDescribe the efficiencies of electric end-use appliances and vehicles relative to their fossil-fuel combustion counterparts\nLeverage available incentive programs\, tax credits\, and rebates supporting the deployment of heat pumps\, electric equipment upgrades\, and energy efficient appliances
URL:https://efficiencyfirstca.org/event/debunking-electrification-myths-addressing-misconceptions-about-be-webinar-2/
LOCATION:Online
CATEGORIES:Southern California Edison
END:VEVENT
END:VCALENDAR