BEGIN:VCALENDAR
VERSION:2.0
PRODID:-//Efficiency First California - ECPv6.8.2.1//NONSGML v1.0//EN
CALSCALE:GREGORIAN
METHOD:PUBLISH
X-WR-CALNAME:Efficiency First California
X-ORIGINAL-URL:https://efficiencyfirstca.org
X-WR-CALDESC:Events for Efficiency First California
REFRESH-INTERVAL;VALUE=DURATION:PT1H
X-Robots-Tag:noindex
X-PUBLISHED-TTL:PT1H
BEGIN:VTIMEZONE
TZID:America/Los_Angeles
BEGIN:DAYLIGHT
TZOFFSETFROM:-0800
TZOFFSETTO:-0700
TZNAME:PDT
DTSTART:20260308T100000
END:DAYLIGHT
BEGIN:STANDARD
TZOFFSETFROM:-0700
TZOFFSETTO:-0800
TZNAME:PST
DTSTART:20261101T090000
END:STANDARD
END:VTIMEZONE
BEGIN:VEVENT
DTSTART;TZID=America/Los_Angeles:20260115T100000
DTEND;TZID=America/Los_Angeles:20260115T120000
DTSTAMP:20260418T041323
CREATED:20260108T174512Z
LAST-MODIFIED:20260108T174512Z
UID:68899-1768471200-1768478400@efficiencyfirstca.org
SUMMARY:Electrification & Home Performance Series: 6 – Testing Residential Building Pressure
DESCRIPTION:Building electrification replaces fossil fuel systems with electric alternatives. As California shifts to all-electric homes\, understanding home performance is essential. Key factors like energy efficiency\, air-sealing\, and insulation reduce energy use\, improve air quality\, and increase comfort. High performance homes use less energy\, making electrification smoother and more sustainable. \nThis class is the sixth in a series on Electrification & Home Performance and covers the effect building pressure differences can have on the cost of heating and cooling. \nEnhance your knowledge with a single class or complete the series for a thorough understanding of the relationship between home performance and electrification.
URL:https://efficiencyfirstca.org/event/electrification-home-performance-series-6-testing-residential-building-pressure/
CATEGORIES:Southern California Edison
END:VEVENT
BEGIN:VEVENT
DTSTART;TZID=America/Los_Angeles:20260121T100000
DTEND;TZID=America/Los_Angeles:20260121T120000
DTSTAMP:20260418T041323
CREATED:20260108T174646Z
LAST-MODIFIED:20260108T174646Z
UID:68901-1768989600-1768996800@efficiencyfirstca.org
SUMMARY:Building Electrification Fundamentals 1 – Building Electrification & Me
DESCRIPTION:This class is part 1 of a five-part series on Building Electrification (BE) Fundamentals. \nAre you ready to be part of the clean energy movement? This 2-hour class provides an introduction to building electrification concepts and answers questions about their benefits and impacts\, equipping you with the knowledge to future-proof your home or business
URL:https://efficiencyfirstca.org/event/building-electrification-fundamentals-1-building-electrification-me/
CATEGORIES:Southern California Edison
END:VEVENT
BEGIN:VEVENT
DTSTART;TZID=America/Los_Angeles:20260122T100000
DTEND;TZID=America/Los_Angeles:20260122T120000
DTSTAMP:20260418T041323
CREATED:20260108T174808Z
LAST-MODIFIED:20260108T174808Z
UID:68903-1769076000-1769083200@efficiencyfirstca.org
SUMMARY:The Business Opportunity of Electrification
DESCRIPTION:The accelerating electrification market is creating new opportunities for companies in the residential energy sector. As homeowners transition from fossil fuel powered systems to electric alternatives\, the need for knowledgeable professionals to assist them is increasing. This course aims to provide consultants and contractors with the insights and strategies needed to succeed in this expanding market. \nParticipants will examine the drivers of electrification including policy changes\, consumer preferences\, and technological advancements. This class will address how to effectively present electrification services as a value-added proposition to clients along with exploring various approaches and business models. \nBy understanding the range of opportunities offered by home electrification\, participants will be able to build a more robust business model\, all while proving an impactful offering to homeowners.
URL:https://efficiencyfirstca.org/event/the-business-opportunity-of-electrification-3/
CATEGORIES:Southern California Edison
END:VEVENT
BEGIN:VEVENT
DTSTART;TZID=America/Los_Angeles:20260128T100000
DTEND;TZID=America/Los_Angeles:20260128T120000
DTSTAMP:20260418T041323
CREATED:20260108T175002Z
LAST-MODIFIED:20260108T175002Z
UID:68906-1769594400-1769601600@efficiencyfirstca.org
SUMMARY:Building Electrification Fundamentals 2 – An Overview of Building Electrification
DESCRIPTION:This class is part 2 of a five-part series on Building Electrification (BE) Fundamentals. \nWhat are California’s climate policies and how can electrification help us meet these ambitious targets?  Attend this 2-hour class for an overview of the factors driving building electrification and understand its role in the broader framework of energy efficiency\, renewable energy and electrified vehicles. Learn how these goals and policies can help you transform your home or business.
URL:https://efficiencyfirstca.org/event/building-electrification-fundamentals-2-an-overview-of-building-electrification/
CATEGORIES:Southern California Edison
END:VEVENT
END:VCALENDAR