BEGIN:VCALENDAR
VERSION:2.0
PRODID:-//Efficiency First California - ECPv6.8.2.1//NONSGML v1.0//EN
CALSCALE:GREGORIAN
METHOD:PUBLISH
X-ORIGINAL-URL:https://efficiencyfirstca.org
X-WR-CALDESC:Events for Efficiency First California
REFRESH-INTERVAL;VALUE=DURATION:PT1H
X-Robots-Tag:noindex
X-PUBLISHED-TTL:PT1H
BEGIN:VTIMEZONE
TZID:America/Los_Angeles
BEGIN:DAYLIGHT
TZOFFSETFROM:-0800
TZOFFSETTO:-0700
TZNAME:PDT
DTSTART:20250309T100000
END:DAYLIGHT
BEGIN:STANDARD
TZOFFSETFROM:-0700
TZOFFSETTO:-0800
TZNAME:PST
DTSTART:20251102T090000
END:STANDARD
END:VTIMEZONE
BEGIN:VEVENT
DTSTART;TZID=America/Los_Angeles:20250513T090000
DTEND;TZID=America/Los_Angeles:20250513T110000
DTSTAMP:20260422T011417
CREATED:20250425T000223Z
LAST-MODIFIED:20250425T000223Z
UID:67703-1747126800-1747134000@efficiencyfirstca.org
SUMMARY:Residential Heat Pump Water Heaters: Technology\, Sales & Installation Challenges - Part 1 (Webinar)
DESCRIPTION:Description:\nThis is part 1 of a 2-part class. \nThis course establishes a clear value proposition for residential heat pump water heater scenarios\, while addressing key barriers to their adoption. It also provides targeted sales training to identify customers and opportunities for client-facing staff and stakeholders while delving into key installation considerations including space limitations\, noise\, condensate management\, sizing\, operational modes\, and error codes. \nLearning Outcomes: \nAs a result of attending this class you can expect to learn the following \n? Explore the technology of heat pump water heaters \n? Examine the value proposition for heat pump water heaters as replacements in a variety of residential scenarios \n? Walk through targeted sales training to assist in the process of identifying and qualifying customers \n? Understand the key challenges to installation of heat pump water heaters \nLearning Units: \n\nNATE: 2.0\, BPI: 2.0
URL:https://efficiencyfirstca.org/event/residential-heat-pump-water-heaters-technology-sales-installation-challenges-part-1-webinar/
LOCATION:Online
CATEGORIES:Southern California Edison
END:VEVENT
END:VCALENDAR