BEGIN:VCALENDAR
VERSION:2.0
PRODID:-//Efficiency First California - ECPv6.8.2.1//NONSGML v1.0//EN
CALSCALE:GREGORIAN
METHOD:PUBLISH
X-ORIGINAL-URL:https://efficiencyfirstca.org
X-WR-CALDESC:Events for Efficiency First California
REFRESH-INTERVAL;VALUE=DURATION:PT1H
X-Robots-Tag:noindex
X-PUBLISHED-TTL:PT1H
BEGIN:VTIMEZONE
TZID:America/Los_Angeles
BEGIN:DAYLIGHT
TZOFFSETFROM:-0800
TZOFFSETTO:-0700
TZNAME:PDT
DTSTART:20240310T100000
END:DAYLIGHT
BEGIN:STANDARD
TZOFFSETFROM:-0700
TZOFFSETTO:-0800
TZNAME:PST
DTSTART:20241103T090000
END:STANDARD
END:VTIMEZONE
BEGIN:VEVENT
DTSTART;TZID=America/Los_Angeles:20240319T080000
DTEND;TZID=America/Los_Angeles:20240319T170000
DTSTAMP:20260424T025112
CREATED:20240309T071101Z
LAST-MODIFIED:20240403T053343Z
UID:63407-1710835200-1710867600@efficiencyfirstca.org
SUMMARY:AIRFLOW TESTING AND DIAGNOSTICS
DESCRIPTION:Learn the basics of Static Pressure and Airflow and prepare yourself for more advanced training in the NCI TECH training series with NCI’s simple Air Upgrade approach. This class provides technical training on performing static pressure testing\, how to properly install static pressure test ports\, and how to measure and interpret static pressures. \nThis FREE training is open to contractors and technicians in the state of California who are enrolled in TECH Clean California.
URL:https://efficiencyfirstca.org/event/airflow-testing-and-diagnostics/
LOCATION:NCI – Anaheim\, 2050 S Santa Cruz St.\, Ste 1000\,\, Anaheim\, California
CATEGORIES:TECH Clean California
END:VEVENT
END:VCALENDAR