BEGIN:VCALENDAR
VERSION:2.0
PRODID:-//Efficiency First California - ECPv6.8.2.1//NONSGML v1.0//EN
CALSCALE:GREGORIAN
METHOD:PUBLISH
X-ORIGINAL-URL:https://efficiencyfirstca.org
X-WR-CALDESC:Events for Efficiency First California
REFRESH-INTERVAL;VALUE=DURATION:PT1H
X-Robots-Tag:noindex
X-PUBLISHED-TTL:PT1H
BEGIN:VTIMEZONE
TZID:America/Los_Angeles
BEGIN:DAYLIGHT
TZOFFSETFROM:-0800
TZOFFSETTO:-0700
TZNAME:PDT
DTSTART:20260308T100000
END:DAYLIGHT
BEGIN:STANDARD
TZOFFSETFROM:-0700
TZOFFSETTO:-0800
TZNAME:PST
DTSTART:20261101T090000
END:STANDARD
END:VTIMEZONE
BEGIN:VEVENT
DTSTART;TZID=America/Los_Angeles:20260401T083000
DTEND;TZID=America/Los_Angeles:20260401T153000
DTSTAMP:20260422T061335
CREATED:20260326T145814Z
LAST-MODIFIED:20260326T145847Z
UID:69310-1775032200-1775057400@efficiencyfirstca.org
SUMMARY:Heat Pump Advantage
DESCRIPTION:Join us for a hands-on\, one-day training led Electrify My Home (EMH)\, by a seasoned California HVAC contractor who’s been where you are. This isn’t classroom theory – it’s practical\, field-proven knowledge built from years of real experience. You’ll walk away with actionable strategies\, installation best practices\, and business insights that helped Electrify My Home (EMH) successfully transition into a heat pump-focused company. \nThis is an in-person event; the location is TBD.
URL:https://efficiencyfirstca.org/event/heat-pump-advantage/
CATEGORIES:TECH Clean California
END:VEVENT
END:VCALENDAR