BEGIN:VCALENDAR
VERSION:2.0
PRODID:-//Efficiency First California - ECPv6.8.2.1//NONSGML v1.0//EN
CALSCALE:GREGORIAN
METHOD:PUBLISH
X-ORIGINAL-URL:https://efficiencyfirstca.org
X-WR-CALDESC:Events for Efficiency First California
REFRESH-INTERVAL;VALUE=DURATION:PT1H
X-Robots-Tag:noindex
X-PUBLISHED-TTL:PT1H
BEGIN:VTIMEZONE
TZID:America/Los_Angeles
BEGIN:DAYLIGHT
TZOFFSETFROM:-0800
TZOFFSETTO:-0700
TZNAME:PDT
DTSTART:20230312T100000
END:DAYLIGHT
BEGIN:STANDARD
TZOFFSETFROM:-0700
TZOFFSETTO:-0800
TZNAME:PST
DTSTART:20231105T090000
END:STANDARD
END:VTIMEZONE
BEGIN:VEVENT
DTSTART;TZID=America/Los_Angeles:20231102T090000
DTEND;TZID=America/Los_Angeles:20231102T120000
DTSTAMP:20260424T061406
CREATED:20230923T031857Z
LAST-MODIFIED:20230923T031857Z
UID:62766-1698915600-1698926400@efficiencyfirstca.org
SUMMARY:Optimizing Residential Forced-Air HVAC Systems: Load Calculations\, Equipment Selection\, System Airflow and Layout
DESCRIPTION:Improved design\, installation and commissioning practices lead to a dramatic improvement in building energy consumption\, indoor air quality\, and comfort. There are six performance factors that can be applied to HVAC design\, installation and/or commissioning. In the Optimizing Residential Forced-Air series\, we will review how each factor can be specified at design\, implemented during installation\, and tested/adjusted during commissioning. We will also look at how we can redesign our approach to high performance HVAC systems to support California climate goals\, help manage the peak electrical load on the grid as well as the owners operating cost under the time-of-use billing structure. \nThe Optimizing Residential Forced-Air series is informed through commissioned systems\, where real examples from completed projects are used to support class content. Dan Perunko of Balance Point Home Performance has designed\, built\, and commissioned both retrofit and new construction projects that exemplify the concepts covered in class. Course content will include design examples\, photos installations\, and test results from commissioning. \nThe HVAC equipment\, materials and knowledge required to dramatically improve the performance of HVAC systems is readily available. This class will assist the designer\, installer\, and rater in their efforts to improve the HVAC systems we build.
URL:https://efficiencyfirstca.org/event/optimizing-residential-forced-air-hvac-systems-load-calculations-equipment-selection-system-airflow-and-layout/
CATEGORIES:Switch is On
END:VEVENT
BEGIN:VEVENT
DTSTART;TZID=America/Los_Angeles:20231107T123000
DTEND;TZID=America/Los_Angeles:20231107T160000
DTSTAMP:20260424T061406
CREATED:20231108T035607Z
LAST-MODIFIED:20231108T035607Z
UID:62896-1699360200-1699372800@efficiencyfirstca.org
SUMMARY:Course: 2022 Title 24\, Part 6 Essentials — Single-family Standards for HVAC Contractor Installers
DESCRIPTION:Instructor: Marina Chavez Blanco\n\n\nLevel: Intermediate\n\n\nUse the 2022 Multifamily Energy Inspection Checklist to practice streamlined inspection of installation scenarios while also targeting top categories of high-value energy savings and impact on compliance. Effective building energy efficiency enforcement is reviewed and practiced as a comprehensive process — from initial consult of building features listed in permitted documentation to review of what contractors document as installed to visual confirmation of these features on-site. This highly interactive online live course is designed to provide Building Inspectors with the essential knowledge and skills they need to more quickly and effectively enforce California’s 2022 Multifamily Building Energy Efficiency Standards (Title 24\, Part 6 or the Energy Code). This course is delivered in two half-day sessions held on two consecutive days. Participants must attend both sessions to complete the course.
URL:https://efficiencyfirstca.org/event/course-2022-title-24-part-6-essentials-single-family-standards-for-hvac-contractor-installers/
LOCATION:Online
CATEGORIES:Association for Energy Affordability
END:VEVENT
BEGIN:VEVENT
DTSTART;TZID=America/Los_Angeles:20231108T120000
DTEND;TZID=America/Los_Angeles:20231108T124500
DTSTAMP:20260424T061406
CREATED:20231107T083833Z
LAST-MODIFIED:20231107T083938Z
UID:62883-1699444800-1699447500@efficiencyfirstca.org
SUMMARY:Webinar: How to make money with heat pumps
DESCRIPTION:What you’ll learn: \n\nHow to significantly increase your profits\nReduce callbacks (hint: it’s all about expectation-setting)\nSell faster with software tools for HVAC and plumbing contractors\nHow to generate happy\, comfortable customers\n\nIndustry expert presenters: \nLarry Waters\, President\, Electrify My Home – Larry is a revered industry expert and the founder of Electrify My Home\, a first-of-its-kind electrification company specializing in residential electrification and workforce training. Electrify My Home provides contractor training statewide for the TECH Clean California program. With 42 years of HVAC trade experience\, Larry has designed and installed over 400 high-efficiency heat pump systems. He is NATE and BPI-certified and serves on multiple boards focused on propelling the movement to Electrify Efficiently. \nCharley Cormany\, Executive Director\, Efficiency First California – Charley brings over 20 years in the construction industry\, including 10 years as a Home Performance Contractor. As the Executive Director of EFCA\, Charley is also responsible for overseeing the Program Implementer team for the highly successful SMUD rebate program\, and he provides a “boots on the ground” perspective on policy and program design. \nKevin Beck\, Director of Education\, Efficiency First California – Kevin is an educator and trusted expert in the field. He is a third-generation home improvement expert who has dedicated his career to helping contractors turn their professional dreams into an energy-efficient reality. \nBrent Davidson\, Event Organizer\, Heat Pump Summit  – Brent brings his extensive background in clean tech software and passion for helping onboard contractors to heat pump technology.
URL:https://efficiencyfirstca.org/event/webinar-how-to-make-money-with-heat-pumps/
LOCATION:Online
CATEGORIES:Association for Energy Affordability,Energy Code Ace,Switch is On
END:VEVENT
BEGIN:VEVENT
DTSTART;TZID=America/Los_Angeles:20231109T100000
DTEND;TZID=America/Los_Angeles:20231109T113000
DTSTAMP:20260424T061406
CREATED:20230923T032130Z
LAST-MODIFIED:20230923T032130Z
UID:62768-1699524000-1699529400@efficiencyfirstca.org
SUMMARY:Hot Water Design for Heat Pump Water Heaters
DESCRIPTION:The California Energy Commission is currently pursuing many programs which are aimed at decarbonizing our energy infrastructure including all-electric cooking\, space heating and water heating. The commercial foodservice industry has started to adopt efficient electric cooking equipment as the first step towards all-electric\, zero net carbon kitchens. This class explains how the foodservice industry can take the most important next step towards zero carbon by addressing one of the biggest barriers: How to replace the traditional gas-fired hot water systems with electric heat pump water heaters. Learn how heat-recovery dishmachines\, effective plumbing design\, and decentralized\, point-of-use water heating are necessary to make heat pump water heaters perform effectively in the demanding commercial kitchen environment.
URL:https://efficiencyfirstca.org/event/hot-water-design-for-heat-pump-water-heaters/
CATEGORIES:3C-REN,Energy Code Ace,Southern California Edison
END:VEVENT
BEGIN:VEVENT
DTSTART;TZID=America/Los_Angeles:20231110T120000
DTEND;TZID=America/Los_Angeles:20231110T133000
DTSTAMP:20260424T061406
CREATED:20231107T064113Z
LAST-MODIFIED:20231107T084144Z
UID:62880-1699617600-1699623000@efficiencyfirstca.org
SUMMARY:ELECTRIFY EFFICIENTLY: ELECTRICAL PANEL ASSESSMENTS - EXAMPLES FOR HEAT PUMP INSTALLERS - WEBINAR
DESCRIPTION:Part 3 of 5 – November 10\, 2023 (12pm – 1:30pm) \nAs more California homeowners begin electrifying their homes\, heat pump installers will be faced with the challenge of navigating electrical panel challenges including condition\, capacity\, fitment\, supply chain\, etc. With panel and service upgrades being costly and complex\, it’s important for practitioners to understand their options for running new circuits. In this session\, you’ll hear Electrify My Home discuss real-world electrical panel scenarios including visual assessments\, electrical load calculations\, and examples of different solutions for “making it work.” \nAgenda: \n\nIntroduction and safety message\nGood electrification and install small\nPanel assessments and strategies for overcoming challenges\nPerforming a load calculation\nQ&A\n\nThe objective of this course is that at the conclusion\, participants will be able to: \n\nExplain why a full panel doesn’t necessarily mean no additional capacity is available\nName two reasons why upgrading a home’s electrical capacity may not be preferred\nList two solutions to fitting new circuits into a panel where no physical space is available\nIdentify at least two or more critical components and variables of performing a load calculation in a residential home\n\nTo enroll into the entire “Electrify Efficiently (5 Part Series)” register HERE.
URL:https://efficiencyfirstca.org/event/electrify-efficiently-electrical-panel-assessments-examples-for-heat-pump-installers-webinar/
LOCATION:Online
CATEGORIES:Association for Energy Affordability,Energy Code Ace,Switch is On
END:VEVENT
BEGIN:VEVENT
DTSTART;VALUE=DATE:20231112
DTEND;VALUE=DATE:20231117
DTSTAMP:20260424T061406
CREATED:20230321T231221Z
LAST-MODIFIED:20230531T233445Z
UID:60446-1699747200-1700179199@efficiencyfirstca.org
SUMMARY:ACEEE: Behavior\, Energy & Climate Change (BECC) Conference
DESCRIPTION:BECC is the premier conference focused on understanding human behavior and decision-making and using that knowledge to accelerate the transition to a low-carbon future. Since 2007\, BECC has fostered understanding individual and organizational behavior and decision-making related to energy usage\, greenhouse gas emissions\, climate change\, and sustainability. BECC is more than just a conference—it is a fun social community that is passionate and excited about mitigating climate change. The event\, co-convened by ACEEE\, prides itself on finding innovative ways to encourage socializing and networking while providing the highest-quality presentations.
URL:https://efficiencyfirstca.org/event/aceee-behavior-energy-climate-change-becc-conference/
CATEGORIES:3C-REN,Association for Energy Affordability,Building Performance Association,Southern California Edison
END:VEVENT
BEGIN:VEVENT
DTSTART;VALUE=DATE:20231113
DTEND;VALUE=DATE:20231114
DTSTAMP:20260424T061406
CREATED:20230919T002536Z
LAST-MODIFIED:20230919T003455Z
UID:62719-1699833600-1699919999@efficiencyfirstca.org
SUMMARY:Heat Pump Summit - The event for contractors and building professionals serious about heat pumps
DESCRIPTION:A heat pump focused event for HVAC and plumbing contractors with the goal of improving how heat pumps are sold\, designed\, installed\, and commissioned.\n\nHosted in association with the Eneref Institute\, the Summit features expert-led training from a building science based approach\, broad knowledge across topics including how heat pumps fit into a customer’s home electrification journey\, the future of the grid\, and more. \nAttendees and sponsors encompass HVAC and plumbing contractors\, both startup and established heat pump manufacturers\, electrified building professionals\, and innovators across areas like induction stoves\, batteries\, and smart thermostats. \n\n\nPlease note that EFCA Executive Director\, Charles Cormany is one of the featured speakers.\nOur Clean Energy Connection Directory is a Bronze Level Event Sponsor.
URL:https://efficiencyfirstca.org/event/heat-pump-summit-the-event-for-contractors-and-building-professionals-serious-about-heat-pumps/
LOCATION:UCB MLK Student Union\, Pauley Ballroom\, East & West\, 2495 Bancroft Way\, Berkeley\, 94720\, United States
CATEGORIES:3C-REN,Association for Energy Affordability,Building Performance Association,Energy Code Ace,Pacific Gas & Electric,Southern California Edison,Switch is On
END:VEVENT
BEGIN:VEVENT
DTSTART;TZID=America/Los_Angeles:20231115T083000
DTEND;TZID=America/Los_Angeles:20231115T123000
DTSTAMP:20260424T061406
CREATED:20231108T034250Z
LAST-MODIFIED:20231108T034250Z
UID:62892-1700037000-1700051400@efficiencyfirstca.org
SUMMARY:Course: BOC 1005 Part 1 Indoor Environmental Quality
DESCRIPTION:Course Description: \nParticipants will learn about the causes of indoor environmental quality (IEQ) problems and the relationships between cause\, control\, occupant sensitivity\, and ventilation to develop a reliable method of diagnosis and remediation. \nInstructor Information: \nMike Smith \nAgenda: \n\nIndoor Environmental Quality Overview\nFundamentals of Indoor Environmental Quality\nPreventing IEQ Problems\nEffective Communication\nCourse Project\n\nLearning Outcomes: \nAt the completion of Indoor Environmental Quality\, a participant will be able to: \n\nDescribe the key factors that determine indoor environmental quality in commercial buildings.\nIdentify basic air handling equipment and implications for thermal comfort and indoor air quality.\nList the elements of a basic indoor environmental quality program and assist in creating one.\nDescribe the relationship between moisture\, mold\, and ventilation.\nList the procedures to effectively manage indoor air quality concerns and complaints.\nCommunicate effectively with occupants about IEQ issues.\nIdentify a minimum of two information resources for managing IEQ.\n\nTarget Audience: \n\nCommercial building operators and maintenance staff\nEnergy managers\, resources conservation managers\, facility managers\n\nPrerequisite(s): \n\nN/A\n\nLearning Units: \n\n1.0 BOC Credit\n\nLearning Units: \n\nN/A\n\nLearning Level: \nIntermediate Class: Content is appropriate for individuals who possess a fundamental understanding of the topic and have familiarity with basic terminology and methodology of the subject matter. Attendees should have the capacity to participate in instructor-led exercises requiring synthesis and application of concepts. \nSpecial Instructions: \nThis is a Zoom class and internet access is required. \nClick here to register online: Click Here
URL:https://efficiencyfirstca.org/event/course-boc-1005-part-1-indoor-environmental-quality/
LOCATION:Online
CATEGORIES:Building Decarbonization Coalition
END:VEVENT
BEGIN:VEVENT
DTSTART;TZID=America/Los_Angeles:20231115T120000
DTEND;TZID=America/Los_Angeles:20231115T133000
DTSTAMP:20260424T061406
CREATED:20231115T060723Z
LAST-MODIFIED:20231115T060723Z
UID:62929-1700049600-1700055000@efficiencyfirstca.org
SUMMARY:Manufacturer Roundtable: Air Source Heat Pumps
DESCRIPTION:Air source heat pumps for space heating are a key technology in helping individuals\, building owners and communities move towards rapid electrification and decarbonization. The roundtable will feature panelists from leading air source heat pump manufacturers who will share the latest research\, developments\, and updates on their products. \n\n\nThis online roundtable will explore the different heat pump technologies – from ductless to ducted systems – and highlight which heat pump configurations work best in varying applications\, climates\, building types\, and budgets. \nPanelists \nShawn LeMons\, Performance Construction Manager\, Mitsubishi Electric Trane U.S. | Shawn is focused on efficient cooling and heating systems for residential new construction. He has multiple certifications including LEED Green Rater\, HERS Rater and ICC Residential Energy Inspector. He has 25 years of experience in the residential building industry with small and large companies\, non profits\, and volunteer work. Since 2009\, he has completed analysis on over 6 million square feet of residential and commercial buildings. \nJonathan Moscatello\, Business Development Manager\, Daikin North America | Jonathan is a nationally regarded expert in residential contracting and heat pumps and a co-owner of The Heat Pump Store\, a heat pump only contracting business based in Oregon that has installed heat pumps in over 20\,000 homes. Sarah\, his wife\, runs the contracting business while Jonathan consults with utility programs\, contractors\, and distributors to help them grow their heat pump business. In 2021\, Jonathan joined Daikin to help the company participate more fully in electrification initiatives. \nMark Thomson\, Senior Business Development Consultant\, LG Electronics | Mark is an experienced energy demand side management leader\, having held key positions in both the utility and vendor sectors\, most recently with LG Electronics in Englewood Cliffs\, New Jersey\, as Senior Business Development Consultant from June 2020. Mark has a Master’s Degree in Energy Economics from the University of Texas at Austin and an undergraduate degree from Hamilton College. \nSuzi Asmus\, Senior Program Manager\, Northwest Energy Efficiency Alliance | She has been managing NEEA’s Residential HVAC programs since 2015\, initially with the Ductless Heat Pump Program and now with the newly-launched Advanced Heat Pump Program. As a liberal arts degree holder\, she is shocked every day how much she loves learning about the nitty gritty of residential HVAC and heat pumps. \nManufacturers Roundtable and Webinar Series: Decarbonizing Commercial Buildings in California\nThis is the fourth of four online sessions where we talk about electrification and decarbonization with manufacturers of key technologies including central heat pump water heaters\, all electric commercial kitchens\, residential heat pump water heaters\, and air source heat pumps.
URL:https://efficiencyfirstca.org/event/manufacturer-roundtable-air-source-heat-pumps/
LOCATION:Online
CATEGORIES:Energy Code Ace
END:VEVENT
BEGIN:VEVENT
DTSTART;TZID=America/Los_Angeles:20231116T083000
DTEND;TZID=America/Los_Angeles:20231116T123000
DTSTAMP:20260424T061406
CREATED:20231108T034641Z
LAST-MODIFIED:20231108T034641Z
UID:62894-1700123400-1700137800@efficiencyfirstca.org
SUMMARY:Course: BOC 1005 Part 2 Indoor Environmental Quality
DESCRIPTION:Course Description: \nParticipants will learn about the causes of indoor environmental quality (IEQ) problems and the relationships between cause\, control\, occupant sensitivity\, and ventilation to develop a reliable method of diagnosis and remediation. \nInstructor Information: \nMike Smith \nAgenda: \n\nIndoor Environmental Quality Overview\nFundamentals of Indoor Environmental Quality\nPreventing IEQ Problems\nEffective Communication\nCourse Project\n\nLearning Outcomes: \nAt the completion of Indoor Environmental Quality\, a participant will be able to: \n\nDescribe the key factors that determine indoor environmental quality in commercial buildings.\nIdentify basic air handling equipment and implications for thermal comfort and indoor air quality.\nList the elements of a basic indoor environmental quality program and assist in creating one.\nDescribe the relationship between moisture\, mold\, and ventilation.\nList the procedures to effectively manage indoor air quality concerns and complaints.\nCommunicate effectively with occupants about IEQ issues.\nIdentify a minimum of two information resources for managing IEQ.\n\nTarget Audience: \n\nCommercial building operators and maintenance staff\nEnergy managers\, resources conservation managers\, facility managers\n\nPrerequisite(s): \n\nN/A\n\nLearning Units: \n\n1.0 BOC Credit\n\nLearning Units: \n\nN/A\n\nLearning Level: \nIntermediate Class: Content is appropriate for individuals who possess a fundamental understanding of the topic and have familiarity with basic terminology and methodology of the subject matter. Attendees should have the capacity to participate in instructor-led exercises requiring synthesis and application of concepts. \nSpecial Instructions: \nThis is a Zoom class and internet access is required. \nClick here to register online: Click Here
URL:https://efficiencyfirstca.org/event/course-boc-1005-part-2-indoor-environmental-quality/
LOCATION:Online
CATEGORIES:Building Decarbonization Coalition
END:VEVENT
BEGIN:VEVENT
DTSTART;TZID=America/Los_Angeles:20231116T150000
DTEND;TZID=America/Los_Angeles:20231116T170000
DTSTAMP:20260424T061406
CREATED:20231108T040039Z
LAST-MODIFIED:20231108T040039Z
UID:62898-1700146800-1700154000@efficiencyfirstca.org
SUMMARY:Course: HOME ASSESSMENTS FOR DECARBONIZATION – CLASS 6
DESCRIPTION:This is class 6 of 6 in 3C-REN’s High Performance Fundamentals Certificate series. Earn a 3C-REN certificate of completion after finishing the series and passing short quizzes at the end of each class. \nThis class is designed to prepare building practitioners\, who have basic to advanced knowledge of residential building\, to assist homeowners on their pathways to electrification. We will cover all phases of the assessment process from understanding homeowner goals and setting expectations\, through a methodical investigation and documentation of existing conditions and potential issues\, to proposing and prioritizing solutions and offering implementation resources. A homeowner questionnaire template\, existing condition form\, and annotated electrification resource directory will be included as class handouts. \nLearning Objectives \nAfter attending this class\, participants will be able to: \n\nEstimate a homeowner’s anticipated future electrical loads\nIdentify equipment strategies to help minimize electric load additions\nGuide homeowners in developing a comprehensive\, prioritized electrification plan\nDirect homeowners to credible\, informative electrification resources\n\n1.5 AIA|HSW LU’s available for this course \nInstructors: \n\nAnn Edminster\, Design AVEnues LLC
URL:https://efficiencyfirstca.org/event/course-home-assessments-for-decarbonization-class-6/
LOCATION:Online
CATEGORIES:3C-REN,Association for Energy Affordability
ORGANIZER;CN="TRI-COUNTY REGIONAL ENERGY NETWORK":MAILTO:info@3C-REN.org
END:VEVENT
BEGIN:VEVENT
DTSTART;TZID=America/Los_Angeles:20231128T083000
DTEND;TZID=America/Los_Angeles:20231128T083000
DTSTAMP:20260424T061406
CREATED:20231107T085147Z
LAST-MODIFIED:20231108T033219Z
UID:62887-1701160200-1701160200@efficiencyfirstca.org
SUMMARY:Course: Residential Heat Pump Installation & Commissioning for Installers\, Raters & Commissioning Agents P1
DESCRIPTION:  \n\n\n\n\n\n\n\n\n\n\n\n\n\n\nTransitioning residential and commercial heating and cooling systems from gas to electric is a key component in California’s plan to reduce emissions of global warming gasses. You\, the field staff in the HVAC trades will be installing more and more heat pumps as electrification efforts continue to ramp up. It turns out that there are large variations in the operating efficiency of heat pumps that result from our installation and commissioning practices. This webinar will focus on installation practices\, troubleshooting and commissioning steps that effect final installed efficiency. We will look at airflow\, line set plumbing\, refrigerant leak prevention\, location and repair\, heat pump controls and control settings. Both legacy systems and mini split systems will be covered. The course will be presented in two\, three-hour parts. \nThis webinar is courtesy of Pacific Gas & Electric. \nCourse Highlights: \n\nLine set testing\nFinding and repairing leaks in refrigerant lines\nThe interrelated nature of refrigerant volume and airflow volume\nAirflow and heat pump performance\nTargets for system airflow per ton\nCommunicating controls VS legacy controls\nHow to measure air flow\, static pressure and air handler power\nHow to interpret static pressure and power\nMost cost-effective ways to raise system airflow\nCommissioning advantages multistage equipment\n\nCourse Objectives: \n\nDescribe techniques for effectively testing line sets\nVerbalize pressure and vacuum targets for line set testing\nUnderstand that efficient heat pump output relies on both refrigerant charge and total system airflow\nPresent with strategies for improving the airflow in existing systems\nName techniques for measuring and estimating airflow\nDescribe how to change the airflow settings on various types of equipment\n\nLearning Level: Intermediate \nSpeaker: \nDan Perunko is cofounder of Balance Point Home Performance Company. In 2006\, along with Gavin Healy\, Dan started a successful company providing full-service home performance analysis\, retrofits\, consultations\, and trainings. Dan works on new and existing construction designs and hands on installations of enclosures\, mechanical\, plumbing\, and indoor air quality components based on tested performance outcomes. Dan especially enjoys improving existing homes to provide homeowners with levels of comfort and energy consumption that they have not believed possible. Dan brings his experience from construction\, design and building analysis\, to make his class materials relevant\, useful and understandable regardless of the attendees’ level of experience. \n\n\n\n\n\n\n\n\n\n\n\n\n\n\n\n\n\n\n\n\n\n\n\n\n\n\n\n\n\n\n\n\n\n\n\n\n\n\n\n\n\n\n\n\n\n\n\n\n\n\n\n\n\n\n\n\n\n  \n\n\n\n 
URL:https://efficiencyfirstca.org/event/course-residential-heat-pump-installation-commissioning-for-installers-raters-commissioning-agents-p1/
CATEGORIES:Association for Energy Affordability,Energy Code Ace,Switch is On
END:VEVENT
BEGIN:VEVENT
DTSTART;TZID=America/Los_Angeles:20231129T083000
DTEND;TZID=America/Los_Angeles:20231129T123000
DTSTAMP:20260424T061406
CREATED:20231108T033700Z
LAST-MODIFIED:20231108T033700Z
UID:62890-1701246600-1701261000@efficiencyfirstca.org
SUMMARY:Course: Residential Heat Pump Installation & Commissioning for Installers\, Raters & Commissioning Agents P2
DESCRIPTION:Transitioning residential and commercial heating and cooling systems from gas to electric is a key component in California’s plan to reduce emissions of global warming gasses. You\, the field staff in the HVAC trades will be installing more and more heat pumps as electrification efforts continue to ramp up. It turns out that there are large variations in the operating efficiency of heat pumps that result from our installation and commissioning practices. This class will focus on installation practices\, troubleshooting and commissioning steps that effect final installed efficiency. We will look at airflow\, line set plumbing\, refrigerant leak prevention\, location and repair\, heat pump controls and control settings. Both legacy systems and mini split systems will be covered. The course will be presented in two\, three-hour parts. \nThis webinar is courtesy of Pacific Gas & Electric. \nCourse Highlights: \n\nWhat are common service call complaints for heat pumps\nHow to measure power\, static pressure\, duct temperature\, airflow\nHow to interpret power\, static\, temperature and airflow measurements\nThe roll of electric resistance heat\nElectric resistance heat sizing\nWhen is electric resistance heat not needed?\nCold blow and fan operation curves\n\nCourse Objectives: \n\nDescribe measurement techniques for airflow\, power\, and pressure\nBe made aware of the role of electric resistance heat and the cost of its operation\nDescribe control strategies they can implement on new and existing systems to manage electric resistance backup heat\nReview the parts of the defrost system\nDescribe typical defrost system repairs\nReview troubleshooting procedures for relays\, circuit boards\, capacitors and motors\n\nLearning Level: Intermediate \nSpeaker: \nDan Perunko is cofounder of Balance Point Home Performance Company. In 2006\, along with Gavin Healy\, Dan started a successful company providing full-service home performance analysis\, retrofits\, consultations\, and trainings. Dan works on new and existing construction designs and hands on installations of enclosures\, mechanical\, plumbing\, and indoor air quality components based on tested performance outcomes. Dan especially enjoys improving existing homes to provide homeowners with levels of comfort and energy consumption that they have not believed possible. Dan brings his experience in construction\, design and building analysis\, to make his class materials relevant\, useful and understandable regardless of the attendees’ level of experience.
URL:https://efficiencyfirstca.org/event/course-residential-heat-pump-installation-commissioning-for-installers-raters-commissioning-agents-p2/
LOCATION:Online
CATEGORIES:Association for Energy Affordability,Energy Code Ace,Switch is On
END:VEVENT
END:VCALENDAR