BEGIN:VCALENDAR
VERSION:2.0
PRODID:-//Efficiency First California - ECPv6.8.2.1//NONSGML v1.0//EN
CALSCALE:GREGORIAN
METHOD:PUBLISH
X-WR-CALNAME:Efficiency First California
X-ORIGINAL-URL:https://efficiencyfirstca.org
X-WR-CALDESC:Events for Efficiency First California
REFRESH-INTERVAL;VALUE=DURATION:PT1H
X-Robots-Tag:noindex
X-PUBLISHED-TTL:PT1H
BEGIN:VTIMEZONE
TZID:America/Los_Angeles
BEGIN:DAYLIGHT
TZOFFSETFROM:-0800
TZOFFSETTO:-0700
TZNAME:PDT
DTSTART:20250309T100000
END:DAYLIGHT
BEGIN:STANDARD
TZOFFSETFROM:-0700
TZOFFSETTO:-0800
TZNAME:PST
DTSTART:20251102T090000
END:STANDARD
TZID:UTC
BEGIN:STANDARD
TZOFFSETFROM:+0000
TZOFFSETTO:+0000
TZNAME:UTC
DTSTART:20250101T000000
END:STANDARD
TZID:America/Chicago
BEGIN:DAYLIGHT
TZOFFSETFROM:-0600
TZOFFSETTO:-0500
TZNAME:CDT
DTSTART:20250309T080000
END:DAYLIGHT
BEGIN:STANDARD
TZOFFSETFROM:-0500
TZOFFSETTO:-0600
TZNAME:CST
DTSTART:20251102T070000
END:STANDARD
END:VTIMEZONE
BEGIN:VEVENT
DTSTART;TZID=America/Los_Angeles:20251201T083000
DTEND;TZID=America/Los_Angeles:20251201T110000
DTSTAMP:20260422T093845
CREATED:20251119T005018Z
LAST-MODIFIED:20251119T005018Z
UID:68706-1764577800-1764586800@efficiencyfirstca.org
SUMMARY:Title 24: What’s New in the Residential 2025 Energy Code
DESCRIPTION:The 2025 Title 24 Building Energy Code is more stringent than prior versions as the CEC aligns Title 24 with statewide clean energy goals. The new standards are intended to pivot the code to emphasize the reduction of greenhouse gas emissions in California. Martyn Dodd will summarize the new and revised requirements in the 2025 Code for single family and multi-family buildings and direct participants to informational and training resources that provide more in-depth Title 24 information. Architects\, engineers\, lighting designers\, energy consultants\, contractors\, and building department staff should find this training of interest and directly applicable to their work. 
URL:https://efficiencyfirstca.org/event/title-24-whats-new-in-the-residential-2025-energy-code/
CATEGORIES:Southern California Edison
END:VEVENT
BEGIN:VEVENT
DTSTART;TZID=America/Los_Angeles:20251202T090000
DTEND;TZID=America/Los_Angeles:20251202T110000
DTSTAMP:20260422T093845
CREATED:20250930T040554Z
LAST-MODIFIED:20250930T040554Z
UID:68490-1764666000-1764673200@efficiencyfirstca.org
SUMMARY:Air Sealing and Insulating for Electrification Projects: Developing a Work Scope for Attic Efficiency Upgrades
DESCRIPTION:Part 3 of 3 – December 2\, 2025 (9am – 11am) \nEffective work scopes help contractors and customers achieve specific performance goals in a home’s attic efficiency upgrade. Developing a comprehensive\, goal-oriented work scope can help contractors sell more jobs\, differentiate their work from other contractors bidding on the job\, and enables customers to prioritize their home upgrades within their budget\, allowing for the possibility of future improvements. In this session\, Dan Perunko of Balance Point Home Performance will draw upon his contractor experience to discuss how he approaches attic efficiency work scopes\, from demolition\, material selection and installation\, to commissioning. \nAgenda: \n\nIntroduction and safety message\nHow is high-performance a different business model\nSetting your company standards\nHow to define cost-effective\nIdentify the outcomes the customer would like to achieve\nDefining outcomes in the work scope\nDeveloping costs for specific outcomes\nUsing options to define good\, better\, best\nUsing notes to clarify limits of what work accomplishes\nNegotiating the outcomes in the work scope\n\nThe objective of this course is that at the conclusion\, participants will be able to: \n\nSpecify at least three or more performance outcomes the work scope helps define\nExplain one or more ways that a high-performance work scope is different from an industry standard sale process\nSynthesize the home performance outcomes the customer would like to achieve\nDescribe one or more examples of how to itemize the work scope to facilitate a better understanding of cost segregation\nIdentify how targeted air sealing strategies enhance building envelope performance\, reduce energy loads\, and enable the successful implementation of electrification
URL:https://efficiencyfirstca.org/event/air-sealing-and-insulating-for-electrification-projects-developing-a-work-scope-for-attic-efficiency-upgrades/
LOCATION:Online
CATEGORIES:Pacific Gas & Electric
END:VEVENT
BEGIN:VEVENT
DTSTART;TZID=UTC:20251203T070000
DTEND;TZID=UTC:20251203T093000
DTSTAMP:20260422T093845
CREATED:20251119T021855Z
LAST-MODIFIED:20251119T021855Z
UID:68726-1764745200-1764754200@efficiencyfirstca.org
SUMMARY:Introduction to Heat Pump Water Heater Education
DESCRIPTION:Manufacturers Heat Pump Water Heating (HPWH) Education session focused on technology features and benefits\, appropriate applications\, energy efficiency comparison to other water heater types\, installation techniques and best practices\, service support and warranty\, proper maintenance\, troubleshooting\, and selling strategies.
URL:https://efficiencyfirstca.org/event/introduction-to-heat-pump-water-heater-education-2/
CATEGORIES:TECH Clean California
END:VEVENT
BEGIN:VEVENT
DTSTART;TZID=UTC:20251203T100000
DTEND;TZID=UTC:20251203T120000
DTSTAMP:20260422T093845
CREATED:20251119T020503Z
LAST-MODIFIED:20251119T020503Z
UID:68711-1764756000-1764763200@efficiencyfirstca.org
SUMMARY:Electrification & Home Performance Performance Series 4: All About Quality Insulation Installation (QII)
DESCRIPTION:Building electrification replaces fossil fuel systems with electric alternatives. As California shifts to all-electric homes\, understanding home performance is essential. Key factors like energy efficiency\, air-sealing\, and insulation reduce energy use\, improve air quality\, and increase comfort. High performance homes use less energy\, making electrification smoother and more sustainable. \nThis class is the fourth in a series on Electrification & Home Performance and covers the requirements and concepts behind QII testing. \nEnhance your knowledge with a single class or complete the series for a thorough understanding of the relationship between home performance and electrification.
URL:https://efficiencyfirstca.org/event/electrification-home-performance-performance-series-4-all-about-quality-insulation-installation-qii/
CATEGORIES:Southern California Edison
END:VEVENT
BEGIN:VEVENT
DTSTART;TZID=UTC:20251204T083000
DTEND;TZID=UTC:20251205T163000
DTSTAMP:20260422T093845
CREATED:20251113T065016Z
LAST-MODIFIED:20251113T065016Z
UID:68678-1764837000-1764952200@efficiencyfirstca.org
SUMMARY:Comprehensive Electrification Training Bootcamp
DESCRIPTION:This course provides a robust introduction into residential building electrification. It is designed for construction trade personnel of all levels including owners\, sales managers\, salespeople\, installers\, service technicians\, and office support staff (primarily Day 1 for support staff). A key distinction of this training is its design and delivery by Electrify My Home\, a pioneering HVAC electrification company with real field experience navigating the ins and outs of this exciting new pathway.21865
URL:https://efficiencyfirstca.org/event/comprehensive-electrification-training-bootcamp/
LOCATION:21865 Copley Dr\, 21865 Copley Dr\, Diamond Bar\, CA\, 91765\, United States
CATEGORIES:South Coast AQMD
END:VEVENT
BEGIN:VEVENT
DTSTART;TZID=America/Los_Angeles:20251208T090000
DTEND;TZID=America/Los_Angeles:20251208T113000
DTSTAMP:20260422T093845
CREATED:20251119T004813Z
LAST-MODIFIED:20251119T004813Z
UID:68704-1765184400-1765193400@efficiencyfirstca.org
SUMMARY:Debunking Electrification Myths – Addressing Misconceptions about BE
DESCRIPTION:Do many of your clients often have the same questions about electrification\, and you’re not sure how to respond? This session will address common misconceptions surrounding building and transportation electrification. We will explore life cycle costs associated with transitioning to electrified buildings\, discuss the evolving electric grid\, highlight efficient technologies such as heat pumps and electric vehicles\, and evaluate environmental impacts relative to fossil-based technologies. Through interactive discussions and evidence-based insights\, participants will gain a deeper understanding of the benefits associated with building electrification\, enabling them to make better informed choices that promote a sustainable and efficient future.
URL:https://efficiencyfirstca.org/event/debunking-electrification-myths-addressing-misconceptions-about-be-2/
CATEGORIES:Southern California Edison
END:VEVENT
BEGIN:VEVENT
DTSTART;TZID=UTC:20251209T070000
DTEND;TZID=UTC:20251209T080000
DTSTAMP:20260422T093845
CREATED:20251119T021005Z
LAST-MODIFIED:20251119T021005Z
UID:68715-1765263600-1765267200@efficiencyfirstca.org
SUMMARY:Heat Pump Water Heater Installation Training at West Lake Village
DESCRIPTION:Heat pump water heaters (HPWH) are becoming the standard in California. This free training will prepare your plumbers to install them correctly to avoid callbacks and achieve their full potential in terms of efficiency\, capacity\, longevity\, and customer satisfaction. We’ll cover how they work\, the range of models available on the market\, the critical detail of air flow\, and research on closet installs and condensation risk. You’ll come out prepared to add heat pump water heaters to your business and avoid some common installation hurdles.
URL:https://efficiencyfirstca.org/event/heat-pump-water-heater-installation-training-at-west-lake-village/
LOCATION:31240 Cedar Valley Dr\, 31240 Cedar Valley Dr\, West Lake Village\, CA\, 91362\, United States
CATEGORIES:3C-REN
END:VEVENT
BEGIN:VEVENT
DTSTART;TZID=America/Los_Angeles:20251209T090000
DTEND;TZID=America/Los_Angeles:20251209T110000
DTSTAMP:20260422T093845
CREATED:20251119T003557Z
LAST-MODIFIED:20251119T003557Z
UID:68696-1765270800-1765278000@efficiencyfirstca.org
SUMMARY:Introduction to Heating and Cooling Load Calculations for Electrification Projects
DESCRIPTION:In this webinar\, Judy Rachel will explain what a heating/cooling load calculation is and how it provides essential information for the successful implementation of electrification projects. Beyond providing the essential information for properly sizing a residence’s HVAC system\, the heating / cooling load calculation informs electrification project design and planning in significant ways. In addition\, this presentation will explore the business case for this important planning step within the construction process. \nAccurately calculating the heating and cooling loads for a building provides the information necessary to choose appropriately sized space conditioning equipment. Right-sizing HVAC equipment provides a significant advantage in electrification projects. When pursuing electrification using right-sized\, typically\, lower capacity HVAC equipment you will frequently negate the need for panel upgrades. This contributes significantly to reducing project costs\, while saving on energy consumption and ongoing costs to comfortably condition a given home.
URL:https://efficiencyfirstca.org/event/introduction-to-heating-and-cooling-load-calculations-for-electrification-projects/
CATEGORIES:Pacific Gas & Electric
END:VEVENT
BEGIN:VEVENT
DTSTART;TZID=UTC:20251210T070000
DTEND;TZID=UTC:20251210T083000
DTSTAMP:20260422T093845
CREATED:20251119T021308Z
LAST-MODIFIED:20251119T021308Z
UID:68718-1765350000-1765355400@efficiencyfirstca.org
SUMMARY:Heat Pump Water Heater Installation Training at Ferguson Santa Maria
DESCRIPTION:Heat pump water heaters (HPWH) are becoming the standard in California. This free training will prepare your plumbers to install them correctly to avoid callbacks and achieve their full potential in terms of efficiency\, capacity\, longevity\, and customer satisfaction. We’ll cover how they work\, the range of models available on the market\, the critical detail of air flow\, and research on closet installs and condensation risk. You’ll come out prepared to add heat pump water heaters to your business and avoid some common installation hurdles.
URL:https://efficiencyfirstca.org/event/heat-pump-water-heater-installation-training-at-ferguson-santa-maria/
LOCATION:1209 Betteravia Rd\, 1209 Betteravia Rd\, Santa Maria\, CA\, 93455\, United States
CATEGORIES:3C-REN
END:VEVENT
BEGIN:VEVENT
DTSTART;TZID=UTC:20251211T070000
DTEND;TZID=UTC:20251211T083000
DTSTAMP:20260422T093845
CREATED:20251119T021610Z
LAST-MODIFIED:20251119T021610Z
UID:68721-1765436400-1765441800@efficiencyfirstca.org
SUMMARY:Heat Pump Water Heater Installation Training at Ferguson San Luis Obispo
DESCRIPTION:Heat pump water heaters (HPWH) are becoming the standard in California. This free training will prepare your plumbers to install them correctly to avoid callbacks and achieve their full potential in terms of efficiency\, capacity\, longevity\, and customer satisfaction. We’ll cover how they work\, the range of models available on the market\, the critical detail of air flow\, and research on closet installs and condensation risk. You’ll come out prepared to add heat pump water heaters to your business and avoid some common installation hurdles.
URL:https://efficiencyfirstca.org/event/heat-pump-water-heater-installation-training-at-ferguson-san-luis-obispo/
LOCATION:4546 Broad St\, 4546 Broad St\, San Luis Obispo\, CA\, 93401\, United States
CATEGORIES:3C-REN
END:VEVENT
BEGIN:VEVENT
DTSTART;TZID=UTC:20251211T083000
DTEND;TZID=UTC:20251211T110000
DTSTAMP:20260422T093845
CREATED:20251119T020335Z
LAST-MODIFIED:20251119T020335Z
UID:68709-1765441800-1765450800@efficiencyfirstca.org
SUMMARY:Title 24: What’s New in the NonResidential 2025 Energy Code
DESCRIPTION:The 2025 Title 24 Building Energy Code is more stringent than prior versions as the CEC aligns Title 24 with statewide clean energy goals. The new standards are intended to pivot the code to emphasize the reduction of greenhouse gas emissions in California. Martyn Dodd will summarize the new and revised requirements in the 2025 Code for Commercial buildings and direct participants to informational and training resources that provide more in-depth Title 24 information. Architects\, engineers\, lighting designers\, energy consultants\, contractors\, and building department staff should find this training of interest and directly applicable to their work.
URL:https://efficiencyfirstca.org/event/title-24-whats-new-in-the-nonresidential-2025-energy-code/
CATEGORIES:Southern California Edison
END:VEVENT
BEGIN:VEVENT
DTSTART;TZID=America/Los_Angeles:20251211T093000
DTEND;TZID=America/Los_Angeles:20251211T110000
DTSTAMP:20260422T093845
CREATED:20251119T004155Z
LAST-MODIFIED:20251119T004155Z
UID:68700-1765445400-1765450800@efficiencyfirstca.org
SUMMARY:Conversations on 2025 CA Energy Code Updates for Lighting and Other Electrical Systems
DESCRIPTION:This class will present the most common questions being asked about the changes in the 2025 California’s Energy Code for electrical systems including lighting\, electrical power distribution\, photovoltaics\, batteries and electric mechanical systems. Two energy code geeks\, Charles Knuffke (Wattstopper Legrand) and Gina Griffiths Rodda (Gabel Energy for Energy Code Ace)\, will discuss popular topics and the impactful changes that will affect design decisions as our industry prepares for this new code cycle going into effect January 1\, 2026.
URL:https://efficiencyfirstca.org/event/conversations-on-2025-ca-energy-code-updates-for-lighting-and-other-electrical-systems-2/
CATEGORIES:Pacific Gas & Electric
END:VEVENT
BEGIN:VEVENT
DTSTART;TZID=America/Los_Angeles:20251212T120000
DTEND;TZID=America/Los_Angeles:20251212T140000
DTSTAMP:20260422T093845
CREATED:20250626T234952Z
LAST-MODIFIED:20250626T234952Z
UID:67858-1765540800-1765548000@efficiencyfirstca.org
SUMMARY:Energy Storage Systems for Backup Power
DESCRIPTION:Course description\n\n\n\n\n\nBy enrolling in this course\, you agree to receive text message course reminders. Upon receiving your first message you will have the option to opt out by replying “STOP”. \nWhile there are economic incentives for grid-interactive customers who combine PV generation with energy storage\, customers when polled\, said that their primary motivation for using PV and batteries systems is robust\, 24/7 backup power on demand. \nNationally\, extended utility disruptions caused by floods\, landslides\, wind storms\, ice storms\, geomagnetic solar storms\, hurricanes\, tornados\, wildfires\, PSPS\, earthquakes\, aged infrastructure\, replacement equipment shortages and deliberate sabotage\, populate the news with alarming frequency and severity. Which battery-based backup systems truly deliver\, meet\, and exceed customers’ expectations during long-term utility power outages? \nThis class promises to address how variously-scaled PV production and battery energy storage systems coupled with smart\, nimble\, robust and locally-controlled load management can respond to the ever increasing challenges threatening to shoot out the lights. \nIn this class\, Erik Frye will discuss experiences of owners of micro grids and battery based grid tied PV systems\, including systems such as: \n\nTesla PowerWall\nEnphase Ensemble\nSolarEdge\nSol-Ark\nLFP vs NMC vs NCA\nSMA Sunny Island\, SMA Sunny Boy\, and SMA Tripower Storage\nNon Export / Net Zero Self generation to meet self consumption with the added benefit of backup power\nStand Alone micro grids for entirely off grid applications\nPGE meter base automatic transfer switch\nFuture projections
URL:https://efficiencyfirstca.org/event/energy-storage-systems-for-backup-power-2/
LOCATION:Online
CATEGORIES:Pacific Gas & Electric
END:VEVENT
BEGIN:VEVENT
DTSTART;TZID=America/Los_Angeles:20251216T093000
DTEND;TZID=America/Los_Angeles:20251216T110000
DTSTAMP:20260422T093845
CREATED:20250820T230741Z
LAST-MODIFIED:20250820T230741Z
UID:68095-1765877400-1765882800@efficiencyfirstca.org
SUMMARY:Understanding Heat Pump HVAC and Water Heating
DESCRIPTION:This class will cover a basic introduction into the thermodynamics that make heat pumps so efficient. Whether used for space heating or water heating\, heat pumps can be up to 300% efficient! How is that even possible? This class will also cover the advantages of heat pumps over gas furnaces as well as some disadvantages. It will cover some important factors that you need to know before selecting a heat pump water heater. \nLearning Objectives \n\nUnderstand how heat pumps use electricity to move heat.\nUnderstand the important concepts related to space heating.\nUnderstand the different kinds of heat pumps for space or water heating\nUnderstand the benefits of heat pumps over gas furnaces\nUnderstand the important factors that affect what heat pump you should choose.\n\nLearning Units \n\n1.5 AIA HSW LUs pending for this course\n0.15 ICC LUs pending for this course
URL:https://efficiencyfirstca.org/event/understanding-heat-pump-hvac-and-water-heating/
LOCATION:Online
CATEGORIES:3C-REN
END:VEVENT
BEGIN:VEVENT
DTSTART;TZID=UTC:20251216T093000
DTEND;TZID=UTC:20251216T110000
DTSTAMP:20260422T093845
CREATED:20251119T021720Z
LAST-MODIFIED:20251119T021720Z
UID:68724-1765877400-1765882800@efficiencyfirstca.org
SUMMARY:Understanding Heat Pump HVAC and Water Heating
DESCRIPTION:This class will cover a basic introduction into the thermodynamics that make heat pumps so efficient. Whether used for space heating or water heating\, heat pumps can be up to 300% efficient! How is that even possible? This class will also cover the advantages of heat pumps over gas furnaces as well as some disadvantages. It will cover some important factors that you need to know before selecting a heat pump water heater.
URL:https://efficiencyfirstca.org/event/understanding-heat-pump-hvac-and-water-heating-2/
CATEGORIES:3C-REN
END:VEVENT
BEGIN:VEVENT
DTSTART;TZID=America/Chicago:20251216T140000
DTEND;TZID=America/Chicago:20251216T150000
DTSTAMP:20260422T093845
CREATED:20251119T004618Z
LAST-MODIFIED:20251119T004618Z
UID:68702-1765893600-1765897200@efficiencyfirstca.org
SUMMARY:Health & Safe Home and Environmental & Energy Performance Attitudes Among Pros and Homeowners
DESCRIPTION:Harvard’s JCHS partnered with The Farnsworth Group to interview Homeowners and Contractors about their experiences building a healthy and/or green home. This research looks at activities and projects conducted by both groups to better understand what is being done to promote occupant health & safety and environmental & energy performance. This webinar will present the findings along with insights.
URL:https://efficiencyfirstca.org/event/health-safe-home-and-environmental-energy-performance-attitudes-among-pros-and-homeowners/
CATEGORIES:EEBA
END:VEVENT
BEGIN:VEVENT
DTSTART;TZID=UTC:20251217T070000
DTEND;TZID=UTC:20251217T093000
DTSTAMP:20260422T093845
CREATED:20251119T022025Z
LAST-MODIFIED:20251119T022025Z
UID:68728-1765954800-1765963800@efficiencyfirstca.org
SUMMARY:Introduction to Heat Pump Water Heater Education
DESCRIPTION:Manufacturers Heat Pump Water Heating (HPWH) Education session focused on technology features and benefits\, appropriate applications\, energy efficiency comparison to other water heater types\, installation techniques and best practices\, service support and warranty\, proper maintenance\, troubleshooting\, and selling strategies.
URL:https://efficiencyfirstca.org/event/introduction-to-heat-pump-water-heater-education-3/
CATEGORIES:TECH Clean California
END:VEVENT
BEGIN:VEVENT
DTSTART;TZID=America/Los_Angeles:20251217T090000
DTEND;TZID=America/Los_Angeles:20251217T113000
DTSTAMP:20260422T093845
CREATED:20251119T003923Z
LAST-MODIFIED:20251119T003923Z
UID:68698-1765962000-1765971000@efficiencyfirstca.org
SUMMARY:Residential Electrification and Decarbonization with the Passive House Standard
DESCRIPTION:The Passive House Standard encourages all-electric building design and construction in homes and buildings\, which can help achieve the widescale decarbonization required for reducing greenhouse gas emissions. The Passive House Network will demonstrate how Passive House principles align with the California’s decarbonization goals. This session will cover the technology options for all-electric homes and outline the many reasons to electrify with the Passive House Standard for better health\, comfort\, and cost benefits.
URL:https://efficiencyfirstca.org/event/residential-electrification-and-decarbonization-with-the-passive-house-standard-2/
CATEGORIES:Pacific Gas & Electric
END:VEVENT
BEGIN:VEVENT
DTSTART;TZID=UTC:20251217T100000
DTEND;TZID=UTC:20251217T120000
DTSTAMP:20260422T093845
CREATED:20251119T020706Z
LAST-MODIFIED:20251119T020706Z
UID:68713-1765965600-1765972800@efficiencyfirstca.org
SUMMARY:Electrification & Home Performance Series 5: How Tight is Too Tight?
DESCRIPTION:Building electrification replaces fossil fuel systems with electric alternatives. As California shifts to all-electric homes\, understanding home performance is essential. Key factors like energy efficiency\, air-sealing\, and insulation reduce energy use\, improve air quality\, and increase comfort. High performance homes use less energy\, making electrification smoother and more sustainable. \nThis class is the fifth in a series on Electrification & Home Performance and covers the relationship between leaky buildings and energy efficiency. \nEnhance your knowledge with a single class or complete the series for a thorough understanding of the relationship between home performance and electrification.
URL:https://efficiencyfirstca.org/event/electrification-home-performance-series-5-how-tight-is-too-tight/
CATEGORIES:Southern California Edison
END:VEVENT
END:VCALENDAR